Workbook

Sheet E(Cov)
A1: BANGLADESH RAILWAY
A2: Particulars of the projects & their expenditure upto July-2026 are summarised below:
A3: 2026-2027 | G3: 2025-2026
A4: No. of Projects included in ADP : | D4: 30 | G4: No. of Projects included in ADP : | J4: 27
A5: Investment Projects : | D5: 22 | G5: Investment Projects : | J5: 23
A6: Technical Assistance (TA) Projects : | D6: 8 | G6: Technical Assistance (TA) Projects : | J6: 4
B7: ADP Allocation | C7: Expenditure in July-2026 | D7: Expenditure upto July-2026 | E7: % of ADP utilisation till in July-2026 | H7: ADP Allocation | I7: Expenditure in July-2025 | J7: Expenditure upto July-2025 | K7: % of ADP utilisation till in July-2025
B8: (Figures in Lakh Taka) | H8: (Figures in Lakh Taka)
B10: (A) INVESTMENT PROJECTS : | H10: (A) INVESTMENT PROJECTS :
A12: TOTAL | B12: 505130.5 | C12: 125.23 | D12: 125.23 | E12: 0.00024791613 | G12: TOTAL | H12: 735811 | I12: 1019.1 | J12: 1019.1 | K12: 0.0013850024
A13: P.A. | B13: 344753.5 | C13: 0 | D13: 0 | E13: 0 | G13: P.A. | H13: 339535 | I13: 428.76 | J13: 428.76 | K13: 0.0012627859
A14: GOB | B14: 160377 | C14: 125.23 | D14: 125.23 | E14: 0.00078084763 | G14: GOB | H14: 396276 | I14: 590.34 | J14: 590.34 | K14: 0.0014897193
A15: (RPA) | B15: 77408 | C15: 0 | D15: 0 | E15: 0 | G15: (RPA) | H15: 41579 | I15: 0 | J15: 0
A16: CD VAT | B16: 0 | C16: 0 | D16: 0 | G16: CD VAT | H16: 0 | I16: 0 | J16: 0
A17: Others | B17: 4980.5 | C17: 0 | D17: 0 | E17: 0 | G17: Others | H17: 7246 | I17: 0 | J17: 0 | L17: 2278.29
J18: 0
B19: (B) TA PROJECTS : | H19: (B) TA PROJECTS :
L20: 8.347
A21: TOTAL | B21: 30212.5 | C21: 551.82 | D21: 551.82 | E21: 0.018264626 | G21: TOTAL | H21: 17711 | I21: 4.8 | J21: 4.8 | K21: 0.00027101801
A22: P.A. | B22: 26894.5 | C22: 551.58 | D22: 551.58 | E22: 0.020509026 | G22: P.A. | H22: 13187 | I22: 2 | J22: 2 | K22: 0.00015166452
A23: GOB | B23: 3318 | C23: 0.24 | D23: 0.24 | E23: 7.2332731e-05 | G23: GOB | H23: 4524 | I23: 2.8 | J23: 2.8 | K23: 0.00061892131
A24: (RPA) | B24: 5653 | C24: 0 | D24: 0 | G24: (RPA) | H24: 0 | I24: 0 | J24: 0
A25: CD VAT | B25: 0 | C25: 0 | D25: 0 | G25: CD VAT | H25: 0 | I25: 0 | J25: 0
A26: Others | B26: 0 | C26: 0 | D26: 0 | G26: Others | H26: 0 | I26: 0 | J26: 0
H27: 0
A28: G. TOTAL | B28: 535343 | C28: 677.05 | D28: 677.05 | E28: 0.0012647032 | G28: G. TOTAL | H28: 753522 | I28: 1023.9 | J28: 1023.9 | K28: 0.001358819
A29: P.A. | B29: 371648 | C29: 551.58 | D29: 551.58 | E29: 0.0014841463 | G29: P.A. | H29: 352722 | I29: 430.76 | J29: 430.76 | K29: 0.0012212451
A30: GOB | B30: 163695 | C30: 125.47 | D30: 125.47 | E30: 0.00076648645 | G30: GOB | H30: 400800 | I30: 593.14 | J30: 593.14 | K30: 0.0014798902
A31: (RPA) | B31: 83061 | C31: 0 | D31: 0 | E31: 0 | G31: (RPA) | H31: 41579 | I31: 0 | J31: 0 | K31: 0
J36: 0
J42: 0
J48: 0
J54: 0
J60: 0
J66: 0
J72: 0
J78: 0
J84: 0
J90: 0
J96: 0
...

Sheet English
A1: Progress report of ongoing projects of Bangladesh Railway for the month of July-2026
A2: Serial No. | B2: Name of the Projects with Project Details (Project CODE, Implementation Period & Name of the PD with Designation & Mobile No.) | C2: Estimated Cost | D2: Physical Progress (2026-2027) | H2: ADP Allocation (2026-2027) | J2: Fund Release (2026-2027) | L2: Financial progress (% of Total ADP)
L3: July-2026 | O3: Current Year (2026-2027) | R3: Cumulative since beginning
C4: Total | D4: Target (2026-2027) | E4: July-2026 | F4: Current Year | G4: Cumulative Since Beginning | H4: Total | I4: CD VAT | J4: Total | K4: CD VAT | L4: Total | M4: % | N4: CD VAT | O4: Total | P4: % | Q4: CD VAT | R4: Total | S4: % | T4: CD VAT
C5: P.A. | H5: P.A. | I5: Others | J5: P.A. | K5: Others | L5: P.A. | M5: % | N5: Others | O5: P.A. | P5: % | Q5: Others | R5: P.A. | T5: Others
C6: GoB | D6: (% ) | H6: GoB | I6: Capital | J6: GoB | K6: Capital | L6: GoB | M6: % | N6: Capital | O6: GoB | P6: % | Q6: Capital | R6: GoB | T6: Capital
C7: (DRGA_CF) | H7: (GoB Rev) | I7: Revenue | J7: (GoB Rev) | K7: Revenue | L7: (GoB Rev) | N7: Revenue | O7: (GoB Rev) | Q7: Revenue | R7: (GoB Rev) | T7: Revenue
C8: (RPA) | H8: (RPA) | J8: (RPA) | L8: (RPA) | O8: (RPA) | R8: (RPA)
C9: (Figures in Lakh Taka)
B10: (A) INVESTMENT PROJECTS :
A11: 1 | B11: 224090800: Rehabilitation of Kulaura-Shahbazpur Section of Bangladesh Railway (2nd Revised).(LoC) (01.07.2011 to 31.12.2027), Project Director, MD. Sultan Ali, Mobile: 01711692929 | C11: 75739.73 | D11: 0.1 | E11: 0.015 | F11: 0.015 | G11: 0.7 | H11: 11504.5 | I11: 0 | J11: 200 | L11: 93.98 | M11: 0.0081689774 | O11: 93.98 | P11: 0.0081689774 | Q11: 0 | R11: 49048.6 | S11: 0.64759407 | T11: 0
C12: 55598.76 | H12: 10704.5 | I12: 0 | J12: 0 | K12: 0 | M12: 0 | O12: 0 | P12: 0 | Q12: 0 | R12: 37163.73 | T12: 0
C13: 20140.97 | H13: 800 | I13: 11204.5 | J13: 200 | K13: 160.42 | L13: 93.98 | M13: 0.117475 | N13: 54.4 | O13: 93.98 | P13: 0.117475 | Q13: 54.4 | R13: 11884.87 | T13: 47178.46
H14: 300 | I14: 300 | J14: 39.58 | K14: 39.58 | L14: 39.58 | N14: 39.58 | O14: 39.58 | Q14: 39.58 | R14: 737.027 | T14: 1870.14
C15: 0 | H15: 0 | J15: 0 | O15: 0 | R15: 0
A17: 2 | B17: 224089200: Construction of 3rd & 4th Dual Gauge Line in Dhaka-Tongi and Dual Gauge Double Line in Dhaka-Joydevpur Section of Bangladesh Railway (2nd Revised).(LoC) (01.07.2012 to 30.06.2027), Project Director, Nazneen Ara Keya, Mobile: 01711506113 | C17: 334254.9 | D17: 0.12 | E17: 0.0039 | F17: 0.0039 | G17: 0.5356 | H17: 47735 | I17: 0 | J17: 683.75 | L17: 2.5 | M17: 5.2372473e-05 | O17: 2.5 | P17: 5.2372473e-05 | Q17: 0 | R17: 134753.88 | S17: 0.40314706 | T17: 0
C18: 282116.08 | H18: 45000 | I18: 0 | J18: 0 | K18: 0 | M18: 0 | N18: 0 | O18: 0 | P18: 0 | Q18: 0 | R18: 109732.1 | T18: 0
C19: 52138.82 | H19: 2735 | I19: 47235 | J19: 683.75 | K19: 681.25 | L19: 2.5 | M19: 0.00091407678 | N19: 0 | O19: 2.5 | P19: 0.00091407678 | Q19: 0 | R19: 25021.78 | T19: 129262.81
H20: 500 | I20: 500 | J20: 2.5 | K20: 2.5 | L20: 2.5 | N20: 2.5 | O20: 2.5 | Q20: 2.5 | R20: 2050.48 | T20: 5491.07
C21: 0 | H21: 0 | J21: 0 | O21: 0 | R21: 0
A23: 3 | B23: 224089700: Construction of a Dual Gauge Line Parallel to The Existing Meter Gauge Line in Dhaka-Narayanganj Section (1st Revised).(DRGA) (01.07.2014 to 30.06.2026), Project Director, Md. Selim Rouf, Mobile: 01325087301 | C23: 65834.6 | D23: 0.1 | E23: 0.02 | F23: 0.02 | G23: 0.64 | H23: 1651 | I23: 0 | J23: 1651 | M23: 0 | O23: 0 | P23: 0 | Q23: 0 | R23: 26449.46 | S23: 0.40175622 | T23: 0
C24: 0 | H24: 0 | I24: 500 | J24: 0 | K24: 0 | L24: 0 | O24: 0 | Q24: 0 | R24: 0 | T24: 0
C25: 65834.6 | H25: 1651 | I25: 1400 | J25: 1651 | K25: 1651 | L25: 0 | M25: 0 | N25: 0 | O25: 0 | P25: 0 | Q25: 0 | R25: 26449.46 | T25: 23741.581
C26: 24954.51 | H26: 251 | I26: 251 | J26: 0 | K26: 0 | N26: 0 | O26: 0 | Q26: 0 | R26: 2707.879 | T26: 2707.879
H27: 0 | J27: 0 | N27: 0 | O27: 0 | R27: 0
A29: 4 | B29: 224088300: Rehabilitation, Construction and Upgradation of Important Level Crossing Gates of East Zone of Bangladesh Railway (5th revised).(GoB) (01.07.2015 to 30.06.2027), Project Director, Sheikh Naimul Haque, Mobile: 01711691177 | C29: 17363.13 | D29: 0.09 | F29: 0 | G29: 1 | H29: 1425 | I29: 0 | J29: 356.25 | M29: 0 | O29: 0 | P29: 0 | Q29: 0 | R29: 15490.695 | S29: 0.89216028 | T29: 0
C30: 0 | H30: 0 | I30: 0 | J30: 0 | K30: 0 | N30: 0 | O30: 0 | Q30: 0 | R30: 0 | T30: 0
C31: 17363.13 | H31: 1425 | I31: 0 | J31: 356.25 | K31: 356.25 | L31: 0 | M31: 0 | N31: 0 | O31: 0 | P31: 0 | Q31: 0 | R31: 15490.695 | T31: 3653.95
H32: 1425 | I32: 1425 | J32: 0 | K32: 0 | L32: 0 | N32: 0 | O32: 0 | Q32: 0 | R32: 11836.745 | T32: 11836.745
H33: 0 | J33: 0 | O33: 0 | R33: 0
A35: 5 | B35: 224088400: Rehabilitation, Construction and Upgradation of important Level Crossing Gates of West Zone of Bangladesh Railway (4th revised). (GoB) (01.07.2015 to 30.06.2027), XEN (P&D),Rajshahi, Birbal Mondal, Mobile: 1711692870 | C35: 15990.62 | D35: 0 | E35: 0.0005 | F35: 0.0005 | G35: 0.9864 | H35: 1449 | I35: 0 | J35: 0 | M35: 0 | O35: 0 | P35: 0 | Q35: 0 | R35: 14103.14 | S35: 0.8819633 | T35: 0
C36: 0 | H36: 0 | I36: 0 | J36: 0 | K36: 0 | L36: 0 | O36: 0 | Q36: 0 | R36: 0 | T36: 0
C37: 15990.62 | H37: 1449 | I37: 0 | K37: 0 | L37: 0 | M37: 0 | N37: 0 | O37: 0 | P37: 0 | Q37: 0 | R37: 14103.14 | T37: 3310.07
H38: 1449 | I38: 1449 | J38: 0 | K38: 0 | L38: 0 | N38: 0 | O38: 0 | Q38: 0 | R38: 10793.07 | T38: 10793.07
H39: 0 | J39: 0 | O39: 0 | R39: 0
A41: 6 | B41: 224090000: Padma Bridge Rail Link Project (2nd Revised).(China) (01.01.2016 to 30.06.2027), PD (PBRLP), Nazneen Ara Keya, Mobile: 01770799899 | C41: 3862490.8 | D41: 0.02125 | F41: 0 | G41: 0.97865 | H41: 10000 | I41: 0 | J41: 1105.4 | L41: 7.4 | M41: 0.00074 | O41: 7.4 | P41: 0.00074 | Q41: 0 | R41: 3526172.3 | S41: 0.91292704 | T41: 0
C42: 2095610.4 | H42: 0 | I42: 0 | J42: 0 | O42: 0 | Q42: 0 | R42: 1892871.4 | T42: 448653.42
C43: 1766880.4 | H43: 10000 | I43: 5080 | J43: 1105.4 | K43: 1098 | L43: 7.4 | M43: 0.00074 | N43: 0 | O43: 7.4 | P43: 0.00074 | Q43: 0 | R43: 1633301 | T43: 3384770
H44: 4920 | I44: 4920 | J44: 7.4 | K44: 7.4 | L44: 7.4 | N44: 7.4 | O44: 7.4 | Q44: 7.4 | R44: 141402.28 | T44: 141402.28
J45: 0 | O45: 0 | R45: 0
...

Sheet টপ
A1: বাংলাদেশ রেলওয়ে
A2: বাংলাদেশ রেলওয়ে কর্তৃক বাস্তবায়নাধীন ২০২৬-২০২৭ অর্থবছরের এডিপি প্রকল্পসমূহের অর্থায়নভিত্তিক বিবরণ এবং জুলাই-২০২৬ পর্যন্ত অগ্রগতির সার-সংক্ষেপ।
A4: এডিপি'তে অন্তর্ভুক্ত মোট প্রকল্পের সংখ্যা | E4: 30
A5: বিনিয়োগ প্রকল্প | E5: 22
A6: কারিগরী সহায়তা (টিএ) প্রকল্প | E6: 8
A8: অর্থের উৎস | B8: প্রকল্প সংখ্যা | C8: ২০২৬-২০২৭ অর্থ বছরের এডিপি বরাদ্দ | F8: ২০২৬-২০২৭ অর্থ বছরের অগ্রগতি
C9: মোট | D9: জিওবি | E9: পি.এ. | F9: মোট | G9: জিওবি | H9: পি.এ.
C10: অঙ্কসমূহ লক্ষ টাকায়
A11: বিনিয়োগ প্রকল্প:
J12: 0
A13: (ক) জিওবি অর্থায়ন প্রকল্প | B13: 8 | C13: 98674 | D13: 98674 | E13: 0 | F13: 3.08 | G13: 3.08 | H13: 0 | K13: 0
F14: 3.1213896e-05 | G14: 3.1213896e-05
A16: (খ) এডিবি অর্থায়ন প্রকল্প | B16: 2 | C16: 115080 | D16: 4000 | E16: 111080 | F16: 4.44 | G16: 4.44 | H16: 0
F17: 3.8581856e-05 | G17: 0.00111 | H17: 0
J18: 0
A19: (গ) ডিআরজিএ অর্থায়ন প্রকল্প | B19: 1 | C19: 1651 | D19: 1651 | E19: 0 | F19: 0 | G19: 0 | H19: 0
F20: 0 | G20: 0
A22: (ঘ) জাইকা অর্থায়ন প্রকল্প | B22: 2 | C22: 41287 | D22: 17677 | E22: 23610 | F22: 4.94 | G22: 4.94 | H22: 0
F23: 0.00011965025 | G23: 0.00027945918 | H23: 0
J24: 0
A25: (ঙ) ইডিসিএফ অর্থায়ন প্রকল্প | B25: 2 | C25: 78551 | D25: 1600 | E25: 76951 | F25: 5.11 | G25: 5.11 | H25: 0
F26: 6.5053277e-05 | G26: 0.00319375 | H26: 0
A28: (চ) এলওসি অর্থায়ন প্রকল্প | B28: 4 | C28: 59407.5 | D28: 3703 | E28: 55704.5 | F28: 96.48 | G28: 96.48 | H28: 0
A29: (ভারতীয় রাষ্ট্রীয় ঋণ) | G29: 0.02605455 | H29: 0
J30: 0
A31: (ছ) চায়না অর্থায়ন প্রকল্প | B31: 2 | C31: 10001 | D31: 10001 | E31: 0 | F31: 7.4 | G31: 7.4 | H31: 0
F32: 0.00073992601 | G32: 0.00073992601
J33: 0
A34: (জ) ইআইবি অর্থায়ন প্রকল্প | B34: 1 | C34: 100479 | D34: 23071 | E34: 77408 | F34: 3.78 | G34: 3.78 | H34: 0
F35: 3.7619801e-05 | G35: 0.00016384205 | H35: 0
J36: 0
A37: মোট বিনিয়োগ প্রকল্প | B37: 22 | C37: 505130.5 | D37: 160377 | E37: 344753.5 | F37: 125.23 | G37: 125.23 | H37: 0
F38: 0.00024791613 | G38: 0.00078084763 | H38: 0
A41: (ঝ) কারিগরি সহায়তা (টিএ) প্রকল্প:
A42: এডিবি অর্থায়ন প্রকল্প | B42: 4 | C42: 9832 | D42: 808 | E42: 9024 | F42: 6 | G42: 0 | H42: 6 | J42: 0
F43: 0.00061025224 | G43: 0 | H43: 0.00066489362
A44: জাইকা অর্থায়ন প্রকল্প | B44: 1 | C44: 8372 | D44: 1500 | E44: 6872 | F44: 0 | G44: 0 | H44: 0
F45: 0 | G45: 0 | H45: 0
A46: বিশ্ব ব্যাংক অর্থায়ন প্রকল্প | B46: 1 | C46: 6453 | D46: 800 | E46: 5653 | F46: 0.24 | G46: 0.24 | H46: 0
F47: 3.7192004e-05 | G47: 0.0003 | H47: 0
...

Sheet ডিআরএম
C1: =[1]D2!F2&[1]D2!G2&[1]D2!H2&" অর্থবছরে বাংলাদেশ রেলওয়ের উন্নয়ন প্রকল্পসমূহের "&[1]D2!D1&" পর্যন্ত বাস্তবায়ন (বাস্তব ও আর্থিক) অগ্রগতি" -> ২০২৬-২০২৭ অর্থবছরে বাংলাদেশ রেলওয়ের উন্নয়ন প্রকল্পসমূহের জুলাই পর্যন্ত বাস্তবায়ন (বাস্তব ও আর্থিক) অগ্রগতি
C2: ক্রমিক | D2: প্রকল্পের কোড ও নাম, বাস্তবায়ন কাল, প্রকল্প পরিচালকের পদবী, নাম ও মোবাইল নম্বর। | E2: প্রাক্কলিত ব্যয় | F2: =[1]D2!D4&" বরাদ্দ "&[1]D2!F2&[1]D2!G2&[1]D2!H2 -> এডিপি বরাদ্দ ২০২৬-২০২৭ | G2: =[1]D2!F2&[1]D2!G2&[1]D2!H2&" অর্থবছরের "&[1]D2!D1&" পর্যন্ত অগ্রগতি" -> ২০২৬-২০২৭ অর্থবছরের জুলাই পর্যন্ত অগ্রগতি | J2: =[1]D2!D1&[1]D2!G2&[1]D2!F1&" পর্যন্ত ক্রমপুঞ্জিত অগ্রগতি" -> জুলাই-২০২৬ পর্যন্ত ক্রমপুঞ্জিত অগ্রগতি | O2: প্রকল্পের নাম, বাস্তবায়ন কাল, প্রকল্প পরিচালকের নাম ও মোবাইল নম্বর।
G3: ভৌত | H3: আর্থিক | J3: =G3 -> ভৌত | K3: =H3 -> আর্থিক
E4: মোট | F4: =E4 -> মোট | H4: =E4 -> মোট | I4: % | K4: =E4 -> মোট | L4: =I4 -> % | M4: সিদ্ধান্ত ও বাস্তবায়ন
E5: পিএ | F5: =E5 -> পিএ | H5: =E5 -> পিএ | I5: =I4 -> % | K5: =E5 -> পিএ
E6: জিওবি | F6: =E6 -> জিওবি | H6: =E6 -> জিওবি | I6: =I4 -> % | K6: =E6 -> জিওবি
E7: (ডিআরজিএ)
E8: অঙ্কসমূহ লক্ষ টাকায়
D9: (ক) বিনিয়োগ প্রকল্প (জিওবি অর্থায়নপুষ্ট) | O9: (ক) বিনিয়োগ প্রকল্প
A10: 8 | B10: =English!B29 -> 224088300: Rehabilitation, Construction and Upgradation of Important Level Crossing Gates of East Zone of Bangladesh Railway (5th revised).(GoB) (01.07.2015 to 30.06.2027), Project Director, Sheikh Naimul Haque, Mobile: 01711691177 | C10: 1 | D10: =[1]D1!AP5 -> ২২৪০৮৮৩০০: বাংলাদেশ রেলওয়ের পূর্বাঞ্চলের লেভেল ক্রসিং গেইটসমূহের পুনর্বাসন ও মান উন্নয়ন (৫ম সংশোধিত)। (জিওবি), ০১.০৭.২০১৫ হতে ৩০.০৬.২০২৭, প্রকল্প পরিচালক, শেখ নাইমুল হক, মোবা: ০১৭১১৬৯১১৭৭ | E10: =English!C29 -> 17363.13 | F10: =English!H29 -> 1425 | G10: =English!F29 -> 0 | H10: =English!O29 -> 0 | I10: =IF(F10=0," ",H10/F10) -> 0 | J10: =English!G29 -> 1 | K10: =English!R29 -> 15490.695 | L10: =K10/E10 -> 0.89216028 | M10: =[1]D1!HH5 -> সিদ্ধান্ত: বাস্তবায়ন: | O10: ২২৪০৮৮৩০০: বাংলাদেশ রেলওয়ের পূর্বাঞ্চলের লেভেল ক্রসিং গেইটসমূহের পুনর্বাসন ও মান উন্নয়ন (২য় সংশোধিত)। (জিওবি), ০১.০৭.২০১৫ হতে ৩০.০৬.২০২১, ডিডি(এস্টেট), মোঃ আবিদুর রহমান, মোবা: ০১৭১১৬৯২৯৪০
E11: =English!C30 -> 0 | F11: =English!H30 -> 0 | H11: =English!O30 -> 0 | I11: =IF(F11=0," ",H11/F11) | K11: =English!R30 -> 0
E12: =English!C31 -> 17363.13 | F12: =English!H31 -> 1425 | H12: =English!O31 -> 0 | I12: =IF(F12=0," ",H12/F12) -> 0 | J12: =O12 -> 0 | K12: =English!R31 -> 15490.695
A14: 9 | B14: =English!B35 -> 224088400: Rehabilitation, Construction and Upgradation of important Level Crossing Gates of West Zone of Bangladesh Railway (4th revised). (GoB) (01.07.2015 to 30.06.2027), XEN (P&D),Rajshahi, Birbal Mondal, Mobile: 1711692870 | C14: 2 | D14: =[1]D1!AP6 -> ২২৪০৮৮৪০০: বাংলাদেশ রেলওয়ের পশ্চিমাঞ্চলের লেভেল ক্রসিং গেইটসমূহের পুনর্বাসন ও মান উন্নয়ন (৪র্থ সংশোধিত)। (জিওবি), ০১.০৭.২০১৫ হতে ৩০.০৬.২০২৭, নির্বাহী প্রকৌশলী/পিএন্ডডি, রাজশাহী, বীরবল মন্ডল, মোবা: ০১৭১১৬৯২৮৭০ | E14: =English!C35 -> 15990.62 | F14: =English!H35 -> 1449 | G14: =English!F35 -> 0.0005 | H14: =English!O35 -> 0 | I14: =IF(F14=0," ",H14/F14) -> 0 | J14: =English!G35 -> 0.9864 | K14: =English!R35 -> 14103.14 | L14: =K14/E14 -> 0.8819633 | M14: =[1]D1!HH6 -> সিদ্ধান্ত: বাস্তবায়ন: | O14: ২২৪০৮৮৪০০: বাংলাদেশ রেলওয়ের পশ্চিমাঞ্চলের লেভেল ক্রসিং গেইটসমূহের পুনর্বাসন ও মান উন্নয়ন (১ম সংশোধিত)। (জিওবি), ০১.০৭.২০১৫ হতে ৩০.০৬.২০২১, ডিইএন-১, মেঃ মোস্তাফিজুর রহমান, মোবা: ০১৭১১৬৯২৮৭০ | W14: 2
E15: =English!C36 -> 0 | F15: =English!H36 -> 0 | H15: =English!O36 -> 0 | I15: =IF(F15=0," ",H15/F15) | K15: =English!R36 -> 0
E16: =English!C37 -> 15990.62 | F16: =English!H37 -> 1449 | H16: =English!O37 -> 0 | I16: =IF(F16=0," ",H16/F16) -> 0 | K16: =English!R37 -> 14103.14
B18: =English!B53 -> 224269100: Construction of Broad Gauge Rail Line From Madhukhali to Magura Via Kamarkhali (1st Revised).(GoB) (01.05.2018 to 31.12.2027), Project Director , Md. Ahsan Jabir, Mobile: 01711691573 | C18: 3 | D18: =[1]D1!AP9 -> ২২৪২৬৯১০০: মধুখালী হতে কামারখালী হয়ে মাগুরা শহর পর্যন্ত ব্রডগেজ রেলপথ নির্মাণ (১ম সংশোধিত)। (জিওবি), ০১.০৫.২০১৮ হতে ৩১.১২.২০২৭, প্রকল্প পরিচালক, মোঃ আহসান জাবির, মোবা: ০১৭১১৬৯১৫৭৩ | E18: =English!C53 -> 126207.37 | F18: =English!H53 -> 10000 | G18: =English!F53 -> 0.004 | H18: =English!O53 -> 0 | I18: =IF(F18=0," ",H18/F18) -> 0 | J18: =English!G53 -> 0.6164 | K18: =English!R53 -> 70996.06 | L18: =K18/E18 -> 0.56253498 | M18: =[1]D1!HH9 -> সিদ্ধান্ত: বাস্তবায়ন: | O18: ২২৪২৬৯১০০: মধুখালী হতে কামারখালী হয়ে মাগুরা শহর পর্যন্ত ব্রডগেজ রেলপথ নির্মাণ। (জিওবি), ০১.০৫.২০১৮ হতে ৩০.০৪.২০২২, অতি: প্রধান প্রকৌশলী (ট্র্যাক, পশ্চিম), আছাদুল হক, মোবা: ০১৭১১৬৯১৫৭৩
D19: =#REF! -> #REF! | E19: =English!C54 -> 0 | F19: =English!H54 -> 0 | H19: =English!O54 -> 0 | I19: =IF(F19=0," ",H19/F19) | K19: =English!R54 -> 0 | O19: 0
D20: =#REF! -> #REF! | E20: =English!C55 -> 126207.37 | F20: =English!H55 -> 10000 | H20: =English!O55 -> 0 | I20: =IF(F20=0," ",H20/F20) -> 0 | K20: =English!R55 -> 70996.06 | O20: 0
D21: =#REF! -> #REF! | O21: 0
C22: 4 | D22: =[1]D1!AP15 -> ২২৪৩৭৪১০০: বাংলাদেশ রেলওয়ের পশ্চিমাঞ্চলের জন্য ৫০টি বিজি ও ৫০টি এমজি যাত্রীবাহী ক্যারেজ পুনর্বাসন। (জিওবি), ০১.০৭.২০২২ হতে ৩০.০৬.২০২৭, প্রকল্প পরিচালক, শাহ সুফী নূর মোহাম্মদ, মোবা: ০১৭১১৫০৬১৩৪ | E22: =English!C89 -> 13846.91 | F22: =English!H89 -> 1500 | G22: =English!F89 -> 0 | H22: =English!O89 -> 0 | I22: =IF(F22=0," ",H22/F22) -> 0 | J22: =English!G89 -> 0.315 | K22: =English!R89 -> 3943.723 | L22: =K22/E22 -> 0.28480889 | M22: =[1]D1!HH15 -> সিদ্ধান্ত: বাস্তবায়ন:
E23: =English!C90 -> 0 | F23: =English!H90 -> 0 | H23: =English!O90 -> 0 | I23: =IF(F23=0," ",H23/F23) | K23: =English!R90 -> 0
E24: =English!C91 -> 13846.91 | F24: =English!H91 -> 1500 | H24: =English!O91 -> 0 | I24: =IF(F24=0," ",H24/F24) -> 0 | K24: =English!R91 -> 3943.723
C26: 5 | D26: =[1]D1!AP18 -> ২২৪৩৯৬৯০০: ধীরাশ্রম আইসিডি নির্মাণের লক্ষ্যে জমি অধিগ্রহণসহ পুবাইল-ধীরাশ্রম রেল লিংক নির্মাণ। (জিওবি), ০১.১০.২০২৩ হতে ৩০.০৯.২০২৬, প্রকল্প পরিচালক, মোঃ হামিদুর রহমান, মোবা: ০১৭১১৬৯১১৬১ | E26: =English!C107 -> 340288.6 | F26: =English!H107 -> 74100 | G26: =English!F107 -> 0.005 | H26: =English!O107 -> 3.08 | I26: =IF(F26=0," ",H26/F26) -> 4.1565452e-05 | J26: =English!G107 -> 0.2675 | K26: =English!R107 -> 102.54 | L26: =K26/E26 -> 0.00030133246 | M26: =[1]D1!HH18 -> সিদ্ধান্ত: বাস্তবায়ন:
E27: =English!C108 -> 0 | F27: =English!H108 -> 0 | H27: =English!O108 -> 0 | I27: =IF(F27=0," ",H27/F27) | K27: =English!R108 -> 0
E28: =English!C109 -> 340288.6 | F28: =English!H109 -> 74100 | H28: =English!O109 -> 3.08 | I28: =IF(F28=0," ",H28/F28) -> 4.1565452e-05 | K28: =English!R109 -> 102.54
C30: 6 | D30: =[1]D1!AP21 -> ২২৪৪১৪৮০০: বাংলাদেশ রেলওয়ে পূর্বাঞ্চলের রেলপথ রক্ষণাবেক্ষণ ও পুনর্বাসন প্রকল্প। (জিওবি), ০১.০৭.২০২৫ হতে ৩০.০৬.২০২৯, প্রকল্প পরিচালক , মোঃ তানভিরুল ইসলাম, মোবা: ০১৭১১৫০৬১০১ | E30: =English!C125 -> 179166.21 | F30: =English!H125 -> 10000 | G30: =English!F125 -> 0.005 | H30: =English!O125 -> 0 | I30: =IF(F30=0," ",H30/F30) -> 0 | J30: =English!G125 -> 0.035 | K30: =English!R125 -> 4.79 | L30: =K30/E30 -> 2.6734952e-05 | M30: =[1]D1!HH21 -> সিদ্ধান্ত: বাস্তবায়ন:
E31: =English!C126 -> 0 | F31: =English!H126 -> 0 | H31: =English!O126 -> 0 | I31: =IF(F31=0," ",H31/F31) | K31: =English!R126 -> 0
E32: =English!C127 -> 179166.21 | F32: =English!H127 -> 10000 | H32: =English!O127 -> 0 | I32: =IF(F32=0," ",H32/F32) -> 0 | K32: =English!R127 -> 4.79
C34: 7 | D34: =[1]D1!AP22 -> ২২২০১৯৯০০: বাংলাদেশ রেলওয়ে ট্রেনিং একাডেমী আধুনিকায়ন ও সম্প্রসারণের লক্ষ্যে সম্ভাব্যতা সমীক্ষাসহ বিশদ নকশা প্রণয়ন। (জিওবি), ০১.০৭.২০২৫ হতে ৩১.১০.২০২৬, প্রকল্প পরিচালক , জেবুন্নেছা জেরী, মোবা: ০১৭১১৬৯১০২৪ | E34: =English!C131 -> 1528.72 | F34: =English!H131 -> 200 | G34: =English!F131 -> 0 | H34: =English!O131 -> 0 | I34: =IF(F34=0," ",H34/F34) -> 0 | J34: =English!G131 -> 0.0015 | K34: =English!R131 -> 2.25 | L34: =K34/E34 -> 0.0014718196 | M34: =[1]D1!HH22 -> সিদ্ধান্ত: বাস্তবায়ন:
E35: =English!C132 -> 0 | F35: =English!H132 -> 0 | H35: =English!O132 -> 0 | I35: =IF(F35=0," ",H35/F35) | K35: =English!R132 -> 0
E36: =English!C133 -> 1528.72 | F36: =English!H133 -> 200 | H36: =English!O133 -> 0 | I36: =IF(F36=0," ",H36/F36) -> 0 | K36: =English!R133 -> 2.25
C38: 8 | D38: =[1]D1!AP23 -> ২২৪৪২৫৭০০: বাংলাদেশ রেলওয়ে পশ্চিমাঞ্চলের রেলপথ রক্ষণাবেক্ষণ ও পুনর্বাসন (১ম পর্যায়) (জিওবি), ০১.০৩.২০২৬ হতে ২৮.০২.২০৩১, প্রকল্প পরিচালক (ফোকাল পয়েন্ট কর্মকর্তা), আহম্মদ হোসেন মাসুম, মোবা: ০১৭১১৫০৬১০২ | E38: =English!C137 -> 202858.61 | F38: =English!H137 -> 0 | G38: =English!F137 -> 0 | H38: =English!O137 -> 0 | I38: =IF(F38=0," ",H38/F38) | J38: =English!G137 -> 0 | K38: =English!R137 -> 0 | L38: =K38/E38 -> 0 | M38: =[1]D1!HH26 -> সিদ্ধান্ত: বাস্তবায়ন:
E39: =English!C138 -> 0 | F39: =English!H138 -> 0 | H39: =English!O138 -> 0 | I39: =IF(F39=0," ",H39/F39) | K39: =English!R138 -> 0
E40: =English!C139 -> 202858.61 | F40: =English!H139 -> 0 | H40: =English!O139 -> 0 | I40: =IF(F40=0," ",H40/F40) | K40: =English!R139 -> 0
D42: মোট জিওবি অর্থায়ণপুষ্ট | E42: =E10+E14+E18+E22+E26+E30+E34+E38 -> 897250.17 | F42: =F10+F14+F18+F22+F26+F30+F34+F38 -> 98674 | H42: =H10+H14+H18+H22+H26+H30+H34+H38 -> 3.08 | I42: =IF(F42=0," ",H42/F42) -> 3.1213896e-05 | K42: =K10+K14+K18+K22+K26+K30+K34+K38 -> 104643.2 | L42: =K42/E42 -> 0.11662656 | O42: মোট জিওবি অর্থায়ণপুষ্ট
E43: =E11+E15+E19+E23+E27+E31+E35+E39 -> 0 | F43: =F11+F15+F19+F23+F27+F31+F35+F39 -> 0 | G43: =G11+G15+G23+G27+G31+G35+G39 -> 0 | H43: =H11+H15+H19+H23+H27+H31+H35+H39 -> 0 | I43: =IF(F43=0," ",H43/F43) | J43: =J11+J15+J23+J27+J31+J35+J39 -> 0 | K43: =K11+K15+K19+K23+K27+K31+K35+K39 -> 0
E44: =E12+E16+E20+E24+E28+E32+E36+E40 -> 897250.17 | F44: =F12+F16+F20+F24+F28+F32+F36+F40 -> 98674 | G44: =G12+G16+G24+G28+G32+G36+G40 -> 0 | H44: =H12+H16+H20+H24+H28+H32+H36+H40 -> 3.08 | I44: =IF(F44=0," ",H44/F44) -> 3.1213896e-05 | J44: =J12+J16+J24+J28+J32+J36+J40 -> 0 | K44: =K12+K16+K20+K24+K28+K32+K36+K40 -> 104643.2
E45: =E13+E17+E21+E25+E29+E33+E37+E41 -> 0 | F45: =F13+F17+F21+F25+F29+F33+F37+F41 -> 0 | H45: =H13+H17+H21+H25+H29+H33+H37+H41 -> 0 | J45: =O45 -> 0 | K45: =K13+K17+K21+K25+K29+K33+K37+K41 -> 0
D46: (খ) বিনিয়োগ প্রকল্প (এডিবি অর্থায়নপুষ্ট): | O46: (খ) বিনিয়োগ প্রকল্প (এডিবি অর্থায়নপুষ্ট):
C47: 9 | D47: =[1]D1!AP16 -> ২২৪৩৭৪২০০: ২০২২ সালের বন্যায় মারাত্মকভাবে ক্ষতিগ্রস্ত বাংলাদেশ রেলওয়ের সিলেট-ছাতকবাজার সেকশন (মিটারগেজ) পুনর্বাসন। (এডিবি), ০১.০৪.২০২৩ হতে ৩০.০৬.২০২৭, প্রকল্প পরিচালক, মোহাম্মদ মহিউদ্দিন আরিফ, মোবা: ০১৭১১৬৯১০৫৭ | E47: =English!C95 -> 24159.5 | F47: =English!H95 -> 9580 | G47: =English!F95 -> 0.01 | H47: =English!O95 -> 0 | I47: =IF(F47=0," ",H47/F47) -> 0 | J47: =English!G95 -> 0.2 | K47: =English!R95 -> 4416.333 | L47: =K47/E47 -> 0.18279902 | M47: =[1]D1!HH16 -> সিদ্ধান্ত: বাস্তবায়ন: | O47: ২২৪২৬৯০০০: বাংলাদেশ রেলওয়ের রোলিং স্টক অপারেশন উন্নয়ন (রোলিং স্টক সংগ্রহ)। (এডিবি), ০১.০৭.২০১৭ হতে ৩০.০৬.২০২১, জিএম (প্রকল্প), মোঃ মিজানুর রহমান, মোবা: ০১৭০৯৯৯৯০৯৪
...
