Workbook

Sheet Science
A4: Roll | B4: Name | C4: Bangla | G4: English | I4: ICT | N4: Physics | S4: Chemistry | X4: Biology | AC4: Higher Math | AH4: Total Mark
C5: CQ | D5: MCQ | E5: Total | F5: Grade | G5: Total | H5: Grade | I5: CQ | J5: MCQ | K5: Practical | L5: Total | M5: Grade | N5: CQ | O5: MCQ | P5: Practical | Q5: Total | R5: Grade | S5: CQ | T5: MCQ | U5: Practical | V5: Total | W5: Grade | X5: CQ | Y5: MCQ | Z5: Practical | AA5: Total | AB5: Grade | AC5: CQ | AD5: MCQ | AE5: Practical | AF5: Total | AG5: Grade
A6: 1 | B6: SUHAELA ISLAM NITU | C6: 52 | D6: 17 | E6: =C6+D6 -> 69 | F6: =IF(AND(C6>23,D6>9),"P","F") -> P | G6: 73 | H6: =IF(G6>32,"P","F") -> P | I6: 37 | J6: 20 | K6: 18 | L6: =I6+J6+K6 -> 75 | M6: =IF(AND(I6>16,J6>8,K6>8),"P","F") -> P | N6: 36 | O6: 17 | P6: 18 | Q6: =N6+O6+P6 -> 71 | R6: =IF(AND(N6>16,O6>8,P6>8),"P","F") -> P | S6: 30 | T6: 8 | U6: 18 | V6: =S6+T6+U6 -> 56 | W6: =IF(AND(S6>16,T6>8,U6>8),"P","F") -> F | X6: 37 | Y6: 21 | Z6: 18 | AA6: =X6+Y6+Z6 -> 76 | AB6: =IF(AND(X6>16,Y6>8,Z6>8),"P","F") -> P | AC6: 17 | AD6: 18 | AE6: 18 | AF6: =AC6+AD6+AE6 -> 53 | AG6: =IF(AND(AC6>16,AD6>8,AE6>8),"P","F") -> P
A7: 2 | B7: DEBJHOTI MOZUMDER | C7: 29 | D7: 13 | E7: =C7+D7 -> 42 | F7: =IF(AND(C7>23,D7>9),"P","F") -> P | G7: 62 | H7: =IF(G7>32,"P","F") -> P | I7: 28 | J7: 13 | K7: 18 | L7: =I7+J7+K7 -> 59 | M7: =IF(AND(I7>16,J7>8,K7>8),"P","F") -> P | N7: 23 | O7: 14 | P7: 18 | Q7: =N7+O7+P7 -> 55 | R7: =IF(AND(N7>16,O7>8,P7>8),"P","F") -> P | S7: 17 | T7: 19 | U7: 18 | V7: =S7+T7+U7 -> 54 | W7: =IF(AND(S7>16,T7>8,U7>8),"P","F") -> P | X7: 16 | Y7: 14 | Z7: 18 | AA7: =X7+Y7+Z7 -> 48 | AB7: =IF(AND(X7>16,Y7>8,Z7>8),"P","F") -> F | AC7: 20 | AD7: 14 | AE7: 18 | AF7: =AC7+AD7+AE7 -> 52 | AG7: =IF(AND(AC7>16,AD7>8,AE7>8),"P","F") -> P
A8: 3 | B8: JABED AHAMED ALVI | C8: 45 | D8: 14 | E8: =C8+D8 -> 59 | F8: =IF(AND(C8>23,D8>9),"P","F") -> P | G8: 46 | H8: =IF(G8>32,"P","F") -> P | I8: 22 | J8: 18 | K8: 18 | L8: =I8+J8+K8 -> 58 | M8: =IF(AND(I8>16,J8>8,K8>8),"P","F") -> P | N8: 17 | O8: 8 | P8: 18 | Q8: =N8+O8+P8 -> 43 | R8: =IF(AND(N8>16,O8>8,P8>8),"P","F") -> F | S8: 22 | T8: 11 | U8: 18 | V8: =S8+T8+U8 -> 51 | W8: =IF(AND(S8>16,T8>8,U8>8),"P","F") -> P | X8: 31 | Y8: 17 | Z8: 18 | AA8: =X8+Y8+Z8 -> 66 | AB8: =IF(AND(X8>16,Y8>8,Z8>8),"P","F") -> P | AC8: 7 | AD8: 9 | AE8: 18 | AF8: =AC8+AD8+AE8 -> 34 | AG8: =IF(AND(AC8>16,AD8>8,AE8>8),"P","F") -> F
A9: 4 | B9: MST. SHIFA | C9: 52 | D9: 20 | E9: =C9+D9 -> 72 | F9: =IF(AND(C9>23,D9>9),"P","F") -> P | G9: 51 | H9: =IF(G9>32,"P","F") -> P | I9: 7 | J9: 13 | K9: 18 | L9: =I9+J9+K9 -> 38 | M9: =IF(AND(I9>16,J9>8,K9>8),"P","F") -> F | N9: 11 | O9: 9 | P9: 18 | Q9: =N9+O9+P9 -> 38 | R9: =IF(AND(N9>16,O9>8,P9>8),"P","F") -> F | S9: 17 | T9: 9 | U9: 18 | V9: =S9+T9+U9 -> 44 | W9: =IF(AND(S9>16,T9>8,U9>8),"P","F") -> P | X9: 20 | Y9: 12 | Z9: 18 | AA9: =X9+Y9+Z9 -> 50 | AB9: =IF(AND(X9>16,Y9>8,Z9>8),"P","F") -> P | AC9: 3 | AD9: 12 | AE9: 18 | AF9: =AC9+AD9+AE9 -> 33 | AG9: =IF(AND(AC9>16,AD9>8,AE9>8),"P","F") -> F
A10: 5 | B10: MD SHIHAB SIKDER | C10: 53 | D10: 22 | E10: =C10+D10 -> 75 | F10: =IF(AND(C10>23,D10>9),"P","F") -> P | G10: 47 | H10: =IF(G10>32,"P","F") -> P | I10: 22 | J10: 19 | K10: 18 | L10: =I10+J10+K10 -> 59 | M10: =IF(AND(I10>16,J10>8,K10>8),"P","F") -> P | N10: 6 | O10: 11 | P10: 18 | Q10: =N10+O10+P10 -> 35 | R10: =IF(AND(N10>16,O10>8,P10>8),"P","F") -> F | S10: 19 | T10: 13 | U10: 18 | V10: =S10+T10+U10 -> 50 | W10: =IF(AND(S10>16,T10>8,U10>8),"P","F") -> P | X10: 28 | Y10: 12 | Z10: 18 | AA10: =X10+Y10+Z10 -> 58 | AB10: =IF(AND(X10>16,Y10>8,Z10>8),"P","F") -> P | AC10: 17 | AD10: 7 | AE10: 18 | AF10: =AC10+AD10+AE10 -> 42 | AG10: =IF(AND(AC10>16,AD10>8,AE10>8),"P","F") -> F
A11: 6 | B11: MD. MORSALIN DAKUA | C11: 47 | D11: 10 | E11: =C11+D11 -> 57 | F11: =IF(AND(C11>23,D11>9),"P","F") -> P | G11: 40 | H11: =IF(G11>32,"P","F") -> P | I11: 12 | J11: 14 | K11: 18 | L11: =I11+J11+K11 -> 44 | M11: =IF(AND(I11>16,J11>8,K11>8),"P","F") -> F | N11: 4 | O11: 5 | P11: 18 | Q11: =N11+O11+P11 -> 27 | R11: =IF(AND(N11>16,O11>8,P11>8),"P","F") -> F | S11: 26 | T11: 14 | U11: 18 | V11: =S11+T11+U11 -> 58 | W11: =IF(AND(S11>16,T11>8,U11>8),"P","F") -> P | X11: 22 | Y11: 11 | Z11: 18 | AA11: =X11+Y11+Z11 -> 51 | AB11: =IF(AND(X11>16,Y11>8,Z11>8),"P","F") -> P | AC11: 10 | AD11: 9 | AE11: 18 | AF11: =AC11+AD11+AE11 -> 37 | AG11: =IF(AND(AC11>16,AD11>8,AE11>8),"P","F") -> F
A12: 7 | B12: BARSON SHAHA AVRO | C12: 37 | D12: 18 | E12: =C12+D12 -> 55 | F12: =IF(AND(C12>23,D12>9),"P","F") -> P | H12: =IF(G12>32,"P","F") -> F | I12: 29 | J12: 17 | K12: 18 | L12: =I12+J12+K12 -> 64 | M12: =IF(AND(I12>16,J12>8,K12>8),"P","F") -> P | N12: 11 | O12: 12 | P12: 18 | Q12: =N12+O12+P12 -> 41 | R12: =IF(AND(N12>16,O12>8,P12>8),"P","F") -> F | S12: 26 | T12: 19 | U12: 18 | V12: =S12+T12+U12 -> 63 | W12: =IF(AND(S12>16,T12>8,U12>8),"P","F") -> P | X12: 14 | Y12: 15 | Z12: 18 | AA12: =X12+Y12+Z12 -> 47 | AB12: =IF(AND(X12>16,Y12>8,Z12>8),"P","F") -> F | AC12: 18 | AD12: 17 | AE12: 18 | AF12: =AC12+AD12+AE12 -> 53 | AG12: =IF(AND(AC12>16,AD12>8,AE12>8),"P","F") -> P
A13: 8 | B13: RAFIN RAHMAN | C13: 39 | D13: 18 | E13: =C13+D13 -> 57 | F13: =IF(AND(C13>23,D13>9),"P","F") -> P | H13: =IF(G13>32,"P","F") -> F | I13: 19 | J13: 19 | K13: 18 | L13: =I13+J13+K13 -> 56 | M13: =IF(AND(I13>16,J13>8,K13>8),"P","F") -> P | N13: 10 | O13: 12 | P13: 18 | Q13: =N13+O13+P13 -> 40 | R13: =IF(AND(N13>16,O13>8,P13>8),"P","F") -> F | S13: 17 | T13: 18 | U13: 18 | V13: =S13+T13+U13 -> 53 | W13: =IF(AND(S13>16,T13>8,U13>8),"P","F") -> P | X13: 20 | Y13: 14 | Z13: 18 | AA13: =X13+Y13+Z13 -> 52 | AB13: =IF(AND(X13>16,Y13>8,Z13>8),"P","F") -> P | AC13: 17 | AD13: 18 | AE13: 18 | AF13: =AC13+AD13+AE13 -> 53 | AG13: =IF(AND(AC13>16,AD13>8,AE13>8),"P","F") -> P
A14: 9 | B14: RAFSAN | C14: 40 | D14: 17 | E14: =C14+D14 -> 57 | F14: =IF(AND(C14>23,D14>9),"P","F") -> P | G14: 47 | H14: =IF(G14>32,"P","F") -> P | I14: 20 | J14: 19 | K14: 18 | L14: =I14+J14+K14 -> 57 | M14: =IF(AND(I14>16,J14>8,K14>8),"P","F") -> P | N14: 20 | O14: 14 | P14: 18 | Q14: =N14+O14+P14 -> 52 | R14: =IF(AND(N14>16,O14>8,P14>8),"P","F") -> P | S14: 26 | T14: 16 | U14: 18 | V14: =S14+T14+U14 -> 60 | W14: =IF(AND(S14>16,T14>8,U14>8),"P","F") -> P | X14: 23 | Y14: 13 | Z14: 18 | AA14: =X14+Y14+Z14 -> 54 | AB14: =IF(AND(X14>16,Y14>8,Z14>8),"P","F") -> P | AC14: 10 | AD14: 18 | AE14: 18 | AF14: =AC14+AD14+AE14 -> 46 | AG14: =IF(AND(AC14>16,AD14>8,AE14>8),"P","F") -> F
A15: 10 | B15: RAIYAN HASAN KHAN | C15: 44 | D15: 21 | E15: =C15+D15 -> 65 | F15: =IF(AND(C15>23,D15>9),"P","F") -> P | G15: 62 | H15: =IF(G15>32,"P","F") -> P | I15: 31 | J15: 15 | K15: 18 | L15: =I15+J15+K15 -> 64 | M15: =IF(AND(I15>16,J15>8,K15>8),"P","F") -> P | N15: 33 | O15: 16 | P15: 18 | Q15: =N15+O15+P15 -> 67 | R15: =IF(AND(N15>16,O15>8,P15>8),"P","F") -> P | S15: 43 | T15: 12 | U15: 18 | V15: =S15+T15+U15 -> 73 | W15: =IF(AND(S15>16,T15>8,U15>8),"P","F") -> P | X15: 35 | Y15: 19 | Z15: 18 | AA15: =X15+Y15+Z15 -> 72 | AB15: =IF(AND(X15>16,Y15>8,Z15>8),"P","F") -> P | AC15: 29 | AD15: 18 | AE15: 18 | AF15: =AC15+AD15+AE15 -> 65 | AG15: =IF(AND(AC15>16,AD15>8,AE15>8),"P","F") -> P
A16: 11 | B16: MD. SOLAYMAN SIKDER | C16: 55 | D16: 17 | E16: =C16+D16 -> 72 | F16: =IF(AND(C16>23,D16>9),"P","F") -> P | G16: 80 | H16: =IF(G16>32,"P","F") -> P | I16: 25 | J16: 20 | K16: 18 | L16: =I16+J16+K16 -> 63 | M16: =IF(AND(I16>16,J16>8,K16>8),"P","F") -> P | N16: 33 | O16: 18 | P16: 18 | Q16: =N16+O16+P16 -> 69 | R16: =IF(AND(N16>16,O16>8,P16>8),"P","F") -> P | S16: 37 | T16: 18 | U16: 18 | V16: =S16+T16+U16 -> 73 | W16: =IF(AND(S16>16,T16>8,U16>8),"P","F") -> P | X16: 34 | Y16: 16 | Z16: 18 | AA16: =X16+Y16+Z16 -> 68 | AB16: =IF(AND(X16>16,Y16>8,Z16>8),"P","F") -> P | AC16: 38 | AD16: 18 | AE16: 18 | AF16: =AC16+AD16+AE16 -> 74 | AG16: =IF(AND(AC16>16,AD16>8,AE16>8),"P","F") -> P
A17: 12 | B17: RUDRO PAUL | C17: 57 | D17: 19 | E17: =C17+D17 -> 76 | F17: =IF(AND(C17>23,D17>9),"P","F") -> P | G17: 71 | H17: =IF(G17>32,"P","F") -> P | I17: 46 | J17: 20 | K17: 18 | L17: =I17+J17+K17 -> 84 | M17: =IF(AND(I17>16,J17>8,K17>8),"P","F") -> P | N17: 44 | O17: 16 | P17: 18 | Q17: =N17+O17+P17 -> 78 | R17: =IF(AND(N17>16,O17>8,P17>8),"P","F") -> P | S17: 48 | T17: 21 | U17: 18 | V17: =S17+T17+U17 -> 87 | W17: =IF(AND(S17>16,T17>8,U17>8),"P","F") -> P | X17: 36 | Y17: 17 | Z17: 18 | AA17: =X17+Y17+Z17 -> 71 | AB17: =IF(AND(X17>16,Y17>8,Z17>8),"P","F") -> P | AC17: 40 | AD17: 22 | AE17: 18 | AF17: =AC17+AD17+AE17 -> 80 | AG17: =IF(AND(AC17>16,AD17>8,AE17>8),"P","F") -> P
A18: 13 | B18: UTSHOB KUNDU | C18: 50 | D18: 19 | E18: =C18+D18 -> 69 | F18: =IF(AND(C18>23,D18>9),"P","F") -> P | G18: 70 | H18: =IF(G18>32,"P","F") -> P | I18: 44 | J18: 19 | K18: 18 | L18: =I18+J18+K18 -> 81 | M18: =IF(AND(I18>16,J18>8,K18>8),"P","F") -> P | N18: 41 | O18: 14 | P18: 18 | Q18: =N18+O18+P18 -> 73 | R18: =IF(AND(N18>16,O18>8,P18>8),"P","F") -> P | S18: 44 | T18: 15 | U18: 18 | V18: =S18+T18+U18 -> 77 | W18: =IF(AND(S18>16,T18>8,U18>8),"P","F") -> P | X18: 39 | Y18: 20 | Z18: 18 | AA18: =X18+Y18+Z18 -> 77 | AB18: =IF(AND(X18>16,Y18>8,Z18>8),"P","F") -> P | AC18: 33 | AD18: 11 | AE18: 18 | AF18: =AC18+AD18+AE18 -> 62 | AG18: =IF(AND(AC18>16,AD18>8,AE18>8),"P","F") -> P
A19: 14 | B19: KRIPESH HALDER | C19: 48 | D19: 18 | E19: =C19+D19 -> 66 | F19: =IF(AND(C19>23,D19>9),"P","F") -> P | G19: 56 | H19: =IF(G19>32,"P","F") -> P | I19: 33 | J19: 18 | K19: 18 | L19: =I19+J19+K19 -> 69 | M19: =IF(AND(I19>16,J19>8,K19>8),"P","F") -> P | N19: 27 | O19: 8 | P19: 18 | Q19: =N19+O19+P19 -> 53 | R19: =IF(AND(N19>16,O19>8,P19>8),"P","F") -> F | S19: 33 | T19: 22 | U19: 18 | V19: =S19+T19+U19 -> 73 | W19: =IF(AND(S19>16,T19>8,U19>8),"P","F") -> P | X19: 34 | Y19: 14 | Z19: 18 | AA19: =X19+Y19+Z19 -> 66 | AB19: =IF(AND(X19>16,Y19>8,Z19>8),"P","F") -> P | AC19: 35 | AD19: 16 | AE19: 18 | AF19: =AC19+AD19+AE19 -> 69 | AG19: =IF(AND(AC19>16,AD19>8,AE19>8),"P","F") -> P
A20: 15 | B20: DEBJOTI MANDAL | C20: 47 | D20: 16 | E20: =C20+D20 -> 63 | F20: =IF(AND(C20>23,D20>9),"P","F") -> P | G20: 60 | H20: =IF(G20>32,"P","F") -> P | I20: 32 | J20: 19 | K20: 18 | L20: =I20+J20+K20 -> 69 | M20: =IF(AND(I20>16,J20>8,K20>8),"P","F") -> P | N20: 27 | O20: 13 | P20: 18 | Q20: =N20+O20+P20 -> 58 | R20: =IF(AND(N20>16,O20>8,P20>8),"P","F") -> P | S20: 28 | T20: 14 | U20: 18 | V20: =S20+T20+U20 -> 60 | W20: =IF(AND(S20>16,T20>8,U20>8),"P","F") -> P | X20: 37 | Y20: 15 | Z20: 18 | AA20: =X20+Y20+Z20 -> 70 | AB20: =IF(AND(X20>16,Y20>8,Z20>8),"P","F") -> P | AC20: 17 | AD20: 16 | AE20: 18 | AF20: =AC20+AD20+AE20 -> 51 | AG20: =IF(AND(AC20>16,AD20>8,AE20>8),"P","F") -> P
A21: 16 | B21: SIDDHARTHA MITRO | C21: 45 | D21: 14 | E21: =C21+D21 -> 59 | F21: =IF(AND(C21>23,D21>9),"P","F") -> P | G21: 61 | H21: =IF(G21>32,"P","F") -> P | I21: 35 | J21: 16 | K21: 18 | L21: =I21+J21+K21 -> 69 | M21: =IF(AND(I21>16,J21>8,K21>8),"P","F") -> P | N21: 27 | O21: 8 | P21: 18 | Q21: =N21+O21+P21 -> 53 | R21: =IF(AND(N21>16,O21>8,P21>8),"P","F") -> F | S21: 31 | T21: 13 | U21: 18 | V21: =S21+T21+U21 -> 62 | W21: =IF(AND(S21>16,T21>8,U21>8),"P","F") -> P | X21: 37 | Y21: 10 | Z21: 18 | AA21: =X21+Y21+Z21 -> 65 | AB21: =IF(AND(X21>16,Y21>8,Z21>8),"P","F") -> P | AC21: 11 | AD21: 17 | AE21: 18 | AF21: =AC21+AD21+AE21 -> 46 | AG21: =IF(AND(AC21>16,AD21>8,AE21>8),"P","F") -> F
A22: 17 | B22: K M AL HADI | C22: 37 | D22: 20 | E22: =C22+D22 -> 57 | F22: =IF(AND(C22>23,D22>9),"P","F") -> P | G22: 48 | H22: =IF(G22>32,"P","F") -> P | I22: 23 | J22: 19 | K22: 18 | L22: =I22+J22+K22 -> 60 | M22: =IF(AND(I22>16,J22>8,K22>8),"P","F") -> P | N22: 14 | O22: 11 | P22: 18 | Q22: =N22+O22+P22 -> 43 | R22: =IF(AND(N22>16,O22>8,P22>8),"P","F") -> F | S22: 18 | T22: 10 | U22: 18 | V22: =S22+T22+U22 -> 46 | W22: =IF(AND(S22>16,T22>8,U22>8),"P","F") -> P | X22: 18 | Y22: 8 | Z22: 18 | AA22: =X22+Y22+Z22 -> 44 | AB22: =IF(AND(X22>16,Y22>8,Z22>8),"P","F") -> F | AC22: 5 | AD22: 13 | AE22: 18 | AF22: =AC22+AD22+AE22 -> 36 | AG22: =IF(AND(AC22>16,AD22>8,AE22>8),"P","F") -> F
A23: 18 | B23: ARKO PAUL | C23: 36 | D23: 19 | E23: =C23+D23 -> 55 | F23: =IF(AND(C23>23,D23>9),"P","F") -> P | G23: 42 | H23: =IF(G23>32,"P","F") -> P | I23: 23 | J23: 18 | K23: 18 | L23: =I23+J23+K23 -> 59 | M23: =IF(AND(I23>16,J23>8,K23>8),"P","F") -> P | N23: 11 | O23: 9 | P23: 18 | Q23: =N23+O23+P23 -> 38 | R23: =IF(AND(N23>16,O23>8,P23>8),"P","F") -> F | S23: 17 | T23: 13 | U23: 18 | V23: =S23+T23+U23 -> 48 | W23: =IF(AND(S23>16,T23>8,U23>8),"P","F") -> P | X23: 19 | Y23: 8 | Z23: 18 | AA23: =X23+Y23+Z23 -> 45 | AB23: =IF(AND(X23>16,Y23>8,Z23>8),"P","F") -> F | AC23: 12 | AD23: 15 | AE23: 18 | AF23: =AC23+AD23+AE23 -> 45 | AG23: =IF(AND(AC23>16,AD23>8,AE23>8),"P","F") -> F
A24: 19 | B24: BADHON KUMAR SAHA | C24: 44 | D24: 18 | E24: =C24+D24 -> 62 | F24: =IF(AND(C24>23,D24>9),"P","F") -> P | G24: 39 | H24: =IF(G24>32,"P","F") -> P | I24: 4 | J24: 18 | K24: 18 | L24: =I24+J24+K24 -> 40 | M24: =IF(AND(I24>16,J24>8,K24>8),"P","F") -> F | N24: 5 | O24: 9 | P24: 18 | Q24: =N24+O24+P24 -> 32 | R24: =IF(AND(N24>16,O24>8,P24>8),"P","F") -> F | S24: 17 | T24: 14 | U24: 18 | V24: =S24+T24+U24 -> 49 | W24: =IF(AND(S24>16,T24>8,U24>8),"P","F") -> P | X24: 24 | Y24: 7 | Z24: 18 | AA24: =X24+Y24+Z24 -> 49 | AB24: =IF(AND(X24>16,Y24>8,Z24>8),"P","F") -> F | AC24: 5 | AD24: 13 | AE24: 18 | AF24: =AC24+AD24+AE24 -> 36 | AG24: =IF(AND(AC24>16,AD24>8,AE24>8),"P","F") -> F
A25: 20 | B25: PIJUSH SAHA | C25: 34 | D25: 18 | E25: =C25+D25 -> 52 | F25: =IF(AND(C25>23,D25>9),"P","F") -> P | G25: 40 | H25: =IF(G25>32,"P","F") -> P | I25: 7 | J25: 18 | K25: 18 | L25: =I25+J25+K25 -> 43 | M25: =IF(AND(I25>16,J25>8,K25>8),"P","F") -> F | N25: 14 | O25: 9 | P25: 18 | Q25: =N25+O25+P25 -> 41 | R25: =IF(AND(N25>16,O25>8,P25>8),"P","F") -> F | S25: 17 | T25: 14 | U25: 18 | V25: =S25+T25+U25 -> 49 | W25: =IF(AND(S25>16,T25>8,U25>8),"P","F") -> P | X25: 23 | Y25: 8 | Z25: 18 | AA25: =X25+Y25+Z25 -> 49 | AB25: =IF(AND(X25>16,Y25>8,Z25>8),"P","F") -> F | AC25: 8 | AD25: 14 | AE25: 18 | AF25: =AC25+AD25+AE25 -> 40 | AG25: =IF(AND(AC25>16,AD25>8,AE25>8),"P","F") -> F
A26: 22 | B26: MD. IMRAN HAWLADER | C26: 35 | D26: 19 | E26: =C26+D26 -> 54 | F26: =IF(AND(C26>23,D26>9),"P","F") -> P | G26: 47 | H26: =IF(G26>32,"P","F") -> P | I26: 13 | J26: 20 | K26: 18 | L26: =I26+J26+K26 -> 51 | M26: =IF(AND(I26>16,J26>8,K26>8),"P","F") -> F | N26: 10 | O26: 9 | P26: 18 | Q26: =N26+O26+P26 -> 37 | R26: =IF(AND(N26>16,O26>8,P26>8),"P","F") -> F | S26: 29 | T26: 8 | U26: 18 | V26: =S26+T26+U26 -> 55 | W26: =IF(AND(S26>16,T26>8,U26>8),"P","F") -> F | X26: 32 | Y26: 9 | Z26: 18 | AA26: =X26+Y26+Z26 -> 59 | AB26: =IF(AND(X26>16,Y26>8,Z26>8),"P","F") -> P | AC26: 9 | AD26: 16 | AE26: 18 | AF26: =AC26+AD26+AE26 -> 43 | AG26: =IF(AND(AC26>16,AD26>8,AE26>8),"P","F") -> F
A27: 23 | B27: SOHAN SHEIKH | E27: =C27+D27 -> 0 | F27: =IF(AND(C27>23,D27>9),"P","F") -> F | H27: =IF(G27>32,"P","F") -> F | K27: 18 | L27: =I27+J27+K27 -> 18 | M27: =IF(AND(I27>16,J27>8,K27>8),"P","F") -> F | Q27: =N27+O27+P27 -> 0 | R27: =IF(AND(N27>16,O27>8,P27>8),"P","F") -> F | V27: =S27+T27+U27 -> 0 | W27: =IF(AND(S27>16,T27>8,U27>8),"P","F") -> F | AA27: =X27+Y27+Z27 -> 0 | AB27: =IF(AND(X27>16,Y27>8,Z27>8),"P","F") -> F | AF27: =AC27+AD27+AE27 -> 0 | AG27: =IF(AND(AC27>16,AD27>8,AE27>8),"P","F") -> F
A28: 24 | B28: MD. SAIM | C28: 41 | D28: 14 | E28: =C28+D28 -> 55 | F28: =IF(AND(C28>23,D28>9),"P","F") -> P | G28: 27 | H28: =IF(G28>32,"P","F") -> F | I28: 9 | J28: 16 | K28: 18 | L28: =I28+J28+K28 -> 43 | M28: =IF(AND(I28>16,J28>8,K28>8),"P","F") -> F | N28: 7 | O28: 8 | P28: 18 | Q28: =N28+O28+P28 -> 33 | R28: =IF(AND(N28>16,O28>8,P28>8),"P","F") -> F | S28: 18 | T28: 9 | U28: 18 | V28: =S28+T28+U28 -> 45 | W28: =IF(AND(S28>16,T28>8,U28>8),"P","F") -> P | X28: 23 | Y28: 10 | Z28: 18 | AA28: =X28+Y28+Z28 -> 51 | AB28: =IF(AND(X28>16,Y28>8,Z28>8),"P","F") -> P | AC28: 7 | AD28: 10 | AE28: 18 | AF28: =AC28+AD28+AE28 -> 35 | AG28: =IF(AND(AC28>16,AD28>8,AE28>8),"P","F") -> F
A29: 25 | B29: FAHAD ISLAM | E29: =C29+D29 -> 0 | F29: =IF(AND(C29>23,D29>9),"P","F") -> F | H29: =IF(G29>32,"P","F") -> F | L29: =I29+J29+K29 -> 0 | M29: =IF(AND(I29>16,J29>8,K29>8),"P","F") -> F | Q29: =N29+O29+P29 -> 0 | R29: =IF(AND(N29>16,O29>8,P29>8),"P","F") -> F | V29: =S29+T29+U29 -> 0 | W29: =IF(AND(S29>16,T29>8,U29>8),"P","F") -> F | AA29: =X29+Y29+Z29 -> 0 | AB29: =IF(AND(X29>16,Y29>8,Z29>8),"P","F") -> F | AF29: =AC29+AD29+AE29 -> 0 | AG29: =IF(AND(AC29>16,AD29>8,AE29>8),"P","F") -> F
A30: 26 | B30: SHARON SAMUDRA MONDA | C30: 46 | D30: 17 | E30: =C30+D30 -> 63 | F30: =IF(AND(C30>23,D30>9),"P","F") -> P | G30: 41 | H30: =IF(G30>32,"P","F") -> P | I30: 19 | J30: 18 | K30: 18 | L30: =I30+J30+K30 -> 55 | M30: =IF(AND(I30>16,J30>8,K30>8),"P","F") -> P | N30: 17 | O30: 10 | P30: 18 | Q30: =N30+O30+P30 -> 45 | R30: =IF(AND(N30>16,O30>8,P30>8),"P","F") -> P | S30: 31 | T30: 12 | U30: 18 | V30: =S30+T30+U30 -> 61 | W30: =IF(AND(S30>16,T30>8,U30>8),"P","F") -> P | X30: 30 | Y30: 6 | Z30: 18 | AA30: =X30+Y30+Z30 -> 54 | AB30: =IF(AND(X30>16,Y30>8,Z30>8),"P","F") -> F | AC30: 8 | AD30: 9 | AE30: 18 | AF30: =AC30+AD30+AE30 -> 35 | AG30: =IF(AND(AC30>16,AD30>8,AE30>8),"P","F") -> F
A31: 27 | B31: MD TASIN AHMED | C31: 35 | D31: 13 | E31: =C31+D31 -> 48 | F31: =IF(AND(C31>23,D31>9),"P","F") -> P | G31: 52 | H31: =IF(G31>32,"P","F") -> P | I31: 14 | J31: 12 | K31: 18 | L31: =I31+J31+K31 -> 44 | M31: =IF(AND(I31>16,J31>8,K31>8),"P","F") -> F | N31: 17 | O31: 10 | P31: 18 | Q31: =N31+O31+P31 -> 45 | R31: =IF(AND(N31>16,O31>8,P31>8),"P","F") -> P | S31: 24 | T31: 10 | U31: 18 | V31: =S31+T31+U31 -> 52 | W31: =IF(AND(S31>16,T31>8,U31>8),"P","F") -> P | X31: 21 | Y31: 9 | Z31: 18 | AA31: =X31+Y31+Z31 -> 48 | AB31: =IF(AND(X31>16,Y31>8,Z31>8),"P","F") -> P | AC31: 20 | AD31: 17 | AE31: 18 | AF31: =AC31+AD31+AE31 -> 55 | AG31: =IF(AND(AC31>16,AD31>8,AE31>8),"P","F") -> P
A32: 28 | B32: MD. ABDULLAH SHIKDER | C32: 30 | D32: 12 | E32: =C32+D32 -> 42 | F32: =IF(AND(C32>23,D32>9),"P","F") -> P | G32: 52 | H32: =IF(G32>32,"P","F") -> P | I32: 17 | J32: 13 | K32: 18 | L32: =I32+J32+K32 -> 48 | M32: =IF(AND(I32>16,J32>8,K32>8),"P","F") -> P | N32: 17 | O32: 8 | P32: 18 | Q32: =N32+O32+P32 -> 43 | R32: =IF(AND(N32>16,O32>8,P32>8),"P","F") -> F | S32: 18 | T32: 10 | U32: 18 | V32: =S32+T32+U32 -> 46 | W32: =IF(AND(S32>16,T32>8,U32>8),"P","F") -> P | X32: 20 | Y32: 10 | Z32: 18 | AA32: =X32+Y32+Z32 -> 48 | AB32: =IF(AND(X32>16,Y32>8,Z32>8),"P","F") -> P | AC32: 20 | AD32: 16 | AE32: 18 | AF32: =AC32+AD32+AE32 -> 54 | AG32: =IF(AND(AC32>16,AD32>8,AE32>8),"P","F") -> P
A33: 29 | B33: MANOS BISWAS | C33: 36 | D33: 12 | E33: =C33+D33 -> 48 | F33: =IF(AND(C33>23,D33>9),"P","F") -> P | G33: 35 | H33: =IF(G33>32,"P","F") -> P | I33: 4 | J33: 6 | K33: 18 | L33: =I33+J33+K33 -> 28 | M33: =IF(AND(I33>16,J33>8,K33>8),"P","F") -> F | N33: 1 | O33: 5 | P33: 18 | Q33: =N33+O33+P33 -> 24 | R33: =IF(AND(N33>16,O33>8,P33>8),"P","F") -> F | S33: 17 | T33: 16 | U33: 18 | V33: =S33+T33+U33 -> 51 | W33: =IF(AND(S33>16,T33>8,U33>8),"P","F") -> P | X33: 16 | Y33: 10 | Z33: 18 | AA33: =X33+Y33+Z33 -> 44 | AB33: =IF(AND(X33>16,Y33>8,Z33>8),"P","F") -> F | AC33: 10 | AD33: 18 | AE33: 18 | AF33: =AC33+AD33+AE33 -> 46 | AG33: =IF(AND(AC33>16,AD33>8,AE33>8),"P","F") -> F
A34: 30 | B34: ABDULLAH AL SAKIB | C34: 24 | D34: 20 | E34: =C34+D34 -> 44 | F34: =IF(AND(C34>23,D34>9),"P","F") -> P | G34: 45 | H34: =IF(G34>32,"P","F") -> P | I34: 4 | J34: 10 | K34: 18 | L34: =I34+J34+K34 -> 32 | M34: =IF(AND(I34>16,J34>8,K34>8),"P","F") -> F | N34: 3 | O34: 5 | P34: 18 | Q34: =N34+O34+P34 -> 26 | R34: =IF(AND(N34>16,O34>8,P34>8),"P","F") -> F | S34: 18 | T34: 13 | U34: 18 | V34: =S34+T34+U34 -> 49 | W34: =IF(AND(S34>16,T34>8,U34>8),"P","F") -> P | X34: 14 | Y34: 8 | Z34: 18 | AA34: =X34+Y34+Z34 -> 40 | AB34: =IF(AND(X34>16,Y34>8,Z34>8),"P","F") -> F | AC34: 19 | AD34: 13 | AE34: 18 | AF34: =AC34+AD34+AE34 -> 50 | AG34: =IF(AND(AC34>16,AD34>8,AE34>8),"P","F") -> P
A35: 31 | B35: MD. SHEIKH TANJIL ISLAM | C35: 17 | D35: 7 | E35: =C35+D35 -> 24 | F35: =IF(AND(C35>23,D35>9),"P","F") -> F | H35: =IF(G35>32,"P","F") -> F | I35: 0 | J35: 8 | K35: 18 | L35: =I35+J35+K35 -> 26 | M35: =IF(AND(I35>16,J35>8,K35>8),"P","F") -> F | Q35: =N35+O35+P35 -> 0 | R35: =IF(AND(N35>16,O35>8,P35>8),"P","F") -> F | V35: =S35+T35+U35 -> 0 | W35: =IF(AND(S35>16,T35>8,U35>8),"P","F") -> F | X35: 5 | Y35: 18 | Z35: 18 | AA35: =X35+Y35+Z35 -> 41 | AB35: =IF(AND(X35>16,Y35>8,Z35>8),"P","F") -> F | AF35: =AC35+AD35+AE35 -> 0 | AG35: =IF(AND(AC35>16,AD35>8,AE35>8),"P","F") -> F
A36: 33 | B36: BITHI TAMANNA | C36: 44 | D36: 14 | E36: =C36+D36 -> 58 | F36: =IF(AND(C36>23,D36>9),"P","F") -> P | H36: =IF(G36>32,"P","F") -> F | I36: 17 | J36: 12 | K36: 18 | L36: =I36+J36+K36 -> 47 | M36: =IF(AND(I36>16,J36>8,K36>8),"P","F") -> P | Q36: =N36+O36+P36 -> 0 | R36: =IF(AND(N36>16,O36>8,P36>8),"P","F") -> F | V36: =S36+T36+U36 -> 0 | W36: =IF(AND(S36>16,T36>8,U36>8),"P","F") -> F | X36: 18 | Y36: 11 | Z36: 18 | AA36: =X36+Y36+Z36 -> 47 | AB36: =IF(AND(X36>16,Y36>8,Z36>8),"P","F") -> P | AC36: 19 | AD36: 13 | AE36: 18 | AF36: =AC36+AD36+AE36 -> 50 | AG36: =IF(AND(AC36>16,AD36>8,AE36>8),"P","F") -> P
A37: 34 | B37: JANNATI AKTER | C37: 27 | D37: 6 | E37: =C37+D37 -> 33 | F37: =IF(AND(C37>23,D37>9),"P","F") -> F | G37: 45 | H37: =IF(G37>32,"P","F") -> P | I37: 3 | J37: 0 | K37: 18 | L37: =I37+J37+K37 -> 21 | M37: =IF(AND(I37>16,J37>8,K37>8),"P","F") -> F | N37: 32 | O37: 23 | P37: 18 | Q37: =N37+O37+P37 -> 73 | R37: =IF(AND(N37>16,O37>8,P37>8),"P","F") -> P | S37: 23 | T37: 15 | U37: 18 | V37: =S37+T37+U37 -> 56 | W37: =IF(AND(S37>16,T37>8,U37>8),"P","F") -> P | Z37: 18 | AA37: =X37+Y37+Z37 -> 18 | AB37: =IF(AND(X37>16,Y37>8,Z37>8),"P","F") -> F | AC37: 32 | AD37: 17 | AE37: 18 | AF37: =AC37+AD37+AE37 -> 67 | AG37: =IF(AND(AC37>16,AD37>8,AE37>8),"P","F") -> P
A38: 35 | B38: A. AL ABID | C38: 35 | D38: 17 | E38: =C38+D38 -> 52 | F38: =IF(AND(C38>23,D38>9),"P","F") -> P | G38: 36 | H38: =IF(G38>32,"P","F") -> P | I38: 18 | J38: 16 | K38: 18 | L38: =I38+J38+K38 -> 52 | M38: =IF(AND(I38>16,J38>8,K38>8),"P","F") -> P | N38: 11 | O38: 7 | P38: 18 | Q38: =N38+O38+P38 -> 36 | R38: =IF(AND(N38>16,O38>8,P38>8),"P","F") -> F | S38: 6 | T38: 10 | U38: 18 | V38: =S38+T38+U38 -> 34 | W38: =IF(AND(S38>16,T38>8,U38>8),"P","F") -> F | X38: 15 | Y38: 17 | Z38: 18 | AA38: =X38+Y38+Z38 -> 50 | AB38: =IF(AND(X38>16,Y38>8,Z38>8),"P","F") -> F | AC38: 18 | AD38: 9 | AE38: 18 | AF38: =AC38+AD38+AE38 -> 45 | AG38: =IF(AND(AC38>16,AD38>8,AE38>8),"P","F") -> P
A39: 36 | B39: SWARNA DAS OPI | C39: 35 | D39: 15 | E39: =C39+D39 -> 50 | F39: =IF(AND(C39>23,D39>9),"P","F") -> P | G39: 25 | H39: =IF(G39>32,"P","F") -> F | I39: 0 | J39: 10 | K39: 18 | L39: =I39+J39+K39 -> 28 | M39: =IF(AND(I39>16,J39>8,K39>8),"P","F") -> F | N39: 0 | O39: 6 | P39: 18 | Q39: =N39+O39+P39 -> 24 | R39: =IF(AND(N39>16,O39>8,P39>8),"P","F") -> F | S39: 6 | T39: 12 | U39: 18 | V39: =S39+T39+U39 -> 36 | W39: =IF(AND(S39>16,T39>8,U39>8),"P","F") -> F | X39: 14 | Y39: 7 | Z39: 18 | AA39: =X39+Y39+Z39 -> 39 | AB39: =IF(AND(X39>16,Y39>8,Z39>8),"P","F") -> F | AC39: 0 | AD39: 9 | AE39: 18 | AF39: =AC39+AD39+AE39 -> 27 | AG39: =IF(AND(AC39>16,AD39>8,AE39>8),"P","F") -> F
A40: 37 | B40: MD. SHAHARIA SADI | C40: 23 | D40: 12 | E40: =C40+D40 -> 35 | F40: =IF(AND(C40>23,D40>9),"P","F") -> F | G40: 20 | H40: =IF(G40>32,"P","F") -> F | I40: 13 | J40: 10 | K40: 18 | L40: =I40+J40+K40 -> 41 | M40: =IF(AND(I40>16,J40>8,K40>8),"P","F") -> F | N40: 6 | O40: 7 | P40: 18 | Q40: =N40+O40+P40 -> 31 | R40: =IF(AND(N40>16,O40>8,P40>8),"P","F") -> F | S40: 18 | T40: 12 | U40: 18 | V40: =S40+T40+U40 -> 48 | W40: =IF(AND(S40>16,T40>8,U40>8),"P","F") -> P | AA40: =X40+Y40+Z40 -> 0 | AB40: =IF(AND(X40>16,Y40>8,Z40>8),"P","F") -> F | AC40: 0 | AD40: 8 | AE40: 18 | AF40: =AC40+AD40+AE40 -> 26 | AG40: =IF(AND(AC40>16,AD40>8,AE40>8),"P","F") -> F
A41: 40 | B41: SHASANKO BISWAS | C41: 17 | D41: 7 | E41: =C41+D41 -> 24 | F41: =IF(AND(C41>23,D41>9),"P","F") -> F | G41: 6 | H41: =IF(G41>32,"P","F") -> F | I41: 0 | J41: 12 | K41: 18 | L41: =I41+J41+K41 -> 30 | M41: =IF(AND(I41>16,J41>8,K41>8),"P","F") -> F | N41: 0 | O41: 8 | P41: 18 | Q41: =N41+O41+P41 -> 26 | R41: =IF(AND(N41>16,O41>8,P41>8),"P","F") -> F | S41: 9 | T41: 12 | U41: 18 | V41: =S41+T41+U41 -> 39 | W41: =IF(AND(S41>16,T41>8,U41>8),"P","F") -> F | X41: 7 | Y41: 10 | Z41: 18 | AA41: =X41+Y41+Z41 -> 35 | AB41: =IF(AND(X41>16,Y41>8,Z41>8),"P","F") -> F | AC41: 0 | AD41: 9 | AE41: 18 | AF41: =AC41+AD41+AE41 -> 27 | AG41: =IF(AND(AC41>16,AD41>8,AE41>8),"P","F") -> F
A42: 41 | B42: MD. JABIR HOSEN | E42: =C42+D42 -> 0 | F42: =IF(AND(C42>23,D42>9),"P","F") -> F | H42: =IF(G42>32,"P","F") -> F | L42: =I42+J42+K42 -> 0 | M42: =IF(AND(I42>16,J42>8,K42>8),"P","F") -> F | Q42: =N42+O42+P42 -> 0 | R42: =IF(AND(N42>16,O42>8,P42>8),"P","F") -> F | V42: =S42+T42+U42 -> 0 | W42: =IF(AND(S42>16,T42>8,U42>8),"P","F") -> F | AA42: =X42+Y42+Z42 -> 0 | AB42: =IF(AND(X42>16,Y42>8,Z42>8),"P","F") -> F | AF42: =AC42+AD42+AE42 -> 0 | AG42: =IF(AND(AC42>16,AD42>8,AE42>8),"P","F") -> F
A43: 42 | B43: DIGANTA KUMAR MONDOL | C43: 31 | D43: 15 | E43: =C43+D43 -> 46 | F43: =IF(AND(C43>23,D43>9),"P","F") -> P | G43: 26 | H43: =IF(G43>32,"P","F") -> F | I43: 2 | J43: 13 | K43: 18 | L43: =I43+J43+K43 -> 33 | M43: =IF(AND(I43>16,J43>8,K43>8),"P","F") -> F | N43: 5 | O43: 10 | P43: 18 | Q43: =N43+O43+P43 -> 33 | R43: =IF(AND(N43>16,O43>8,P43>8),"P","F") -> F | S43: 8 | T43: 12 | U43: 18 | V43: =S43+T43+U43 -> 38 | W43: =IF(AND(S43>16,T43>8,U43>8),"P","F") -> F | X43: 10 | Y43: 7 | Z43: 18 | AA43: =X43+Y43+Z43 -> 35 | AB43: =IF(AND(X43>16,Y43>8,Z43>8),"P","F") -> F | AC43: 4 | AD43: 13 | AE43: 18 | AF43: =AC43+AD43+AE43 -> 35 | AG43: =IF(AND(AC43>16,AD43>8,AE43>8),"P","F") -> F
...

Sheet Business Studies
A4: Roll | B4: Name | C4: Bangla | G4: English | I4: ICT | N4: Accounting | R4: Business Organization and Management | V4: Production and Management | Z4: Finance Banking and Insurance | AD4: Economics
C5: CQ | D5: MCQ | E5: Total | F5: Grade | G5: Total | H5: Grade | I5: CQ | J5: MCQ | K5: Practical | L5: Total | M5: Grade | N5: CQ | O5: MCQ | P5: Total | Q5: Grade | R5: CQ | S5: MCQ | T5: Total | U5: Grade | V5: CQ | W5: MCQ | X5: Total | Y5: Grade | Z5: CQ | AA5: MCQ | AB5: Total | AC5: Grade | AD5: CQ | AE5: MCQ | AF5: Total | AG5: Grade
A6: 302 | B6: NISHAT AKTAR | C6: 35 | D6: 6 | E6: =C6+D6 -> 41 | F6: =IF(AND(C6>23,D6>9),"P","F") -> F | G6: 25 | H6: =IF(AND(G6>32),"P","F") -> F | I6: 10 | J6: 9 | K6: 18 | L6: =I6+J6+K6 -> 37 | M6: =IF(AND(I6>16,J6>8<K6>8),"P","F") -> F | N6: 41 | O6: 23 | P6: =N6+O6 -> 64 | Q6: =IF(AND(N6>23,O6>9),"P","F") -> P | R6: 42 | S6: 15 | T6: =R6+S6 -> 57 | U6: =IF(AND(R6>23,S6>9),"P","F") -> P | V6: 24 | W6: 7 | X6: =V6+W6 -> 31 | Y6: =IF(AND(V6>23,W6>9),"P","F") -> F | Z6: 26 | AA6: 14 | AB6: =Z6+AA6 -> 40 | AC6: =IF(AND(Z6>23,AA6>9),"P","F") -> P | AF6: =AD6+AE6 -> 0 | AG6: =IF(AND(AD6>23,AE6>9),"P","F") -> F
A7: 306 | B7: MARIA SULTANA SAFA | C7: 40 | D7: 17 | E7: =C7+D7 -> 57 | F7: =IF(AND(C7>23,D7>9),"P","F") -> P | G7: 45 | H7: =IF(AND(G7>32),"P","F") -> P | I7: 17 | J7: 15 | K7: 18 | L7: =I7+J7+K7 -> 50 | M7: =IF(AND(I7>16,J7>8<K7>8),"P","F") -> P | N7: 33 | O7: 14 | P7: =N7+O7 -> 47 | Q7: =IF(AND(N7>23,O7>9),"P","F") -> P | R7: 26 | S7: 14 | T7: =R7+S7 -> 40 | U7: =IF(AND(R7>23,S7>9),"P","F") -> P | X7: =V7+W7 -> 0 | Y7: =IF(AND(V7>23,W7>9),"P","F") -> F | Z7: 23 | AA7: 10 | AB7: =Z7+AA7 -> 33 | AC7: =IF(AND(Z7>23,AA7>9),"P","F") -> F | AF7: =AD7+AE7 -> 0 | AG7: =IF(AND(AD7>23,AE7>9),"P","F") -> F
A8: 310 | B8: S.M.ABDULLAH | C8: 24 | D8: 17 | E8: =C8+D8 -> 41 | F8: =IF(AND(C8>23,D8>9),"P","F") -> P | G8: 35 | H8: =IF(AND(G8>32),"P","F") -> P | I8: 8 | J8: 11 | K8: 18 | L8: =I8+J8+K8 -> 37 | M8: =IF(AND(I8>16,J8>8<K8>8),"P","F") -> F | N8: 28 | O8: 20 | P8: =N8+O8 -> 48 | Q8: =IF(AND(N8>23,O8>9),"P","F") -> P | R8: 23 | S8: 12 | T8: =R8+S8 -> 35 | U8: =IF(AND(R8>23,S8>9),"P","F") -> F | V8: 21 | W8: 13 | X8: =V8+W8 -> 34 | Y8: =IF(AND(V8>23,W8>9),"P","F") -> F | Z8: 24 | AA8: 11 | AB8: =Z8+AA8 -> 35 | AC8: =IF(AND(Z8>23,AA8>9),"P","F") -> P | AF8: =AD8+AE8 -> 0 | AG8: =IF(AND(AD8>23,AE8>9),"P","F") -> F
A9: 312 | B9: SADIA AKTER | C9: 43 | D9: 11 | E9: =C9+D9 -> 54 | F9: =IF(AND(C9>23,D9>9),"P","F") -> P | G9: 24 | H9: =IF(AND(G9>32),"P","F") -> F | I9: 17 | J9: 10 | K9: 18 | L9: =I9+J9+K9 -> 45 | M9: =IF(AND(I9>16,J9>8<K9>8),"P","F") -> P | N9: 56 | O9: 16 | P9: =N9+O9 -> 72 | Q9: =IF(AND(N9>23,O9>9),"P","F") -> P | R9: 39 | S9: 23 | T9: =R9+S9 -> 62 | U9: =IF(AND(R9>23,S9>9),"P","F") -> P | V9: 44 | W9: 16 | X9: =V9+W9 -> 60 | Y9: =IF(AND(V9>23,W9>9),"P","F") -> P | Z9: 25 | AA9: 9 | AB9: =Z9+AA9 -> 34 | AC9: =IF(AND(Z9>23,AA9>9),"P","F") -> F | AF9: =AD9+AE9 -> 0 | AG9: =IF(AND(AD9>23,AE9>9),"P","F") -> F
A10: 318 | B10: AHMED AL AYMAN | C10: 32 | D10: 12 | E10: =C10+D10 -> 44 | F10: =IF(AND(C10>23,D10>9),"P","F") -> P | G10: 12 | H10: =IF(AND(G10>32),"P","F") -> F | I10: 4 | J10: 8 | K10: 18 | L10: =I10+J10+K10 -> 30 | M10: =IF(AND(I10>16,J10>8<K10>8),"P","F") -> F | N10: 34 | O10: 18 | P10: =N10+O10 -> 52 | Q10: =IF(AND(N10>23,O10>9),"P","F") -> P | R10: 31 | S10: 16 | T10: =R10+S10 -> 47 | U10: =IF(AND(R10>23,S10>9),"P","F") -> P | V10: 30 | W10: 17 | X10: =V10+W10 -> 47 | Y10: =IF(AND(V10>23,W10>9),"P","F") -> P | Z10: 23 | AA10: 10 | AB10: =Z10+AA10 -> 33 | AC10: =IF(AND(Z10>23,AA10>9),"P","F") -> F | AF10: =AD10+AE10 -> 0 | AG10: =IF(AND(AD10>23,AE10>9),"P","F") -> F
A11: 319 | B11: MAHI FERDOUS | C11: 31 | D11: 12 | E11: =C11+D11 -> 43 | F11: =IF(AND(C11>23,D11>9),"P","F") -> P | G11: 19 | H11: =IF(AND(G11>32),"P","F") -> F | I11: 8 | J11: 8 | K11: 18 | L11: =I11+J11+K11 -> 34 | M11: =IF(AND(I11>16,J11>8<K11>8),"P","F") -> F | N11: 44 | O11: 21 | P11: =N11+O11 -> 65 | Q11: =IF(AND(N11>23,O11>9),"P","F") -> P | R11: 29 | S11: 20 | T11: =R11+S11 -> 49 | U11: =IF(AND(R11>23,S11>9),"P","F") -> P | V11: 25 | W11: 15 | X11: =V11+W11 -> 40 | Y11: =IF(AND(V11>23,W11>9),"P","F") -> P | Z11: 14 | AA11: 12 | AB11: =Z11+AA11 -> 26 | AC11: =IF(AND(Z11>23,AA11>9),"P","F") -> F | AF11: =AD11+AE11 -> 0 | AG11: =IF(AND(AD11>23,AE11>9),"P","F") -> F
A12: 321 | B12: NAYAN MALI | C12: 32 | D12: 15 | E12: =C12+D12 -> 47 | F12: =IF(AND(C12>23,D12>9),"P","F") -> P | G12: 37 | H12: =IF(AND(G12>32),"P","F") -> P | I12: 17 | J12: 9 | K12: 18 | L12: =I12+J12+K12 -> 44 | M12: =IF(AND(I12>16,J12>8<K12>8),"P","F") -> P | N12: 46 | O12: 19 | P12: =N12+O12 -> 65 | Q12: =IF(AND(N12>23,O12>9),"P","F") -> P | R12: 31 | S12: 19 | T12: =R12+S12 -> 50 | U12: =IF(AND(R12>23,S12>9),"P","F") -> P | V12: 33 | W12: 19 | X12: =V12+W12 -> 52 | Y12: =IF(AND(V12>23,W12>9),"P","F") -> P | Z12: 23 | AA12: 13 | AB12: =Z12+AA12 -> 36 | AC12: =IF(AND(Z12>23,AA12>9),"P","F") -> F | AF12: =AD12+AE12 -> 0 | AG12: =IF(AND(AD12>23,AE12>9),"P","F") -> F
A13: 322 | B13: MD. KAWSHIK | C13: 34 | D13: 18 | E13: =C13+D13 -> 52 | F13: =IF(AND(C13>23,D13>9),"P","F") -> P | G13: 41 | H13: =IF(AND(G13>32),"P","F") -> P | I13: 17 | J13: 12 | K13: 18 | L13: =I13+J13+K13 -> 47 | M13: =IF(AND(I13>16,J13>8<K13>8),"P","F") -> P | N13: 59 | O13: 26 | P13: =N13+O13 -> 85 | Q13: =IF(AND(N13>23,O13>9),"P","F") -> P | R13: 40 | S13: 18 | T13: =R13+S13 -> 58 | U13: =IF(AND(R13>23,S13>9),"P","F") -> P | V13: 32 | W13: 15 | X13: =V13+W13 -> 47 | Y13: =IF(AND(V13>23,W13>9),"P","F") -> P | Z13: 40 | AA13: 28 | AB13: =Z13+AA13 -> 68 | AC13: =IF(AND(Z13>23,AA13>9),"P","F") -> P | AF13: =AD13+AE13 -> 0 | AG13: =IF(AND(AD13>23,AE13>9),"P","F") -> F
A14: 323 | B14: MD EFAT HOWLADER | C14: 40 | D14: 16 | E14: =C14+D14 -> 56 | F14: =IF(AND(C14>23,D14>9),"P","F") -> P | G14: 42 | H14: =IF(AND(G14>32),"P","F") -> P | I14: 19 | J14: 12 | K14: 18 | L14: =I14+J14+K14 -> 49 | M14: =IF(AND(I14>16,J14>8<K14>8),"P","F") -> P | N14: 58 | O14: 25 | P14: =N14+O14 -> 83 | Q14: =IF(AND(N14>23,O14>9),"P","F") -> P | R14: 44 | S14: 21 | T14: =R14+S14 -> 65 | U14: =IF(AND(R14>23,S14>9),"P","F") -> P | V14: 40 | W14: 15 | X14: =V14+W14 -> 55 | Y14: =IF(AND(V14>23,W14>9),"P","F") -> P | Z14: 35 | AA14: 28 | AB14: =Z14+AA14 -> 63 | AC14: =IF(AND(Z14>23,AA14>9),"P","F") -> P | AF14: =AD14+AE14 -> 0 | AG14: =IF(AND(AD14>23,AE14>9),"P","F") -> F
A15: 324 | B15: APON SHIKDER | C15: 33 | D15: 17 | E15: =C15+D15 -> 50 | F15: =IF(AND(C15>23,D15>9),"P","F") -> P | G15: 33 | H15: =IF(AND(G15>32),"P","F") -> P | I15: 4 | J15: 9 | K15: 18 | L15: =I15+J15+K15 -> 31 | M15: =IF(AND(I15>16,J15>8<K15>8),"P","F") -> F | N15: 63 | O15: 21 | P15: =N15+O15 -> 84 | Q15: =IF(AND(N15>23,O15>9),"P","F") -> P | R15: 30 | S15: 23 | T15: =R15+S15 -> 53 | U15: =IF(AND(R15>23,S15>9),"P","F") -> P | V15: 32 | W15: 16 | X15: =V15+W15 -> 48 | Y15: =IF(AND(V15>23,W15>9),"P","F") -> P | Z15: 25 | AA15: 14 | AB15: =Z15+AA15 -> 39 | AC15: =IF(AND(Z15>23,AA15>9),"P","F") -> P | AF15: =AD15+AE15 -> 0 | AG15: =IF(AND(AD15>23,AE15>9),"P","F") -> F
A16: 329 | B16: MD. TAMIM RAHMAN | C16: 27 | D16: 12 | E16: =C16+D16 -> 39 | F16: =IF(AND(C16>23,D16>9),"P","F") -> P | G16: 33 | H16: =IF(AND(G16>32),"P","F") -> P | I16: 3 | J16: 8 | K16: 18 | L16: =I16+J16+K16 -> 29 | M16: =IF(AND(I16>16,J16>8<K16>8),"P","F") -> F | N16: 47 | O16: 11 | P16: =N16+O16 -> 58 | Q16: =IF(AND(N16>23,O16>9),"P","F") -> P | R16: 28 | S16: 16 | T16: =R16+S16 -> 44 | U16: =IF(AND(R16>23,S16>9),"P","F") -> P | V16: 29 | W16: 15 | X16: =V16+W16 -> 44 | Y16: =IF(AND(V16>23,W16>9),"P","F") -> P | Z16: 10 | AA16: 16 | AB16: =Z16+AA16 -> 26 | AC16: =IF(AND(Z16>23,AA16>9),"P","F") -> F | AF16: =AD16+AE16 -> 0 | AG16: =IF(AND(AD16>23,AE16>9),"P","F") -> F
A17: 332 | B17: MITU MONI | C17: 51 | D17: 19 | E17: =C17+D17 -> 70 | F17: =IF(AND(C17>23,D17>9),"P","F") -> P | G17: 60 | H17: =IF(AND(G17>32),"P","F") -> P | I17: 25 | J17: 20 | K17: 18 | L17: =I17+J17+K17 -> 63 | M17: =IF(AND(I17>16,J17>8<K17>8),"P","F") -> P | N17: 60 | O17: 22 | P17: =N17+O17 -> 82 | Q17: =IF(AND(N17>23,O17>9),"P","F") -> P | R17: 52 | S17: 24 | T17: =R17+S17 -> 76 | U17: =IF(AND(R17>23,S17>9),"P","F") -> P | V17: 59 | W17: 22 | X17: =V17+W17 -> 81 | Y17: =IF(AND(V17>23,W17>9),"P","F") -> P | Z17: 34 | AA17: 23 | AB17: =Z17+AA17 -> 57 | AC17: =IF(AND(Z17>23,AA17>9),"P","F") -> P | AF17: =AD17+AE17 -> 0 | AG17: =IF(AND(AD17>23,AE17>9),"P","F") -> F
A18: 333 | B18: PROBIR MAZUMDER | C18: 31 | D18: 13 | E18: =C18+D18 -> 44 | F18: =IF(AND(C18>23,D18>9),"P","F") -> P | G18: 35 | H18: =IF(AND(G18>32),"P","F") -> P | I18: 1 | J18: 10 | K18: 18 | L18: =I18+J18+K18 -> 29 | M18: =IF(AND(I18>16,J18>8<K18>8),"P","F") -> F | N18: 60 | O18: 22 | P18: =N18+O18 -> 82 | Q18: =IF(AND(N18>23,O18>9),"P","F") -> P | R18: 30 | S18: 16 | T18: =R18+S18 -> 46 | U18: =IF(AND(R18>23,S18>9),"P","F") -> P | X18: =V18+W18 -> 0 | Y18: =IF(AND(V18>23,W18>9),"P","F") -> F | Z18: 25 | AA18: 15 | AB18: =Z18+AA18 -> 40 | AC18: =IF(AND(Z18>23,AA18>9),"P","F") -> P | AF18: =AD18+AE18 -> 0 | AG18: =IF(AND(AD18>23,AE18>9),"P","F") -> F
A19: 335 | B19: DHIP SAMADDER | C19: 25 | D19: 12 | E19: =C19+D19 -> 37 | F19: =IF(AND(C19>23,D19>9),"P","F") -> P | H19: =IF(AND(G19>32),"P","F") -> F | I19: 2 | J19: 8 | K19: 18 | L19: =I19+J19+K19 -> 28 | M19: =IF(AND(I19>16,J19>8<K19>8),"P","F") -> F | N19: 30 | O19: 14 | P19: =N19+O19 -> 44 | Q19: =IF(AND(N19>23,O19>9),"P","F") -> P | R19: 24 | S19: 13 | T19: =R19+S19 -> 37 | U19: =IF(AND(R19>23,S19>9),"P","F") -> P | V19: 21 | W19: 18 | X19: =V19+W19 -> 39 | Y19: =IF(AND(V19>23,W19>9),"P","F") -> F | Z19: 23 | AA19: 12 | AB19: =Z19+AA19 -> 35 | AC19: =IF(AND(Z19>23,AA19>9),"P","F") -> F | AF19: =AD19+AE19 -> 0 | AG19: =IF(AND(AD19>23,AE19>9),"P","F") -> F
A20: 339 | B20: NUSRAT JAHAN RUMI | C20: 33 | D20: 16 | E20: =C20+D20 -> 49 | F20: =IF(AND(C20>23,D20>9),"P","F") -> P | G20: 29 | H20: =IF(AND(G20>32),"P","F") -> F | I20: 18 | J20: 11 | K20: 18 | L20: =I20+J20+K20 -> 47 | M20: =IF(AND(I20>16,J20>8<K20>8),"P","F") -> P | N20: 54 | O20: 24 | P20: =N20+O20 -> 78 | Q20: =IF(AND(N20>23,O20>9),"P","F") -> P | R20: 30 | S20: 21 | T20: =R20+S20 -> 51 | U20: =IF(AND(R20>23,S20>9),"P","F") -> P | V20: 35 | W20: 23 | X20: =V20+W20 -> 58 | Y20: =IF(AND(V20>23,W20>9),"P","F") -> P | Z20: 27 | AA20: 14 | AB20: =Z20+AA20 -> 41 | AC20: =IF(AND(Z20>23,AA20>9),"P","F") -> P | AF20: =AD20+AE20 -> 0 | AG20: =IF(AND(AD20>23,AE20>9),"P","F") -> F
A21: 340 | B21: MD. RIMON JOMADDER | C21: 34 | D21: 10 | E21: =C21+D21 -> 44 | F21: =IF(AND(C21>23,D21>9),"P","F") -> P | G21: 28 | H21: =IF(AND(G21>32),"P","F") -> F | I21: 5 | J21: 9 | K21: 18 | L21: =I21+J21+K21 -> 32 | M21: =IF(AND(I21>16,J21>8<K21>8),"P","F") -> F | N21: 19 | O21: 16 | P21: =N21+O21 -> 35 | Q21: =IF(AND(N21>23,O21>9),"P","F") -> F | R21: 26 | S21: 18 | T21: =R21+S21 -> 44 | U21: =IF(AND(R21>23,S21>9),"P","F") -> P | V21: 23 | W21: 11 | X21: =V21+W21 -> 34 | Y21: =IF(AND(V21>23,W21>9),"P","F") -> F | Z21: 26 | AA21: 14 | AB21: =Z21+AA21 -> 40 | AC21: =IF(AND(Z21>23,AA21>9),"P","F") -> P | AF21: =AD21+AE21 -> 0 | AG21: =IF(AND(AD21>23,AE21>9),"P","F") -> F
A22: 353 | B22: NAYEM SHAH ZAKARIA | C22: 38 | D22: 11 | E22: =C22+D22 -> 49 | F22: =IF(AND(C22>23,D22>9),"P","F") -> P | G22: 33 | H22: =IF(AND(G22>32),"P","F") -> P | I22: 4 | J22: 10 | K22: 18 | L22: =I22+J22+K22 -> 32 | M22: =IF(AND(I22>16,J22>8<K22>8),"P","F") -> F | N22: 37 | O22: 16 | P22: =N22+O22 -> 53 | Q22: =IF(AND(N22>23,O22>9),"P","F") -> P | R22: 30 | S22: 18 | T22: =R22+S22 -> 48 | U22: =IF(AND(R22>23,S22>9),"P","F") -> P | V22: 40 | W22: 16 | X22: =V22+W22 -> 56 | Y22: =IF(AND(V22>23,W22>9),"P","F") -> P | Z22: 29 | AA22: 14 | AB22: =Z22+AA22 -> 43 | AC22: =IF(AND(Z22>23,AA22>9),"P","F") -> P | AF22: =AD22+AE22 -> 0 | AG22: =IF(AND(AD22>23,AE22>9),"P","F") -> F
A23: 355 | B23: ANIP | C23: 28 | D23: 16 | E23: =C23+D23 -> 44 | F23: =IF(AND(C23>23,D23>9),"P","F") -> P | G23: 33 | H23: =IF(AND(G23>32),"P","F") -> P | I23: 1 | J23: 10 | K23: 18 | L23: =I23+J23+K23 -> 29 | M23: =IF(AND(I23>16,J23>8<K23>8),"P","F") -> F | N23: 52 | O23: 15 | P23: =N23+O23 -> 67 | Q23: =IF(AND(N23>23,O23>9),"P","F") -> P | R23: 29 | S23: 15 | T23: =R23+S23 -> 44 | U23: =IF(AND(R23>23,S23>9),"P","F") -> P | V23: 31 | W23: 12 | X23: =V23+W23 -> 43 | Y23: =IF(AND(V23>23,W23>9),"P","F") -> P | Z23: 23 | AA23: 19 | AB23: =Z23+AA23 -> 42 | AC23: =IF(AND(Z23>23,AA23>9),"P","F") -> F | AF23: =AD23+AE23 -> 0 | AG23: =IF(AND(AD23>23,AE23>9),"P","F") -> F
A24: 357 | B24: MD. RAHAT HOWLADER | C24: 39 | D24: 9 | E24: =C24+D24 -> 48 | F24: =IF(AND(C24>23,D24>9),"P","F") -> F | G24: 27 | H24: =IF(AND(G24>32),"P","F") -> F | I24: 6 | J24: 7 | K24: 18 | L24: =I24+J24+K24 -> 31 | M24: =IF(AND(I24>16,J24>8<K24>8),"P","F") -> F | N24: 54 | O24: 21 | P24: =N24+O24 -> 75 | Q24: =IF(AND(N24>23,O24>9),"P","F") -> P | R24: 26 | S24: 18 | T24: =R24+S24 -> 44 | U24: =IF(AND(R24>23,S24>9),"P","F") -> P | V24: 38 | W24: 14 | X24: =V24+W24 -> 52 | Y24: =IF(AND(V24>23,W24>9),"P","F") -> P | Z24: 24 | AA24: 15 | AB24: =Z24+AA24 -> 39 | AC24: =IF(AND(Z24>23,AA24>9),"P","F") -> P | AF24: =AD24+AE24 -> 0 | AG24: =IF(AND(AD24>23,AE24>9),"P","F") -> F
A25: 358 | B25: HASIB SHEKH | C25: 38 | D25: 13 | E25: =C25+D25 -> 51 | F25: =IF(AND(C25>23,D25>9),"P","F") -> P | G25: 34 | H25: =IF(AND(G25>32),"P","F") -> P | I25: 2 | J25: 18 | K25: 18 | L25: =I25+J25+K25 -> 38 | M25: =IF(AND(I25>16,J25>8<K25>8),"P","F") -> F | N25: 56 | O25: 19 | P25: =N25+O25 -> 75 | Q25: =IF(AND(N25>23,O25>9),"P","F") -> P | R25: 36 | S25: 18 | T25: =R25+S25 -> 54 | U25: =IF(AND(R25>23,S25>9),"P","F") -> P | V25: 34 | W25: 18 | X25: =V25+W25 -> 52 | Y25: =IF(AND(V25>23,W25>9),"P","F") -> P | AB25: =Z25+AA25 -> 0 | AC25: =IF(AND(Z25>23,AA25>9),"P","F") -> F | AF25: =AD25+AE25 -> 0 | AG25: =IF(AND(AD25>23,AE25>9),"P","F") -> F
A26: 363 | B26: SAMMO SAHA | C26: 33 | D26: 17 | E26: =C26+D26 -> 50 | F26: =IF(AND(C26>23,D26>9),"P","F") -> P | G26: 38 | H26: =IF(AND(G26>32),"P","F") -> P | I26: 13 | J26: 15 | K26: 18 | L26: =I26+J26+K26 -> 46 | M26: =IF(AND(I26>16,J26>8<K26>8),"P","F") -> F | N26: 39 | O26: 13 | P26: =N26+O26 -> 52 | Q26: =IF(AND(N26>23,O26>9),"P","F") -> P | R26: 27 | S26: 21 | T26: =R26+S26 -> 48 | U26: =IF(AND(R26>23,S26>9),"P","F") -> P | V26: 32 | W26: 18 | X26: =V26+W26 -> 50 | Y26: =IF(AND(V26>23,W26>9),"P","F") -> P | Z26: 24 | AA26: 13 | AB26: =Z26+AA26 -> 37 | AC26: =IF(AND(Z26>23,AA26>9),"P","F") -> P | AF26: =AD26+AE26 -> 0 | AG26: =IF(AND(AD26>23,AE26>9),"P","F") -> F
A27: 366 | B27: RATUL HOSSEN | C27: 42 | D27: 17 | E27: =C27+D27 -> 59 | F27: =IF(AND(C27>23,D27>9),"P","F") -> P | G27: 33 | H27: =IF(AND(G27>32),"P","F") -> P | I27: 14 | J27: 11 | K27: 18 | L27: =I27+J27+K27 -> 43 | M27: =IF(AND(I27>16,J27>8<K27>8),"P","F") -> F | N27: 46 | O27: 19 | P27: =N27+O27 -> 65 | Q27: =IF(AND(N27>23,O27>9),"P","F") -> P | R27: 34 | S27: 16 | T27: =R27+S27 -> 50 | U27: =IF(AND(R27>23,S27>9),"P","F") -> P | V27: 35 | W27: 14 | X27: =V27+W27 -> 49 | Y27: =IF(AND(V27>23,W27>9),"P","F") -> P | Z27: 24 | AA27: 10 | AB27: =Z27+AA27 -> 34 | AC27: =IF(AND(Z27>23,AA27>9),"P","F") -> P | AF27: =AD27+AE27 -> 0 | AG27: =IF(AND(AD27>23,AE27>9),"P","F") -> F
A28: 367 | B28: SAIFULLAH EMRAN | C28: 44 | D28: 19 | E28: =C28+D28 -> 63 | F28: =IF(AND(C28>23,D28>9),"P","F") -> P | G28: 34 | H28: =IF(AND(G28>32),"P","F") -> P | I28: 19 | J28: 19 | K28: 18 | L28: =I28+J28+K28 -> 56 | M28: =IF(AND(I28>16,J28>8<K28>8),"P","F") -> P | N28: 61 | O28: 24 | P28: =N28+O28 -> 85 | Q28: =IF(AND(N28>23,O28>9),"P","F") -> P | R28: 30 | S28: 24 | T28: =R28+S28 -> 54 | U28: =IF(AND(R28>23,S28>9),"P","F") -> P | V28: 34 | W28: 18 | X28: =V28+W28 -> 52 | Y28: =IF(AND(V28>23,W28>9),"P","F") -> P | Z28: 30 | AA28: 21 | AB28: =Z28+AA28 -> 51 | AC28: =IF(AND(Z28>23,AA28>9),"P","F") -> P | AF28: =AD28+AE28 -> 0 | AG28: =IF(AND(AD28>23,AE28>9),"P","F") -> F
A29: 368 | B29: MD. ARAFAT HOWLADER | C29: 44 | D29: 14 | E29: =C29+D29 -> 58 | F29: =IF(AND(C29>23,D29>9),"P","F") -> P | G29: 33 | H29: =IF(AND(G29>32),"P","F") -> P | I29: 17 | J29: 18 | K29: 18 | L29: =I29+J29+K29 -> 53 | M29: =IF(AND(I29>16,J29>8<K29>8),"P","F") -> P | N29: 57 | O29: 21 | P29: =N29+O29 -> 78 | Q29: =IF(AND(N29>23,O29>9),"P","F") -> P | R29: 32 | S29: 22 | T29: =R29+S29 -> 54 | U29: =IF(AND(R29>23,S29>9),"P","F") -> P | V29: 34 | W29: 14 | X29: =V29+W29 -> 48 | Y29: =IF(AND(V29>23,W29>9),"P","F") -> P | Z29: 30 | AA29: 21 | AB29: =Z29+AA29 -> 51 | AC29: =IF(AND(Z29>23,AA29>9),"P","F") -> P | AF29: =AD29+AE29 -> 0 | AG29: =IF(AND(AD29>23,AE29>9),"P","F") -> F
A30: 369 | B30: MD. RIFAT MINA | C30: 47 | D30: 15 | E30: =C30+D30 -> 62 | F30: =IF(AND(C30>23,D30>9),"P","F") -> P | G30: 33 | H30: =IF(AND(G30>32),"P","F") -> P | I30: 8 | J30: 11 | K30: 18 | L30: =I30+J30+K30 -> 37 | M30: =IF(AND(I30>16,J30>8<K30>8),"P","F") -> F | N30: 41 | O30: 21 | P30: =N30+O30 -> 62 | Q30: =IF(AND(N30>23,O30>9),"P","F") -> P | T30: =R30+S30 -> 0 | U30: =IF(AND(R30>23,S30>9),"P","F") -> F | V30: 41 | W30: 18 | X30: =V30+W30 -> 59 | Y30: =IF(AND(V30>23,W30>9),"P","F") -> P | Z30: 34 | AA30: 15 | AB30: =Z30+AA30 -> 49 | AC30: =IF(AND(Z30>23,AA30>9),"P","F") -> P | AF30: =AD30+AE30 -> 0 | AG30: =IF(AND(AD30>23,AE30>9),"P","F") -> F
A31: 370 | B31: KAZI SEYAM | C31: 53 | D31: 11 | E31: =C31+D31 -> 64 | F31: =IF(AND(C31>23,D31>9),"P","F") -> P | G31: 19 | H31: =IF(AND(G31>32),"P","F") -> F | I31: 8 | J31: 8 | K31: 18 | L31: =I31+J31+K31 -> 34 | M31: =IF(AND(I31>16,J31>8<K31>8),"P","F") -> F | N31: 42 | O31: 22 | P31: =N31+O31 -> 64 | Q31: =IF(AND(N31>23,O31>9),"P","F") -> P | R31: 48 | S31: 12 | T31: =R31+S31 -> 60 | U31: =IF(AND(R31>23,S31>9),"P","F") -> P | V31: 41 | W31: 17 | X31: =V31+W31 -> 58 | Y31: =IF(AND(V31>23,W31>9),"P","F") -> P | Z31: 25 | AA31: 10 | AB31: =Z31+AA31 -> 35 | AC31: =IF(AND(Z31>23,AA31>9),"P","F") -> P | AF31: =AD31+AE31 -> 0 | AG31: =IF(AND(AD31>23,AE31>9),"P","F") -> F
A32: 371 | B32: MD. SEAM TALUCKDAR | C32: 30 | D32: 8 | E32: =C32+D32 -> 38 | F32: =IF(AND(C32>23,D32>9),"P","F") -> F | G32: 14 | H32: =IF(AND(G32>32),"P","F") -> F | I32: 1 | J32: 8 | K32: 18 | L32: =I32+J32+K32 -> 27 | M32: =IF(AND(I32>16,J32>8<K32>8),"P","F") -> F | N32: 22 | O32: 9 | P32: =N32+O32 -> 31 | Q32: =IF(AND(N32>23,O32>9),"P","F") -> F | R32: 20 | S32: 11 | T32: =R32+S32 -> 31 | U32: =IF(AND(R32>23,S32>9),"P","F") -> F | V32: 25 | W32: 10 | X32: =V32+W32 -> 35 | Y32: =IF(AND(V32>23,W32>9),"P","F") -> P | Z32: 20 | AA32: 12 | AB32: =Z32+AA32 -> 32 | AC32: =IF(AND(Z32>23,AA32>9),"P","F") -> F | AF32: =AD32+AE32 -> 0 | AG32: =IF(AND(AD32>23,AE32>9),"P","F") -> F
A33: 372 | B33: SHAYEM ISLAM ROHAN | E33: =C33+D33 -> 0 | F33: =IF(AND(C33>23,D33>9),"P","F") -> F | G33: 9 | H33: =IF(AND(G33>32),"P","F") -> F | I33: 0 | J33: 9 | K33: 18 | L33: =I33+J33+K33 -> 27 | M33: =IF(AND(I33>16,J33>8<K33>8),"P","F") -> F | N33: 30 | O33: 13 | P33: =N33+O33 -> 43 | Q33: =IF(AND(N33>23,O33>9),"P","F") -> P | R33: 33 | S33: 5 | T33: =R33+S33 -> 38 | U33: =IF(AND(R33>23,S33>9),"P","F") -> F | V33: 29 | W33: 10 | X33: =V33+W33 -> 39 | Y33: =IF(AND(V33>23,W33>9),"P","F") -> P | Z33: 20 | AA33: 7 | AB33: =Z33+AA33 -> 27 | AC33: =IF(AND(Z33>23,AA33>9),"P","F") -> F | AF33: =AD33+AE33 -> 0 | AG33: =IF(AND(AD33>23,AE33>9),"P","F") -> F
A34: 376 | B34: RUPA | C34: 58 | D34: 20 | E34: =C34+D34 -> 78 | F34: =IF(AND(C34>23,D34>9),"P","F") -> P | G34: 52 | H34: =IF(AND(G34>32),"P","F") -> P | I34: 30 | J34: 20 | K34: 18 | L34: =I34+J34+K34 -> 68 | M34: =IF(AND(I34>16,J34>8<K34>8),"P","F") -> P | N34: 60 | O34: 27 | P34: =N34+O34 -> 87 | Q34: =IF(AND(N34>23,O34>9),"P","F") -> P | R34: 55 | S34: 26 | T34: =R34+S34 -> 81 | U34: =IF(AND(R34>23,S34>9),"P","F") -> P | V34: 60 | W34: 20 | X34: =V34+W34 -> 80 | Y34: =IF(AND(V34>23,W34>9),"P","F") -> P | Z34: 28 | AA34: 26 | AB34: =Z34+AA34 -> 54 | AC34: =IF(AND(Z34>23,AA34>9),"P","F") -> P | AF34: =AD34+AE34 -> 0 | AG34: =IF(AND(AD34>23,AE34>9),"P","F") -> F
A35: 377 | B35: URMI AKTER | C35: 57 | D35: 18 | E35: =C35+D35 -> 75 | F35: =IF(AND(C35>23,D35>9),"P","F") -> P | G35: 50 | H35: =IF(AND(G35>32),"P","F") -> P | I35: 21 | J35: 10 | K35: 18 | L35: =I35+J35+K35 -> 49 | M35: =IF(AND(I35>16,J35>8<K35>8),"P","F") -> P | N35: 61 | O35: 26 | P35: =N35+O35 -> 87 | Q35: =IF(AND(N35>23,O35>9),"P","F") -> P | R35: 59 | S35: 26 | T35: =R35+S35 -> 85 | U35: =IF(AND(R35>23,S35>9),"P","F") -> P | V35: 59 | W35: 21 | X35: =V35+W35 -> 80 | Y35: =IF(AND(V35>23,W35>9),"P","F") -> P | Z35: 40 | AA35: 22 | AB35: =Z35+AA35 -> 62 | AC35: =IF(AND(Z35>23,AA35>9),"P","F") -> P | AF35: =AD35+AE35 -> 0 | AG35: =IF(AND(AD35>23,AE35>9),"P","F") -> F
A36: 385 | B36: PARVEJ HASAN RAJIB | C36: 30 | D36: 13 | E36: =C36+D36 -> 43 | F36: =IF(AND(C36>23,D36>9),"P","F") -> P | G36: 18 | H36: =IF(AND(G36>32),"P","F") -> F | I36: 2 | J36: 6 | K36: 18 | L36: =I36+J36+K36 -> 26 | M36: =IF(AND(I36>16,J36>8<K36>8),"P","F") -> F | N36: 29 | O36: 20 | P36: =N36+O36 -> 49 | Q36: =IF(AND(N36>23,O36>9),"P","F") -> P | R36: 29 | S36: 13 | T36: =R36+S36 -> 42 | U36: =IF(AND(R36>23,S36>9),"P","F") -> P | X36: =V36+W36 -> 0 | Y36: =IF(AND(V36>23,W36>9),"P","F") -> F | Z36: 29 | AA36: 13 | AB36: =Z36+AA36 -> 42 | AC36: =IF(AND(Z36>23,AA36>9),"P","F") -> P | AF36: =AD36+AE36 -> 0 | AG36: =IF(AND(AD36>23,AE36>9),"P","F") -> F
A37: 386 | B37: NAYON DAS | C37: 20 | D37: 17 | E37: =C37+D37 -> 37 | F37: =IF(AND(C37>23,D37>9),"P","F") -> F | G37: 18 | H37: =IF(AND(G37>32),"P","F") -> F | I37: 10 | J37: 15 | K37: 18 | L37: =I37+J37+K37 -> 43 | M37: =IF(AND(I37>16,J37>8<K37>8),"P","F") -> F | N37: 54 | O37: 24 | P37: =N37+O37 -> 78 | Q37: =IF(AND(N37>23,O37>9),"P","F") -> P | R37: 27 | S37: 13 | T37: =R37+S37 -> 40 | U37: =IF(AND(R37>23,S37>9),"P","F") -> P | V37: 46 | W37: 13 | X37: =V37+W37 -> 59 | Y37: =IF(AND(V37>23,W37>9),"P","F") -> P | Z37: 27 | AA37: 15 | AB37: =Z37+AA37 -> 42 | AC37: =IF(AND(Z37>23,AA37>9),"P","F") -> P | AF37: =AD37+AE37 -> 0 | AG37: =IF(AND(AD37>23,AE37>9),"P","F") -> F
A38: 392 | B38: RAHAT FAKIR | C38: 30 | D38: 9 | E38: =C38+D38 -> 39 | F38: =IF(AND(C38>23,D38>9),"P","F") -> F | G38: 13 | H38: =IF(AND(G38>32),"P","F") -> F | I38: 5 | J38: 15 | K38: 18 | L38: =I38+J38+K38 -> 38 | M38: =IF(AND(I38>16,J38>8<K38>8),"P","F") -> F | N38: 41 | O38: 19 | P38: =N38+O38 -> 60 | Q38: =IF(AND(N38>23,O38>9),"P","F") -> P | R38: 21 | S38: 11 | T38: =R38+S38 -> 32 | U38: =IF(AND(R38>23,S38>9),"P","F") -> F | V38: 26 | W38: 9 | X38: =V38+W38 -> 35 | Y38: =IF(AND(V38>23,W38>9),"P","F") -> F | Z38: 20 | AA38: 8 | AB38: =Z38+AA38 -> 28 | AC38: =IF(AND(Z38>23,AA38>9),"P","F") -> F | AF38: =AD38+AE38 -> 0 | AG38: =IF(AND(AD38>23,AE38>9),"P","F") -> F
A39: 393 | B39: MD.RIAD KHAN | C39: 43 | D39: 18 | E39: =C39+D39 -> 61 | F39: =IF(AND(C39>23,D39>9),"P","F") -> P | G39: 22 | H39: =IF(AND(G39>32),"P","F") -> F | I39: 17 | J39: 14 | K39: 18 | L39: =I39+J39+K39 -> 49 | M39: =IF(AND(I39>16,J39>8<K39>8),"P","F") -> P | N39: 44 | O39: 26 | P39: =N39+O39 -> 70 | Q39: =IF(AND(N39>23,O39>9),"P","F") -> P | R39: 39 | S39: 14 | T39: =R39+S39 -> 53 | U39: =IF(AND(R39>23,S39>9),"P","F") -> P | V39: 33 | W39: 18 | X39: =V39+W39 -> 51 | Y39: =IF(AND(V39>23,W39>9),"P","F") -> P | Z39: 25 | AA39: 17 | AB39: =Z39+AA39 -> 42 | AC39: =IF(AND(Z39>23,AA39>9),"P","F") -> P | AF39: =AD39+AE39 -> 0 | AG39: =IF(AND(AD39>23,AE39>9),"P","F") -> F
A40: 395 | B40: SUPROTIC KARMOKER | C40: 34 | D40: 7 | E40: =C40+D40 -> 41 | F40: =IF(AND(C40>23,D40>9),"P","F") -> F | G40: 33 | H40: =IF(AND(G40>32),"P","F") -> P | I40: 3 | J40: 8 | K40: 18 | L40: =I40+J40+K40 -> 29 | M40: =IF(AND(I40>16,J40>8<K40>8),"P","F") -> F | N40: 47 | O40: 19 | P40: =N40+O40 -> 66 | Q40: =IF(AND(N40>23,O40>9),"P","F") -> P | R40: 24 | S40: 11 | T40: =R40+S40 -> 35 | U40: =IF(AND(R40>23,S40>9),"P","F") -> P | V40: 29 | W40: 8 | X40: =V40+W40 -> 37 | Y40: =IF(AND(V40>23,W40>9),"P","F") -> F | Z40: 20 | AA40: 8 | AB40: =Z40+AA40 -> 28 | AC40: =IF(AND(Z40>23,AA40>9),"P","F") -> F | AF40: =AD40+AE40 -> 0 | AG40: =IF(AND(AD40>23,AE40>9),"P","F") -> F
A41: 397 | B41: SANJIT DAS | C41: 37 | D41: 11 | E41: =C41+D41 -> 48 | F41: =IF(AND(C41>23,D41>9),"P","F") -> P | G41: 20 | H41: =IF(AND(G41>32),"P","F") -> F | I41: 5 | J41: 10 | K41: 18 | L41: =I41+J41+K41 -> 33 | M41: =IF(AND(I41>16,J41>8<K41>8),"P","F") -> F | N41: 35 | O41: 18 | P41: =N41+O41 -> 53 | Q41: =IF(AND(N41>23,O41>9),"P","F") -> P | R41: 40 | S41: 15 | T41: =R41+S41 -> 55 | U41: =IF(AND(R41>23,S41>9),"P","F") -> P | V41: 38 | W41: 13 | X41: =V41+W41 -> 51 | Y41: =IF(AND(V41>23,W41>9),"P","F") -> P | Z41: 25 | AA41: 9 | AB41: =Z41+AA41 -> 34 | AC41: =IF(AND(Z41>23,AA41>9),"P","F") -> F | AF41: =AD41+AE41 -> 0 | AG41: =IF(AND(AD41>23,AE41>9),"P","F") -> F
A42: 399 | B42: MINHAJUR RAHMAN TAMIM | C42: 29 | D42: 10 | E42: =C42+D42 -> 39 | F42: =IF(AND(C42>23,D42>9),"P","F") -> P | G42: 22 | H42: =IF(AND(G42>32),"P","F") -> F | I42: 10 | J42: 9 | K42: 18 | L42: =I42+J42+K42 -> 37 | M42: =IF(AND(I42>16,J42>8<K42>8),"P","F") -> F | N42: 27 | O42: 21 | P42: =N42+O42 -> 48 | Q42: =IF(AND(N42>23,O42>9),"P","F") -> P | R42: 38 | S42: 12 | T42: =R42+S42 -> 50 | U42: =IF(AND(R42>23,S42>9),"P","F") -> P | V42: 41 | W42: 14 | X42: =V42+W42 -> 55 | Y42: =IF(AND(V42>23,W42>9),"P","F") -> P | Z42: 29 | AA42: 11 | AB42: =Z42+AA42 -> 40 | AC42: =IF(AND(Z42>23,AA42>9),"P","F") -> P | AF42: =AD42+AE42 -> 0 | AG42: =IF(AND(AD42>23,AE42>9),"P","F") -> F
A43: 404 | B43: MD. SAKIB | C43: 24 | D43: 7 | E43: =C43+D43 -> 31 | F43: =IF(AND(C43>23,D43>9),"P","F") -> F | G43: 14 | H43: =IF(AND(G43>32),"P","F") -> F | I43: 3 | J43: 11 | K43: 18 | L43: =I43+J43+K43 -> 32 | M43: =IF(AND(I43>16,J43>8<K43>8),"P","F") -> F | N43: 37 | O43: 23 | P43: =N43+O43 -> 60 | Q43: =IF(AND(N43>23,O43>9),"P","F") -> P | R43: 31 | S43: 24 | T43: =R43+S43 -> 55 | U43: =IF(AND(R43>23,S43>9),"P","F") -> P | V43: 31 | W43: 17 | X43: =V43+W43 -> 48 | Y43: =IF(AND(V43>23,W43>9),"P","F") -> P | Z43: 28 | AA43: 24 | AB43: =Z43+AA43 -> 52 | AC43: =IF(AND(Z43>23,AA43>9),"P","F") -> P | AF43: =AD43+AE43 -> 0 | AG43: =IF(AND(AD43>23,AE43>9),"P","F") -> F
...

Sheet Humanitis
A5: Roll | B5: Name | C5: Bangla | G5: English | I5: ICT | N5: History | R5: Civics and Good Governence | V5: Islamic Studies | Z5: Islamic History and Cultural | AD5: Sanskrit | AF5: Economics | AJ5: Logic
C6: CQ | D6: MCQ | E6: Total | F6: Grade | G6: Total | H6: Grade | I6: CQ | J6: MCQ | K6: Practical | L6: Total | M6: Grade | N6: CQ | O6: MCQ | P6: Total | Q6: Grade | R6: CQ | S6: MCQ | T6: Total | U6: Grade | V6: CQ | W6: MCQ | X6: Total | Y6: Grade | Z6: CQ | AA6: MCQ | AB6: Total | AC6: Grade | AD6: Total | AE6: Grade | AF6: CQ | AG6: MCQ | AH6: Total | AI6: Grade | AJ6: CQ | AK6: MCQ | AL6: Total | AM6: Grade
A7: 601 | B7: HIAM | E7: =C7+D7 -> 0 | F7: =IF(AND(C7>23,D7>9),"P","F") -> F | G7: 20 | H7: =IF(AND(G7>32),"P","F") -> F | I7: 4 | J7: 6 | K7: 18 | L7: =I7+J7+K7 -> 28 | M7: =IF(AND(I7>16,J7>8,K7>8),"P","F") -> F | N7: 41 | O7: 24 | P7: =N7+O7 -> 65 | Q7: =IF(AND(N7>23,O7>9),"P","F") -> P | T7: =R7+S7 -> 0 | U7: =IF(AND(R7>23,S7>9),"P","F") -> F | V7: 43 | W7: 18 | X7: =V7+W7 -> 61 | Y7: =IF(AND(V7>23,W7>9),"P","F") -> P | AB7: =Z7+AA7 -> 0 | AC7: =IF(AND(Z7>23,AA7>9),"P","F") -> F | AE7: =IF(AND(AD7>32),"P","F") -> F | AH7: =AF7+AG7 -> 0 | AI7: =IF(AND(AF7>23,AG7>9),"P","F") -> F | AJ7: 24 | AK7: 15 | AL7: =AJ7+AK7 -> 39 | AM7: =IF(AND(AJ7>23,AK7>9),"P","F") -> P
A8: 602 | B8: MD. NADIMUL ISLAM | E8: =C8+D8 -> 0 | F8: =IF(AND(C8>23,D8>9),"P","F") -> F | G8: 23 | H8: =IF(AND(G8>32),"P","F") -> F | I8: 4 | J8: 8 | K8: 18 | L8: =I8+J8+K8 -> 30 | M8: =IF(AND(I8>16,J8>8,K8>8),"P","F") -> F | P8: =N8+O8 -> 0 | Q8: =IF(AND(N8>23,O8>9),"P","F") -> F | T8: =R8+S8 -> 0 | U8: =IF(AND(R8>23,S8>9),"P","F") -> F | V8: 43 | W8: 20 | X8: =V8+W8 -> 63 | Y8: =IF(AND(V8>23,W8>9),"P","F") -> P | Z8: 32 | AA8: 22 | AB8: =Z8+AA8 -> 54 | AC8: =IF(AND(Z8>23,AA8>9),"P","F") -> P | AE8: =IF(AND(AD8>32),"P","F") -> F | AH8: =AF8+AG8 -> 0 | AI8: =IF(AND(AF8>23,AG8>9),"P","F") -> F | AL8: =AJ8+AK8 -> 0 | AM8: =IF(AND(AJ8>23,AK8>9),"P","F") -> F
A9: 603 | B9: MD. SAYEM SHEIKH | E9: =C9+D9 -> 0 | F9: =IF(AND(C9>23,D9>9),"P","F") -> F | G9: 17 | H9: =IF(AND(G9>32),"P","F") -> F | I9: 18 | J9: 12 | K9: 18 | L9: =I9+J9+K9 -> 48 | M9: =IF(AND(I9>16,J9>8,K9>8),"P","F") -> P | P9: =N9+O9 -> 0 | Q9: =IF(AND(N9>23,O9>9),"P","F") -> F | T9: =R9+S9 -> 0 | U9: =IF(AND(R9>23,S9>9),"P","F") -> F | V9: 38 | W9: 18 | X9: =V9+W9 -> 56 | Y9: =IF(AND(V9>23,W9>9),"P","F") -> P | Z9: 31 | AA9: 23 | AB9: =Z9+AA9 -> 54 | AC9: =IF(AND(Z9>23,AA9>9),"P","F") -> P | AE9: =IF(AND(AD9>32),"P","F") -> F | AH9: =AF9+AG9 -> 0 | AI9: =IF(AND(AF9>23,AG9>9),"P","F") -> F | AJ9: 28 | AK9: 15 | AL9: =AJ9+AK9 -> 43 | AM9: =IF(AND(AJ9>23,AK9>9),"P","F") -> P
A10: 604 | B10: RUMI AKTER | E10: =C10+D10 -> 0 | F10: =IF(AND(C10>23,D10>9),"P","F") -> F | G10: 28 | H10: =IF(AND(G10>32),"P","F") -> F | I10: 3 | J10: 7 | K10: 18 | L10: =I10+J10+K10 -> 28 | M10: =IF(AND(I10>16,J10>8,K10>8),"P","F") -> F | N10: 43 | O10: 17 | P10: =N10+O10 -> 60 | Q10: =IF(AND(N10>23,O10>9),"P","F") -> P | T10: =R10+S10 -> 0 | U10: =IF(AND(R10>23,S10>9),"P","F") -> F | V10: 43 | W10: 18 | X10: =V10+W10 -> 61 | Y10: =IF(AND(V10>23,W10>9),"P","F") -> P | AB10: =Z10+AA10 -> 0 | AC10: =IF(AND(Z10>23,AA10>9),"P","F") -> F | AE10: =IF(AND(AD10>32),"P","F") -> F | AH10: =AF10+AG10 -> 0 | AI10: =IF(AND(AF10>23,AG10>9),"P","F") -> F | AJ10: 40 | AK10: 17 | AL10: =AJ10+AK10 -> 57 | AM10: =IF(AND(AJ10>23,AK10>9),"P","F") -> P
A11: 605 | B11: MD. SHAHRIAR KHAN | E11: =C11+D11 -> 0 | F11: =IF(AND(C11>23,D11>9),"P","F") -> F | G11: 45 | H11: =IF(AND(G11>32),"P","F") -> P | I11: 34 | J11: 18 | K11: 18 | L11: =I11+J11+K11 -> 70 | M11: =IF(AND(I11>16,J11>8,K11>8),"P","F") -> P | P11: =N11+O11 -> 0 | Q11: =IF(AND(N11>23,O11>9),"P","F") -> F | T11: =R11+S11 -> 0 | U11: =IF(AND(R11>23,S11>9),"P","F") -> F | V11: 48 | W11: 18 | X11: =V11+W11 -> 66 | Y11: =IF(AND(V11>23,W11>9),"P","F") -> P | Z11: 26 | AA11: 21 | AB11: =Z11+AA11 -> 47 | AC11: =IF(AND(Z11>23,AA11>9),"P","F") -> P | AE11: =IF(AND(AD11>32),"P","F") -> F | AH11: =AF11+AG11 -> 0 | AI11: =IF(AND(AF11>23,AG11>9),"P","F") -> F | AL11: =AJ11+AK11 -> 0 | AM11: =IF(AND(AJ11>23,AK11>9),"P","F") -> F
A12: 606 | B12: MASUMA | E12: =C12+D12 -> 0 | F12: =IF(AND(C12>23,D12>9),"P","F") -> F | G12: 12 | H12: =IF(AND(G12>32),"P","F") -> F | I12: 0 | J12: 11 | K12: 18 | L12: =I12+J12+K12 -> 29 | M12: =IF(AND(I12>16,J12>8,K12>8),"P","F") -> F | P12: =N12+O12 -> 0 | Q12: =IF(AND(N12>23,O12>9),"P","F") -> F | T12: =R12+S12 -> 0 | U12: =IF(AND(R12>23,S12>9),"P","F") -> F | V12: 45 | W12: 15 | X12: =V12+W12 -> 60 | Y12: =IF(AND(V12>23,W12>9),"P","F") -> P | Z12: 30 | AA12: 23 | AB12: =Z12+AA12 -> 53 | AC12: =IF(AND(Z12>23,AA12>9),"P","F") -> P | AE12: =IF(AND(AD12>32),"P","F") -> F | AH12: =AF12+AG12 -> 0 | AI12: =IF(AND(AF12>23,AG12>9),"P","F") -> F | AJ12: 25 | AK12: 11 | AL12: =AJ12+AK12 -> 36 | AM12: =IF(AND(AJ12>23,AK12>9),"P","F") -> P
A13: 607 | B13: SAKIB SHEAIKH | E13: =C13+D13 -> 0 | F13: =IF(AND(C13>23,D13>9),"P","F") -> F | G13: 12 | H13: =IF(AND(G13>32),"P","F") -> F | I13: 7 | J13: 6 | K13: 18 | L13: =I13+J13+K13 -> 31 | M13: =IF(AND(I13>16,J13>8,K13>8),"P","F") -> F | N13: 38 | O13: 8 | P13: =N13+O13 -> 46 | Q13: =IF(AND(N13>23,O13>9),"P","F") -> F | T13: =R13+S13 -> 0 | U13: =IF(AND(R13>23,S13>9),"P","F") -> F | V13: 42 | W13: 18 | X13: =V13+W13 -> 60 | Y13: =IF(AND(V13>23,W13>9),"P","F") -> P | AB13: =Z13+AA13 -> 0 | AC13: =IF(AND(Z13>23,AA13>9),"P","F") -> F | AE13: =IF(AND(AD13>32),"P","F") -> F | AH13: =AF13+AG13 -> 0 | AI13: =IF(AND(AF13>23,AG13>9),"P","F") -> F | AJ13: 38 | AK13: 11 | AL13: =AJ13+AK13 -> 49 | AM13: =IF(AND(AJ13>23,AK13>9),"P","F") -> P
A14: 608 | B14: MST LAMEIA AFROJ | E14: =C14+D14 -> 0 | F14: =IF(AND(C14>23,D14>9),"P","F") -> F | G14: 24 | H14: =IF(AND(G14>32),"P","F") -> F | I14: 13 | J14: 12 | K14: 18 | L14: =I14+J14+K14 -> 43 | M14: =IF(AND(I14>16,J14>8,K14>8),"P","F") -> F | N14: 38 | O14: 21 | P14: =N14+O14 -> 59 | Q14: =IF(AND(N14>23,O14>9),"P","F") -> P | T14: =R14+S14 -> 0 | U14: =IF(AND(R14>23,S14>9),"P","F") -> F | V14: 50 | W14: 21 | X14: =V14+W14 -> 71 | Y14: =IF(AND(V14>23,W14>9),"P","F") -> P | AB14: =Z14+AA14 -> 0 | AC14: =IF(AND(Z14>23,AA14>9),"P","F") -> F | AE14: =IF(AND(AD14>32),"P","F") -> F | AH14: =AF14+AG14 -> 0 | AI14: =IF(AND(AF14>23,AG14>9),"P","F") -> F | AJ14: 33 | AK14: 22 | AL14: =AJ14+AK14 -> 55 | AM14: =IF(AND(AJ14>23,AK14>9),"P","F") -> P
A15: 609 | B15: MST JAKIA AKTER | E15: =C15+D15 -> 0 | F15: =IF(AND(C15>23,D15>9),"P","F") -> F | G15: 33 | H15: =IF(AND(G15>32),"P","F") -> P | I15: 9 | J15: 10 | K15: 18 | L15: =I15+J15+K15 -> 37 | M15: =IF(AND(I15>16,J15>8,K15>8),"P","F") -> F | N15: 41 | O15: 25 | P15: =N15+O15 -> 66 | Q15: =IF(AND(N15>23,O15>9),"P","F") -> P | T15: =R15+S15 -> 0 | U15: =IF(AND(R15>23,S15>9),"P","F") -> F | V15: 45 | W15: 24 | X15: =V15+W15 -> 69 | Y15: =IF(AND(V15>23,W15>9),"P","F") -> P | AB15: =Z15+AA15 -> 0 | AC15: =IF(AND(Z15>23,AA15>9),"P","F") -> F | AE15: =IF(AND(AD15>32),"P","F") -> F | AH15: =AF15+AG15 -> 0 | AI15: =IF(AND(AF15>23,AG15>9),"P","F") -> F | AJ15: 37 | AK15: 25 | AL15: =AJ15+AK15 -> 62 | AM15: =IF(AND(AJ15>23,AK15>9),"P","F") -> P
A16: 610 | B16: MST. SURAIYA AKTER | E16: =C16+D16 -> 0 | F16: =IF(AND(C16>23,D16>9),"P","F") -> F | G16: 27 | H16: =IF(AND(G16>32),"P","F") -> F | I16: 7 | J16: 13 | K16: 18 | L16: =I16+J16+K16 -> 38 | M16: =IF(AND(I16>16,J16>8,K16>8),"P","F") -> F | N16: 34 | O16: 18 | P16: =N16+O16 -> 52 | Q16: =IF(AND(N16>23,O16>9),"P","F") -> P | T16: =R16+S16 -> 0 | U16: =IF(AND(R16>23,S16>9),"P","F") -> F | V16: 38 | W16: 24 | X16: =V16+W16 -> 62 | Y16: =IF(AND(V16>23,W16>9),"P","F") -> P | AB16: =Z16+AA16 -> 0 | AC16: =IF(AND(Z16>23,AA16>9),"P","F") -> F | AE16: =IF(AND(AD16>32),"P","F") -> F | AH16: =AF16+AG16 -> 0 | AI16: =IF(AND(AF16>23,AG16>9),"P","F") -> F | AJ16: 25 | AK16: 20 | AL16: =AJ16+AK16 -> 45 | AM16: =IF(AND(AJ16>23,AK16>9),"P","F") -> P
