Workbook

Sheet Science
A4: Roll | B4: Name | C4: Bangla | G4: English | I4: ICT | N4: Physics | S4: Chemistry | X4: Biology | AC4: Higher Math | AH4: Total Mark
C5: CQ | D5: MCQ | E5: Total | F5: Grade | G5: Total | H5: Grade | I5: CQ | J5: MCQ | K5: Practical | L5: Total | M5: Grade | N5: CQ | O5: MCQ | P5: Practical | Q5: Total | R5: Grade | S5: CQ | T5: MCQ | U5: Practical | V5: Total | W5: Grade | X5: CQ | Y5: MCQ | Z5: Practical | AA5: Total | AB5: Grade | AC5: CQ | AD5: MCQ | AE5: Practical | AF5: Total | AG5: Grade
A6: 1 | B6: SUHAELA ISLAM NITU | C6: 52 | D6: 17 | E6: =C6+D6 -> 69 | F6: =IF(AND(C6>23,D6>9),"P","F") -> P | G6: 73 | H6: =IF(G6>32,"P","F") -> P | I6: 37 | J6: 20 | K6: 18 | L6: =I6+J6+K6 -> 75 | M6: =IF(AND(I6>16,J6>8,K6>8),"P","F") -> P | N6: 36 | O6: 17 | P6: 18 | Q6: =N6+O6+P6 -> 71 | R6: =IF(AND(N6>16,O6>8,P6>8),"P","F") -> P | S6: 30 | T6: 8 | U6: 18 | V6: =S6+T6+U6 -> 56 | W6: =IF(AND(S6>16,T6>8,U6>8),"P","F") -> F | X6: 37 | Y6: 21 | Z6: 18 | AA6: =X6+Y6+Z6 -> 76 | AB6: =IF(AND(X6>16,Y6>8,Z6>8),"P","F") -> P | AC6: 17 | AD6: 18 | AE6: 18 | AF6: =AC6+AD6+AE6 -> 53 | AG6: =IF(AND(AC6>16,AD6>8,AE6>8),"P","F") -> P
A7: 2 | B7: DEBJHOTI MOZUMDER | C7: 29 | D7: 13 | E7: =C7+D7 -> 42 | F7: =IF(AND(C7>23,D7>9),"P","F") -> P | G7: 62 | H7: =IF(G7>32,"P","F") -> P | I7: 28 | J7: 13 | K7: 18 | L7: =I7+J7+K7 -> 59 | M7: =IF(AND(I7>16,J7>8,K7>8),"P","F") -> P | N7: 23 | O7: 14 | P7: 18 | Q7: =N7+O7+P7 -> 55 | R7: =IF(AND(N7>16,O7>8,P7>8),"P","F") -> P | S7: 17 | T7: 19 | U7: 18 | V7: =S7+T7+U7 -> 54 | W7: =IF(AND(S7>16,T7>8,U7>8),"P","F") -> P | X7: 16 | Y7: 14 | Z7: 18 | AA7: =X7+Y7+Z7 -> 48 | AB7: =IF(AND(X7>16,Y7>8,Z7>8),"P","F") -> F | AC7: 20 | AD7: 14 | AE7: 18 | AF7: =AC7+AD7+AE7 -> 52 | AG7: =IF(AND(AC7>16,AD7>8,AE7>8),"P","F") -> P
A8: 3 | B8: JABED AHAMED ALVI | C8: 45 | D8: 14 | E8: =C8+D8 -> 59 | F8: =IF(AND(C8>23,D8>9),"P","F") -> P | G8: 46 | H8: =IF(G8>32,"P","F") -> P | I8: 22 | J8: 18 | K8: 18 | L8: =I8+J8+K8 -> 58 | M8: =IF(AND(I8>16,J8>8,K8>8),"P","F") -> P | N8: 17 | O8: 8 | P8: 18 | Q8: =N8+O8+P8 -> 43 | R8: =IF(AND(N8>16,O8>8,P8>8),"P","F") -> F | S8: 22 | T8: 11 | U8: 18 | V8: =S8+T8+U8 -> 51 | W8: =IF(AND(S8>16,T8>8,U8>8),"P","F") -> P | X8: 31 | Y8: 17 | Z8: 18 | AA8: =X8+Y8+Z8 -> 66 | AB8: =IF(AND(X8>16,Y8>8,Z8>8),"P","F") -> P | AC8: 7 | AD8: 9 | AE8: 18 | AF8: =AC8+AD8+AE8 -> 34 | AG8: =IF(AND(AC8>16,AD8>8,AE8>8),"P","F") -> F
A9: 4 | B9: MST. SHIFA | C9: 52 | D9: 20 | E9: =C9+D9 -> 72 | F9: =IF(AND(C9>23,D9>9),"P","F") -> P | G9: 51 | H9: =IF(G9>32,"P","F") -> P | I9: 7 | J9: 13 | K9: 18 | L9: =I9+J9+K9 -> 38 | M9: =IF(AND(I9>16,J9>8,K9>8),"P","F") -> F | N9: 11 | O9: 9 | P9: 18 | Q9: =N9+O9+P9 -> 38 | R9: =IF(AND(N9>16,O9>8,P9>8),"P","F") -> F | S9: 17 | T9: 9 | U9: 18 | V9: =S9+T9+U9 -> 44 | W9: =IF(AND(S9>16,T9>8,U9>8),"P","F") -> P | X9: 20 | Y9: 12 | Z9: 18 | AA9: =X9+Y9+Z9 -> 50 | AB9: =IF(AND(X9>16,Y9>8,Z9>8),"P","F") -> P | AC9: 3 | AD9: 12 | AE9: 18 | AF9: =AC9+AD9+AE9 -> 33 | AG9: =IF(AND(AC9>16,AD9>8,AE9>8),"P","F") -> F
A10: 5 | B10: MD SHIHAB SIKDER | C10: 53 | D10: 22 | E10: =C10+D10 -> 75 | F10: =IF(AND(C10>23,D10>9),"P","F") -> P | G10: 47 | H10: =IF(G10>32,"P","F") -> P | I10: 22 | J10: 19 | K10: 18 | L10: =I10+J10+K10 -> 59 | M10: =IF(AND(I10>16,J10>8,K10>8),"P","F") -> P | N10: 6 | O10: 11 | P10: 18 | Q10: =N10+O10+P10 -> 35 | R10: =IF(AND(N10>16,O10>8,P10>8),"P","F") -> F | S10: 19 | T10: 13 | U10: 18 | V10: =S10+T10+U10 -> 50 | W10: =IF(AND(S10>16,T10>8,U10>8),"P","F") -> P | X10: 28 | Y10: 12 | Z10: 18 | AA10: =X10+Y10+Z10 -> 58 | AB10: =IF(AND(X10>16,Y10>8,Z10>8),"P","F") -> P | AC10: 17 | AD10: 7 | AE10: 18 | AF10: =AC10+AD10+AE10 -> 42 | AG10: =IF(AND(AC10>16,AD10>8,AE10>8),"P","F") -> F
A11: 6 | B11: MD. MORSALIN DAKUA | C11: 47 | D11: 10 | E11: =C11+D11 -> 57 | F11: =IF(AND(C11>23,D11>9),"P","F") -> P | G11: 40 | H11: =IF(G11>32,"P","F") -> P | I11: 12 | J11: 14 | K11: 18 | L11: =I11+J11+K11 -> 44 | M11: =IF(AND(I11>16,J11>8,K11>8),"P","F") -> F | N11: 4 | O11: 5 | P11: 18 | Q11: =N11+O11+P11 -> 27 | R11: =IF(AND(N11>16,O11>8,P11>8),"P","F") -> F | S11: 26 | T11: 14 | U11: 18 | V11: =S11+T11+U11 -> 58 | W11: =IF(AND(S11>16,T11>8,U11>8),"P","F") -> P | X11: 22 | Y11: 11 | Z11: 18 | AA11: =X11+Y11+Z11 -> 51 | AB11: =IF(AND(X11>16,Y11>8,Z11>8),"P","F") -> P | AC11: 10 | AD11: 9 | AE11: 18 | AF11: =AC11+AD11+AE11 -> 37 | AG11: =IF(AND(AC11>16,AD11>8,AE11>8),"P","F") -> F
A12: 7 | B12: BARSON SHAHA AVRO | C12: 37 | D12: 18 | E12: =C12+D12 -> 55 | F12: =IF(AND(C12>23,D12>9),"P","F") -> P | H12: =IF(G12>32,"P","F") -> F | I12: 29 | J12: 17 | K12: 18 | L12: =I12+J12+K12 -> 64 | M12: =IF(AND(I12>16,J12>8,K12>8),"P","F") -> P | N12: 11 | O12: 12 | P12: 18 | Q12: =N12+O12+P12 -> 41 | R12: =IF(AND(N12>16,O12>8,P12>8),"P","F") -> F | S12: 26 | T12: 19 | U12: 18 | V12: =S12+T12+U12 -> 63 | W12: =IF(AND(S12>16,T12>8,U12>8),"P","F") -> P | X12: 14 | Y12: 15 | Z12: 18 | AA12: =X12+Y12+Z12 -> 47 | AB12: =IF(AND(X12>16,Y12>8,Z12>8),"P","F") -> F | AC12: 18 | AD12: 17 | AE12: 18 | AF12: =AC12+AD12+AE12 -> 53 | AG12: =IF(AND(AC12>16,AD12>8,AE12>8),"P","F") -> P
A13: 8 | B13: RAFIN RAHMAN | C13: 39 | D13: 18 | E13: =C13+D13 -> 57 | F13: =IF(AND(C13>23,D13>9),"P","F") -> P | H13: =IF(G13>32,"P","F") -> F | I13: 19 | J13: 19 | K13: 18 | L13: =I13+J13+K13 -> 56 | M13: =IF(AND(I13>16,J13>8,K13>8),"P","F") -> P | N13: 10 | O13: 12 | P13: 18 | Q13: =N13+O13+P13 -> 40 | R13: =IF(AND(N13>16,O13>8,P13>8),"P","F") -> F | S13: 17 | T13: 18 | U13: 18 | V13: =S13+T13+U13 -> 53 | W13: =IF(AND(S13>16,T13>8,U13>8),"P","F") -> P | X13: 20 | Y13: 14 | Z13: 18 | AA13: =X13+Y13+Z13 -> 52 | AB13: =IF(AND(X13>16,Y13>8,Z13>8),"P","F") -> P | AC13: 17 | AD13: 18 | AE13: 18 | AF13: =AC13+AD13+AE13 -> 53 | AG13: =IF(AND(AC13>16,AD13>8,AE13>8),"P","F") -> P
A14: 9 | B14: RAFSAN | C14: 40 | D14: 17 | E14: =C14+D14 -> 57 | F14: =IF(AND(C14>23,D14>9),"P","F") -> P | G14: 47 | H14: =IF(G14>32,"P","F") -> P | I14: 20 | J14: 19 | K14: 18 | L14: =I14+J14+K14 -> 57 | M14: =IF(AND(I14>16,J14>8,K14>8),"P","F") -> P | N14: 20 | O14: 14 | P14: 18 | Q14: =N14+O14+P14 -> 52 | R14: =IF(AND(N14>16,O14>8,P14>8),"P","F") -> P | S14: 26 | T14: 16 | U14: 18 | V14: =S14+T14+U14 -> 60 | W14: =IF(AND(S14>16,T14>8,U14>8),"P","F") -> P | X14: 23 | Y14: 13 | Z14: 18 | AA14: =X14+Y14+Z14 -> 54 | AB14: =IF(AND(X14>16,Y14>8,Z14>8),"P","F") -> P | AC14: 10 | AD14: 18 | AE14: 18 | AF14: =AC14+AD14+AE14 -> 46 | AG14: =IF(AND(AC14>16,AD14>8,AE14>8),"P","F") -> F
A15: 10 | B15: RAIYAN HASAN KHAN | C15: 44 | D15: 21 | E15: =C15+D15 -> 65 | F15: =IF(AND(C15>23,D15>9),"P","F") -> P | G15: 62 | H15: =IF(G15>32,"P","F") -> P | I15: 31 | J15: 15 | K15: 18 | L15: =I15+J15+K15 -> 64 | M15: =IF(AND(I15>16,J15>8,K15>8),"P","F") -> P | N15: 33 | O15: 16 | P15: 18 | Q15: =N15+O15+P15 -> 67 | R15: =IF(AND(N15>16,O15>8,P15>8),"P","F") -> P | S15: 43 | T15: 12 | U15: 18 | V15: =S15+T15+U15 -> 73 | W15: =IF(AND(S15>16,T15>8,U15>8),"P","F") -> P | X15: 35 | Y15: 19 | Z15: 18 | AA15: =X15+Y15+Z15 -> 72 | AB15: =IF(AND(X15>16,Y15>8,Z15>8),"P","F") -> P | AC15: 29 | AD15: 18 | AE15: 18 | AF15: =AC15+AD15+AE15 -> 65 | AG15: =IF(AND(AC15>16,AD15>8,AE15>8),"P","F") -> P
A16: 11 | B16: MD. SOLAYMAN SIKDER | C16: 55 | D16: 17 | E16: =C16+D16 -> 72 | F16: =IF(AND(C16>23,D16>9),"P","F") -> P | G16: 80 | H16: =IF(G16>32,"P","F") -> P | I16: 25 | J16: 20 | K16: 18 | L16: =I16+J16+K16 -> 63 | M16: =IF(AND(I16>16,J16>8,K16>8),"P","F") -> P | N16: 33 | O16: 18 | P16: 18 | Q16: =N16+O16+P16 -> 69 | R16: =IF(AND(N16>16,O16>8,P16>8),"P","F") -> P | S16: 37 | T16: 18 | U16: 18 | V16: =S16+T16+U16 -> 73 | W16: =IF(AND(S16>16,T16>8,U16>8),"P","F") -> P | X16: 34 | Y16: 16 | Z16: 18 | AA16: =X16+Y16+Z16 -> 68 | AB16: =IF(AND(X16>16,Y16>8,Z16>8),"P","F") -> P | AC16: 38 | AD16: 18 | AE16: 18 | AF16: =AC16+AD16+AE16 -> 74 | AG16: =IF(AND(AC16>16,AD16>8,AE16>8),"P","F") -> P
A17: 12 | B17: RUDRO PAUL | C17: 57 | D17: 19 | E17: =C17+D17 -> 76 | F17: =IF(AND(C17>23,D17>9),"P","F") -> P | G17: 71 | H17: =IF(G17>32,"P","F") -> P | I17: 46 | J17: 20 | K17: 18 | L17: =I17+J17+K17 -> 84 | M17: =IF(AND(I17>16,J17>8,K17>8),"P","F") -> P | N17: 44 | O17: 16 | P17: 18 | Q17: =N17+O17+P17 -> 78 | R17: =IF(AND(N17>16,O17>8,P17>8),"P","F") -> P | S17: 48 | T17: 21 | U17: 18 | V17: =S17+T17+U17 -> 87 | W17: =IF(AND(S17>16,T17>8,U17>8),"P","F") -> P | X17: 36 | Y17: 17 | Z17: 18 | AA17: =X17+Y17+Z17 -> 71 | AB17: =IF(AND(X17>16,Y17>8,Z17>8),"P","F") -> P | AC17: 40 | AD17: 22 | AE17: 18 | AF17: =AC17+AD17+AE17 -> 80 | AG17: =IF(AND(AC17>16,AD17>8,AE17>8),"P","F") -> P
A18: 13 | B18: UTSHOB KUNDU | C18: 50 | D18: 19 | E18: =C18+D18 -> 69 | F18: =IF(AND(C18>23,D18>9),"P","F") -> P | G18: 70 | H18: =IF(G18>32,"P","F") -> P | I18: 44 | J18: 19 | K18: 18 | L18: =I18+J18+K18 -> 81 | M18: =IF(AND(I18>16,J18>8,K18>8),"P","F") -> P | N18: 41 | O18: 14 | P18: 18 | Q18: =N18+O18+P18 -> 73 | R18: =IF(AND(N18>16,O18>8,P18>8),"P","F") -> P | S18: 44 | T18: 15 | U18: 18 | V18: =S18+T18+U18 -> 77 | W18: =IF(AND(S18>16,T18>8,U18>8),"P","F") -> P | X18: 39 | Y18: 20 | Z18: 18 | AA18: =X18+Y18+Z18 -> 77 | AB18: =IF(AND(X18>16,Y18>8,Z18>8),"P","F") -> P | AC18: 33 | AD18: 11 | AE18: 18 | AF18: =AC18+AD18+AE18 -> 62 | AG18: =IF(AND(AC18>16,AD18>8,AE18>8),"P","F") -> P
A19: 14 | B19: KRIPESH HALDER | C19: 48 | D19: 18 | E19: =C19+D19 -> 66 | F19: =IF(AND(C19>23,D19>9),"P","F") -> P | G19: 56 | H19: =IF(G19>32,"P","F") -> P | I19: 33 | J19: 18 | K19: 18 | L19: =I19+J19+K19 -> 69 | M19: =IF(AND(I19>16,J19>8,K19>8),"P","F") -> P | N19: 27 | O19: 8 | P19: 18 | Q19: =N19+O19+P19 -> 53 | R19: =IF(AND(N19>16,O19>8,P19>8),"P","F") -> F | S19: 33 | T19: 22 | U19: 18 | V19: =S19+T19+U19 -> 73 | W19: =IF(AND(S19>16,T19>8,U19>8),"P","F") -> P | X19: 34 | Y19: 14 | Z19: 18 | AA19: =X19+Y19+Z19 -> 66 | AB19: =IF(AND(X19>16,Y19>8,Z19>8),"P","F") -> P | AC19: 35 | AD19: 16 | AE19: 18 | AF19: =AC19+AD19+AE19 -> 69 | AG19: =IF(AND(AC19>16,AD19>8,AE19>8),"P","F") -> P
A20: 15 | B20: DEBJOTI MANDAL | C20: 47 | D20: 16 | E20: =C20+D20 -> 63 | F20: =IF(AND(C20>23,D20>9),"P","F") -> P | G20: 60 | H20: =IF(G20>32,"P","F") -> P | I20: 32 | J20: 19 | K20: 18 | L20: =I20+J20+K20 -> 69 | M20: =IF(AND(I20>16,J20>8,K20>8),"P","F") -> P | N20: 27 | O20: 13 | P20: 18 | Q20: =N20+O20+P20 -> 58 | R20: =IF(AND(N20>16,O20>8,P20>8),"P","F") -> P | S20: 28 | T20: 14 | U20: 18 | V20: =S20+T20+U20 -> 60 | W20: =IF(AND(S20>16,T20>8,U20>8),"P","F") -> P | X20: 37 | Y20: 15 | Z20: 18 | AA20: =X20+Y20+Z20 -> 70 | AB20: =IF(AND(X20>16,Y20>8,Z20>8),"P","F") -> P | AC20: 17 | AD20: 16 | AE20: 18 | AF20: =AC20+AD20+AE20 -> 51 | AG20: =IF(AND(AC20>16,AD20>8,AE20>8),"P","F") -> P
A21: 16 | B21: SIDDHARTHA MITRO | C21: 45 | D21: 14 | E21: =C21+D21 -> 59 | F21: =IF(AND(C21>23,D21>9),"P","F") -> P | G21: 61 | H21: =IF(G21>32,"P","F") -> P | I21: 35 | J21: 16 | K21: 18 | L21: =I21+J21+K21 -> 69 | M21: =IF(AND(I21>16,J21>8,K21>8),"P","F") -> P | N21: 27 | O21: 8 | P21: 18 | Q21: =N21+O21+P21 -> 53 | R21: =IF(AND(N21>16,O21>8,P21>8),"P","F") -> F | S21: 31 | T21: 13 | U21: 18 | V21: =S21+T21+U21 -> 62 | W21: =IF(AND(S21>16,T21>8,U21>8),"P","F") -> P | X21: 37 | Y21: 10 | Z21: 18 | AA21: =X21+Y21+Z21 -> 65 | AB21: =IF(AND(X21>16,Y21>8,Z21>8),"P","F") -> P | AC21: 11 | AD21: 17 | AE21: 18 | AF21: =AC21+AD21+AE21 -> 46 | AG21: =IF(AND(AC21>16,AD21>8,AE21>8),"P","F") -> F
A22: 17 | B22: K M AL HADI | C22: 37 | D22: 20 | E22: =C22+D22 -> 57 | F22: =IF(AND(C22>23,D22>9),"P","F") -> P | G22: 48 | H22: =IF(G22>32,"P","F") -> P | I22: 23 | J22: 19 | K22: 18 | L22: =I22+J22+K22 -> 60 | M22: =IF(AND(I22>16,J22>8,K22>8),"P","F") -> P | N22: 14 | O22: 11 | P22: 18 | Q22: =N22+O22+P22 -> 43 | R22: =IF(AND(N22>16,O22>8,P22>8),"P","F") -> F | S22: 18 | T22: 10 | U22: 18 | V22: =S22+T22+U22 -> 46 | W22: =IF(AND(S22>16,T22>8,U22>8),"P","F") -> P | X22: 18 | Y22: 8 | Z22: 18 | AA22: =X22+Y22+Z22 -> 44 | AB22: =IF(AND(X22>16,Y22>8,Z22>8),"P","F") -> F | AC22: 5 | AD22: 13 | AE22: 18 | AF22: =AC22+AD22+AE22 -> 36 | AG22: =IF(AND(AC22>16,AD22>8,AE22>8),"P","F") -> F
A23: 18 | B23: ARKO PAUL | C23: 36 | D23: 19 | E23: =C23+D23 -> 55 | F23: =IF(AND(C23>23,D23>9),"P","F") -> P | G23: 42 | H23: =IF(G23>32,"P","F") -> P | I23: 23 | J23: 18 | K23: 18 | L23: =I23+J23+K23 -> 59 | M23: =IF(AND(I23>16,J23>8,K23>8),"P","F") -> P | N23: 11 | O23: 9 | P23: 18 | Q23: =N23+O23+P23 -> 38 | R23: =IF(AND(N23>16,O23>8,P23>8),"P","F") -> F | S23: 17 | T23: 13 | U23: 18 | V23: =S23+T23+U23 -> 48 | W23: =IF(AND(S23>16,T23>8,U23>8),"P","F") -> P | X23: 19 | Y23: 8 | Z23: 18 | AA23: =X23+Y23+Z23 -> 45 | AB23: =IF(AND(X23>16,Y23>8,Z23>8),"P","F") -> F | AC23: 12 | AD23: 15 | AE23: 18 | AF23: =AC23+AD23+AE23 -> 45 | AG23: =IF(AND(AC23>16,AD23>8,AE23>8),"P","F") -> F
A24: 19 | B24: BADHON KUMAR SAHA | C24: 44 | D24: 18 | E24: =C24+D24 -> 62 | F24: =IF(AND(C24>23,D24>9),"P","F") -> P | G24: 39 | H24: =IF(G24>32,"P","F") -> P | I24: 4 | J24: 18 | K24: 18 | L24: =I24+J24+K24 -> 40 | M24: =IF(AND(I24>16,J24>8,K24>8),"P","F") -> F | N24: 5 | O24: 9 | P24: 18 | Q24: =N24+O24+P24 -> 32 | R24: =IF(AND(N24>16,O24>8,P24>8),"P","F") -> F | S24: 17 | T24: 14 | U24: 18 | V24: =S24+T24+U24 -> 49 | W24: =IF(AND(S24>16,T24>8,U24>8),"P","F") -> P | X24: 24 | Y24: 7 | Z24: 18 | AA24: =X24+Y24+Z24 -> 49 | AB24: =IF(AND(X24>16,Y24>8,Z24>8),"P","F") -> F | AC24: 5 | AD24: 13 | AE24: 18 | AF24: =AC24+AD24+AE24 -> 36 | AG24: =IF(AND(AC24>16,AD24>8,AE24>8),"P","F") -> F
A25: 20 | B25: PIJUSH SAHA | C25: 34 | D25: 18 | E25: =C25+D25 -> 52 | F25: =IF(AND(C25>23,D25>9),"P","F") -> P | G25: 40 | H25: =IF(G25>32,"P","F") -> P | I25: 7 | J25: 18 | K25: 18 | L25: =I25+J25+K25 -> 43 | M25: =IF(AND(I25>16,J25>8,K25>8),"P","F") -> F | N25: 14 | O25: 9 | P25: 18 | Q25: =N25+O25+P25 -> 41 | R25: =IF(AND(N25>16,O25>8,P25>8),"P","F") -> F | S25: 17 | T25: 14 | U25: 18 | V25: =S25+T25+U25 -> 49 | W25: =IF(AND(S25>16,T25>8,U25>8),"P","F") -> P | X25: 23 | Y25: 8 | Z25: 18 | AA25: =X25+Y25+Z25 -> 49 | AB25: =IF(AND(X25>16,Y25>8,Z25>8),"P","F") -> F | AC25: 8 | AD25: 14 | AE25: 18 | AF25: =AC25+AD25+AE25 -> 40 | AG25: =IF(AND(AC25>16,AD25>8,AE25>8),"P","F") -> F
A26: 22 | B26: MD. IMRAN HAWLADER | C26: 35 | D26: 19 | E26: =C26+D26 -> 54 | F26: =IF(AND(C26>23,D26>9),"P","F") -> P | G26: 47 | H26: =IF(G26>32,"P","F") -> P | I26: 13 | J26: 20 | K26: 18 | L26: =I26+J26+K26 -> 51 | M26: =IF(AND(I26>16,J26>8,K26>8),"P","F") -> F | N26: 10 | O26: 9 | P26: 18 | Q26: =N26+O26+P26 -> 37 | R26: =IF(AND(N26>16,O26>8,P26>8),"P","F") -> F | S26: 29 | T26: 8 | U26: 18 | V26: =S26+T26+U26 -> 55 | W26: =IF(AND(S26>16,T26>8,U26>8),"P","F") -> F | X26: 32 | Y26: 9 | Z26: 18 | AA26: =X26+Y26+Z26 -> 59 | AB26: =IF(AND(X26>16,Y26>8,Z26>8),"P","F") -> P | AC26: 9 | AD26: 16 | AE26: 18 | AF26: =AC26+AD26+AE26 -> 43 | AG26: =IF(AND(AC26>16,AD26>8,AE26>8),"P","F") -> F
A27: 23 | B27: SOHAN SHEIKH | E27: =C27+D27 -> 0 | F27: =IF(AND(C27>23,D27>9),"P","F") -> F | H27: =IF(G27>32,"P","F") -> F | K27: 18 | L27: =I27+J27+K27 -> 18 | M27: =IF(AND(I27>16,J27>8,K27>8),"P","F") -> F | Q27: =N27+O27+P27 -> 0 | R27: =IF(AND(N27>16,O27>8,P27>8),"P","F") -> F | V27: =S27+T27+U27 -> 0 | W27: =IF(AND(S27>16,T27>8,U27>8),"P","F") -> F | AA27: =X27+Y27+Z27 -> 0 | AB27: =IF(AND(X27>16,Y27>8,Z27>8),"P","F") -> F | AF27: =AC27+AD27+AE27 -> 0 | AG27: =IF(AND(AC27>16,AD27>8,AE27>8),"P","F") -> F
A28: 24 | B28: MD. SAIM | C28: 41 | D28: 14 | E28: =C28+D28 -> 55 | F28: =IF(AND(C28>23,D28>9),"P","F") -> P | G28: 27 | H28: =IF(G28>32,"P","F") -> F | I28: 9 | J28: 16 | K28: 18 | L28: =I28+J28+K28 -> 43 | M28: =IF(AND(I28>16,J28>8,K28>8),"P","F") -> F | N28: 7 | O28: 8 | P28: 18 | Q28: =N28+O28+P28 -> 33 | R28: =IF(AND(N28>16,O28>8,P28>8),"P","F") -> F | S28: 18 | T28: 9 | U28: 18 | V28: =S28+T28+U28 -> 45 | W28: =IF(AND(S28>16,T28>8,U28>8),"P","F") -> P | X28: 23 | Y28: 10 | Z28: 18 | AA28: =X28+Y28+Z28 -> 51 | AB28: =IF(AND(X28>16,Y28>8,Z28>8),"P","F") -> P | AC28: 7 | AD28: 10 | AE28: 18 | AF28: =AC28+AD28+AE28 -> 35 | AG28: =IF(AND(AC28>16,AD28>8,AE28>8),"P","F") -> F
A29: 25 | B29: FAHAD ISLAM | E29: =C29+D29 -> 0 | F29: =IF(AND(C29>23,D29>9),"P","F") -> F | H29: =IF(G29>32,"P","F") -> F | L29: =I29+J29+K29 -> 0 | M29: =IF(AND(I29>16,J29>8,K29>8),"P","F") -> F | Q29: =N29+O29+P29 -> 0 | R29: =IF(AND(N29>16,O29>8,P29>8),"P","F") -> F | V29: =S29+T29+U29 -> 0 | W29: =IF(AND(S29>16,T29>8,U29>8),"P","F") -> F | AA29: =X29+Y29+Z29 -> 0 | AB29: =IF(AND(X29>16,Y29>8,Z29>8),"P","F") -> F | AF29: =AC29+AD29+AE29 -> 0 | AG29: =IF(AND(AC29>16,AD29>8,AE29>8),"P","F") -> F
A30: 26 | B30: SHARON SAMUDRA MONDA | C30: 46 | D30: 17 | E30: =C30+D30 -> 63 | F30: =IF(AND(C30>23,D30>9),"P","F") -> P | G30: 41 | H30: =IF(G30>32,"P","F") -> P | I30: 19 | J30: 18 | K30: 18 | L30: =I30+J30+K30 -> 55 | M30: =IF(AND(I30>16,J30>8,K30>8),"P","F") -> P | N30: 17 | O30: 10 | P30: 18 | Q30: =N30+O30+P30 -> 45 | R30: =IF(AND(N30>16,O30>8,P30>8),"P","F") -> P | S30: 31 | T30: 12 | U30: 18 | V30: =S30+T30+U30 -> 61 | W30: =IF(AND(S30>16,T30>8,U30>8),"P","F") -> P | X30: 30 | Y30: 6 | Z30: 18 | AA30: =X30+Y30+Z30 -> 54 | AB30: =IF(AND(X30>16,Y30>8,Z30>8),"P","F") -> F | AC30: 8 | AD30: 9 | AE30: 18 | AF30: =AC30+AD30+AE30 -> 35 | AG30: =IF(AND(AC30>16,AD30>8,AE30>8),"P","F") -> F
A31: 27 | B31: MD TASIN AHMED | C31: 35 | D31: 13 | E31: =C31+D31 -> 48 | F31: =IF(AND(C31>23,D31>9),"P","F") -> P | G31: 52 | H31: =IF(G31>32,"P","F") -> P | I31: 14 | J31: 12 | K31: 18 | L31: =I31+J31+K31 -> 44 | M31: =IF(AND(I31>16,J31>8,K31>8),"P","F") -> F | N31: 17 | O31: 10 | P31: 18 | Q31: =N31+O31+P31 -> 45 | R31: =IF(AND(N31>16,O31>8,P31>8),"P","F") -> P | S31: 24 | T31: 10 | U31: 18 | V31: =S31+T31+U31 -> 52 | W31: =IF(AND(S31>16,T31>8,U31>8),"P","F") -> P | X31: 21 | Y31: 9 | Z31: 18 | AA31: =X31+Y31+Z31 -> 48 | AB31: =IF(AND(X31>16,Y31>8,Z31>8),"P","F") -> P | AC31: 20 | AD31: 17 | AE31: 18 | AF31: =AC31+AD31+AE31 -> 55 | AG31: =IF(AND(AC31>16,AD31>8,AE31>8),"P","F") -> P
A32: 28 | B32: MD. ABDULLAH SHIKDER | C32: 30 | D32: 12 | E32: =C32+D32 -> 42 | F32: =IF(AND(C32>23,D32>9),"P","F") -> P | G32: 52 | H32: =IF(G32>32,"P","F") -> P | I32: 17 | J32: 13 | K32: 18 | L32: =I32+J32+K32 -> 48 | M32: =IF(AND(I32>16,J32>8,K32>8),"P","F") -> P | N32: 17 | O32: 8 | P32: 18 | Q32: =N32+O32+P32 -> 43 | R32: =IF(AND(N32>16,O32>8,P32>8),"P","F") -> F | S32: 18 | T32: 10 | U32: 18 | V32: =S32+T32+U32 -> 46 | W32: =IF(AND(S32>16,T32>8,U32>8),"P","F") -> P | X32: 20 | Y32: 10 | Z32: 18 | AA32: =X32+Y32+Z32 -> 48 | AB32: =IF(AND(X32>16,Y32>8,Z32>8),"P","F") -> P | AC32: 20 | AD32: 16 | AE32: 18 | AF32: =AC32+AD32+AE32 -> 54 | AG32: =IF(AND(AC32>16,AD32>8,AE32>8),"P","F") -> P
A33: 29 | B33: MANOS BISWAS | C33: 36 | D33: 12 | E33: =C33+D33 -> 48 | F33: =IF(AND(C33>23,D33>9),"P","F") -> P | G33: 35 | H33: =IF(G33>32,"P","F") -> P | I33: 4 | J33: 6 | K33: 18 | L33: =I33+J33+K33 -> 28 | M33: =IF(AND(I33>16,J33>8,K33>8),"P","F") -> F | N33: 1 | O33: 5 | P33: 18 | Q33: =N33+O33+P33 -> 24 | R33: =IF(AND(N33>16,O33>8,P33>8),"P","F") -> F | S33: 17 | T33: 16 | U33: 18 | V33: =S33+T33+U33 -> 51 | W33: =IF(AND(S33>16,T33>8,U33>8),"P","F") -> P | X33: 16 | Y33: 10 | Z33: 18 | AA33: =X33+Y33+Z33 -> 44 | AB33: =IF(AND(X33>16,Y33>8,Z33>8),"P","F") -> F | AC33: 10 | AD33: 18 | AE33: 18 | AF33: =AC33+AD33+AE33 -> 46 | AG33: =IF(AND(AC33>16,AD33>8,AE33>8),"P","F") -> F
A34: 30 | B34: ABDULLAH AL SAKIB | C34: 24 | D34: 20 | E34: =C34+D34 -> 44 | F34: =IF(AND(C34>23,D34>9),"P","F") -> P | G34: 45 | H34: =IF(G34>32,"P","F") -> P | I34: 4 | J34: 10 | K34: 18 | L34: =I34+J34+K34 -> 32 | M34: =IF(AND(I34>16,J34>8,K34>8),"P","F") -> F | N34: 3 | O34: 5 | P34: 18 | Q34: =N34+O34+P34 -> 26 | R34: =IF(AND(N34>16,O34>8,P34>8),"P","F") -> F | S34: 18 | T34: 13 | U34: 18 | V34: =S34+T34+U34 -> 49 | W34: =IF(AND(S34>16,T34>8,U34>8),"P","F") -> P | X34: 14 | Y34: 8 | Z34: 18 | AA34: =X34+Y34+Z34 -> 40 | AB34: =IF(AND(X34>16,Y34>8,Z34>8),"P","F") -> F | AC34: 19 | AD34: 13 | AE34: 18 | AF34: =AC34+AD34+AE34 -> 50 | AG34: =IF(AND(AC34>16,AD34>8,AE34>8),"P","F") -> P
A35: 31 | B35: MD. SHEIKH TANJIL ISLAM | C35: 17 | D35: 7 | E35: =C35+D35 -> 24 | F35: =IF(AND(C35>23,D35>9),"P","F") -> F | H35: =IF(G35>32,"P","F") -> F | I35: 0 | J35: 8 | K35: 18 | L35: =I35+J35+K35 -> 26 | M35: =IF(AND(I35>16,J35>8,K35>8),"P","F") -> F | Q35: =N35+O35+P35 -> 0 | R35: =IF(AND(N35>16,O35>8,P35>8),"P","F") -> F | V35: =S35+T35+U35 -> 0 | W35: =IF(AND(S35>16,T35>8,U35>8),"P","F") -> F | X35: 5 | Y35: 18 | Z35: 18 | AA35: =X35+Y35+Z35 -> 41 | AB35: =IF(AND(X35>16,Y35>8,Z35>8),"P","F") -> F | AF35: =AC35+AD35+AE35 -> 0 | AG35: =IF(AND(AC35>16,AD35>8,AE35>8),"P","F") -> F
A36: 33 | B36: BITHI TAMANNA | C36: 44 | D36: 14 | E36: =C36+D36 -> 58 | F36: =IF(AND(C36>23,D36>9),"P","F") -> P | H36: =IF(G36>32,"P","F") -> F | I36: 17 | J36: 12 | K36: 18 | L36: =I36+J36+K36 -> 47 | M36: =IF(AND(I36>16,J36>8,K36>8),"P","F") -> P | Q36: =N36+O36+P36 -> 0 | R36: =IF(AND(N36>16,O36>8,P36>8),"P","F") -> F | V36: =S36+T36+U36 -> 0 | W36: =IF(AND(S36>16,T36>8,U36>8),"P","F") -> F | X36: 18 | Y36: 11 | Z36: 18 | AA36: =X36+Y36+Z36 -> 47 | AB36: =IF(AND(X36>16,Y36>8,Z36>8),"P","F") -> P | AC36: 19 | AD36: 13 | AE36: 18 | AF36: =AC36+AD36+AE36 -> 50 | AG36: =IF(AND(AC36>16,AD36>8,AE36>8),"P","F") -> P
A37: 34 | B37: JANNATI AKTER | C37: 27 | D37: 6 | E37: =C37+D37 -> 33 | F37: =IF(AND(C37>23,D37>9),"P","F") -> F | G37: 45 | H37: =IF(G37>32,"P","F") -> P | I37: 3 | J37: 0 | K37: 18 | L37: =I37+J37+K37 -> 21 | M37: =IF(AND(I37>16,J37>8,K37>8),"P","F") -> F | N37: 32 | O37: 23 | P37: 18 | Q37: =N37+O37+P37 -> 73 | R37: =IF(AND(N37>16,O37>8,P37>8),"P","F") -> P | S37: 23 | T37: 15 | U37: 18 | V37: =S37+T37+U37 -> 56 | W37: =IF(AND(S37>16,T37>8,U37>8),"P","F") -> P | Z37: 18 | AA37: =X37+Y37+Z37 -> 18 | AB37: =IF(AND(X37>16,Y37>8,Z37>8),"P","F") -> F | AC37: 32 | AD37: 17 | AE37: 18 | AF37: =AC37+AD37+AE37 -> 67 | AG37: =IF(AND(AC37>16,AD37>8,AE37>8),"P","F") -> P
A38: 35 | B38: A. AL ABID | C38: 35 | D38: 17 | E38: =C38+D38 -> 52 | F38: =IF(AND(C38>23,D38>9),"P","F") -> P | G38: 36 | H38: =IF(G38>32,"P","F") -> P | I38: 18 | J38: 16 | K38: 18 | L38: =I38+J38+K38 -> 52 | M38: =IF(AND(I38>16,J38>8,K38>8),"P","F") -> P | N38: 11 | O38: 7 | P38: 18 | Q38: =N38+O38+P38 -> 36 | R38: =IF(AND(N38>16,O38>8,P38>8),"P","F") -> F | S38: 6 | T38: 10 | U38: 18 | V38: =S38+T38+U38 -> 34 | W38: =IF(AND(S38>16,T38>8,U38>8),"P","F") -> F | X38: 15 | Y38: 17 | Z38: 18 | AA38: =X38+Y38+Z38 -> 50 | AB38: =IF(AND(X38>16,Y38>8,Z38>8),"P","F") -> F | AC38: 18 | AD38: 9 | AE38: 18 | AF38: =AC38+AD38+AE38 -> 45 | AG38: =IF(AND(AC38>16,AD38>8,AE38>8),"P","F") -> P
A39: 36 | B39: SWARNA DAS OPI | C39: 35 | D39: 15 | E39: =C39+D39 -> 50 | F39: =IF(AND(C39>23,D39>9),"P","F") -> P | G39: 25 | H39: =IF(G39>32,"P","F") -> F | I39: 0 | J39: 10 | K39: 18 | L39: =I39+J39+K39 -> 28 | M39: =IF(AND(I39>16,J39>8,K39>8),"P","F") -> F | N39: 0 | O39: 6 | P39: 18 | Q39: =N39+O39+P39 -> 24 | R39: =IF(AND(N39>16,O39>8,P39>8),"P","F") -> F | S39: 6 | T39: 12 | U39: 18 | V39: =S39+T39+U39 -> 36 | W39: =IF(AND(S39>16,T39>8,U39>8),"P","F") -> F | X39: 14 | Y39: 7 | Z39: 18 | AA39: =X39+Y39+Z39 -> 39 | AB39: =IF(AND(X39>16,Y39>8,Z39>8),"P","F") -> F | AC39: 0 | AD39: 9 | AE39: 18 | AF39: =AC39+AD39+AE39 -> 27 | AG39: =IF(AND(AC39>16,AD39>8,AE39>8),"P","F") -> F
A40: 37 | B40: MD. SHAHARIA SADI | C40: 23 | D40: 12 | E40: =C40+D40 -> 35 | F40: =IF(AND(C40>23,D40>9),"P","F") -> F | G40: 20 | H40: =IF(G40>32,"P","F") -> F | I40: 13 | J40: 10 | K40: 18 | L40: =I40+J40+K40 -> 41 | M40: =IF(AND(I40>16,J40>8,K40>8),"P","F") -> F | N40: 6 | O40: 7 | P40: 18 | Q40: =N40+O40+P40 -> 31 | R40: =IF(AND(N40>16,O40>8,P40>8),"P","F") -> F | S40: 18 | T40: 12 | U40: 18 | V40: =S40+T40+U40 -> 48 | W40: =IF(AND(S40>16,T40>8,U40>8),"P","F") -> P | AA40: =X40+Y40+Z40 -> 0 | AB40: =IF(AND(X40>16,Y40>8,Z40>8),"P","F") -> F | AC40: 0 | AD40: 8 | AE40: 18 | AF40: =AC40+AD40+AE40 -> 26 | AG40: =IF(AND(AC40>16,AD40>8,AE40>8),"P","F") -> F
A41: 40 | B41: SHASANKO BISWAS | C41: 17 | D41: 7 | E41: =C41+D41 -> 24 | F41: =IF(AND(C41>23,D41>9),"P","F") -> F | G41: 6 | H41: =IF(G41>32,"P","F") -> F | I41: 0 | J41: 12 | K41: 18 | L41: =I41+J41+K41 -> 30 | M41: =IF(AND(I41>16,J41>8,K41>8),"P","F") -> F | N41: 0 | O41: 8 | P41: 18 | Q41: =N41+O41+P41 -> 26 | R41: =IF(AND(N41>16,O41>8,P41>8),"P","F") -> F | S41: 9 | T41: 12 | U41: 18 | V41: =S41+T41+U41 -> 39 | W41: =IF(AND(S41>16,T41>8,U41>8),"P","F") -> F | X41: 7 | Y41: 10 | Z41: 18 | AA41: =X41+Y41+Z41 -> 35 | AB41: =IF(AND(X41>16,Y41>8,Z41>8),"P","F") -> F | AC41: 0 | AD41: 9 | AE41: 18 | AF41: =AC41+AD41+AE41 -> 27 | AG41: =IF(AND(AC41>16,AD41>8,AE41>8),"P","F") -> F
A42: 41 | B42: MD. JABIR HOSEN | E42: =C42+D42 -> 0 | F42: =IF(AND(C42>23,D42>9),"P","F") -> F | H42: =IF(G42>32,"P","F") -> F | L42: =I42+J42+K42 -> 0 | M42: =IF(AND(I42>16,J42>8,K42>8),"P","F") -> F | Q42: =N42+O42+P42 -> 0 | R42: =IF(AND(N42>16,O42>8,P42>8),"P","F") -> F | V42: =S42+T42+U42 -> 0 | W42: =IF(AND(S42>16,T42>8,U42>8),"P","F") -> F | AA42: =X42+Y42+Z42 -> 0 | AB42: =IF(AND(X42>16,Y42>8,Z42>8),"P","F") -> F | AF42: =AC42+AD42+AE42 -> 0 | AG42: =IF(AND(AC42>16,AD42>8,AE42>8),"P","F") -> F
A43: 42 | B43: DIGANTA KUMAR MONDOL | C43: 31 | D43: 15 | E43: =C43+D43 -> 46 | F43: =IF(AND(C43>23,D43>9),"P","F") -> P | G43: 26 | H43: =IF(G43>32,"P","F") -> F | I43: 2 | J43: 13 | K43: 18 | L43: =I43+J43+K43 -> 33 | M43: =IF(AND(I43>16,J43>8,K43>8),"P","F") -> F | N43: 5 | O43: 10 | P43: 18 | Q43: =N43+O43+P43 -> 33 | R43: =IF(AND(N43>16,O43>8,P43>8),"P","F") -> F | S43: 8 | T43: 12 | U43: 18 | V43: =S43+T43+U43 -> 38 | W43: =IF(AND(S43>16,T43>8,U43>8),"P","F") -> F | X43: 10 | Y43: 7 | Z43: 18 | AA43: =X43+Y43+Z43 -> 35 | AB43: =IF(AND(X43>16,Y43>8,Z43>8),"P","F") -> F | AC43: 4 | AD43: 13 | AE43: 18 | AF43: =AC43+AD43+AE43 -> 35 | AG43: =IF(AND(AC43>16,AD43>8,AE43>8),"P","F") -> F
A44: 43 | B44: RABEYA BOSRI | C44: 49 | D44: 11 | E44: =C44+D44 -> 60 | F44: =IF(AND(C44>23,D44>9),"P","F") -> P | G44: 37 | H44: =IF(G44>32,"P","F") -> P | I44: 6 | J44: 5 | K44: 18 | L44: =I44+J44+K44 -> 29 | M44: =IF(AND(I44>16,J44>8,K44>8),"P","F") -> F | N44: 8 | O44: 8 | P44: 18 | Q44: =N44+O44+P44 -> 34 | R44: =IF(AND(N44>16,O44>8,P44>8),"P","F") -> F | S44: 17 | T44: 8 | U44: 18 | V44: =S44+T44+U44 -> 43 | W44: =IF(AND(S44>16,T44>8,U44>8),"P","F") -> F | X44: 32 | Y44: 12 | Z44: 18 | AA44: =X44+Y44+Z44 -> 62 | AB44: =IF(AND(X44>16,Y44>8,Z44>8),"P","F") -> P | AC44: 32 | AD44: 17 | AE44: 18 | AF44: =AC44+AD44+AE44 -> 67 | AG44: =IF(AND(AC44>16,AD44>8,AE44>8),"P","F") -> P
A45: 44 | B45: DIGANTO HALDER | C45: 27 | D45: 11 | E45: =C45+D45 -> 38 | F45: =IF(AND(C45>23,D45>9),"P","F") -> P | G45: 21 | H45: =IF(G45>32,"P","F") -> F | I45: 4 | J45: 10 | K45: 18 | L45: =I45+J45+K45 -> 32 | M45: =IF(AND(I45>16,J45>8,K45>8),"P","F") -> F | N45: 2 | O45: 6 | P45: 18 | Q45: =N45+O45+P45 -> 26 | R45: =IF(AND(N45>16,O45>8,P45>8),"P","F") -> F | S45: 5 | T45: 11 | U45: 18 | V45: =S45+T45+U45 -> 34 | W45: =IF(AND(S45>16,T45>8,U45>8),"P","F") -> F | X45: 14 | Y45: 7 | Z45: 18 | AA45: =X45+Y45+Z45 -> 39 | AB45: =IF(AND(X45>16,Y45>8,Z45>8),"P","F") -> F | AC45: 9 | AD45: 11 | AE45: 18 | AF45: =AC45+AD45+AE45 -> 38 | AG45: =IF(AND(AC45>16,AD45>8,AE45>8),"P","F") -> F
A46: 45 | B46: MD. TOWHID HOWLADER | C46: 36 | D46: 17 | E46: =C46+D46 -> 53 | F46: =IF(AND(C46>23,D46>9),"P","F") -> P | G46: 49 | H46: =IF(G46>32,"P","F") -> P | I46: 17 | J46: 14 | K46: 18 | L46: =I46+J46+K46 -> 49 | M46: =IF(AND(I46>16,J46>8,K46>8),"P","F") -> P | N46: 22 | O46: 9 | P46: 18 | Q46: =N46+O46+P46 -> 49 | R46: =IF(AND(N46>16,O46>8,P46>8),"P","F") -> P | S46: 19 | T46: 13 | U46: 18 | V46: =S46+T46+U46 -> 50 | W46: =IF(AND(S46>16,T46>8,U46>8),"P","F") -> P | X46: 31 | Y46: 19 | Z46: 18 | AA46: =X46+Y46+Z46 -> 68 | AB46: =IF(AND(X46>16,Y46>8,Z46>8),"P","F") -> P | AC46: 6 | AD46: 13 | AE46: 18 | AF46: =AC46+AD46+AE46 -> 37 | AG46: =IF(AND(AC46>16,AD46>8,AE46>8),"P","F") -> F
A47: 46 | B47: PRONOY OJHA | C47: 6 | D47: 19 | E47: =C47+D47 -> 25 | F47: =IF(AND(C47>23,D47>9),"P","F") -> F | G47: 39 | H47: =IF(G47>32,"P","F") -> P | I47: 11 | J47: 9 | K47: 18 | L47: =I47+J47+K47 -> 38 | M47: =IF(AND(I47>16,J47>8,K47>8),"P","F") -> F | N47: 5 | O47: 5 | P47: 18 | Q47: =N47+O47+P47 -> 28 | R47: =IF(AND(N47>16,O47>8,P47>8),"P","F") -> F | S47: 6 | T47: 10 | U47: 18 | V47: =S47+T47+U47 -> 34 | W47: =IF(AND(S47>16,T47>8,U47>8),"P","F") -> F | X47: 14 | Y47: 11 | Z47: 18 | AA47: =X47+Y47+Z47 -> 43 | AB47: =IF(AND(X47>16,Y47>8,Z47>8),"P","F") -> F | AC47: 2 | AD47: 9 | AE47: 18 | AF47: =AC47+AD47+AE47 -> 29 | AG47: =IF(AND(AC47>16,AD47>8,AE47>8),"P","F") -> F
A48: 47 | B48: MD. EASIN TAMAL | C48: 31 | D48: 19 | E48: =C48+D48 -> 50 | F48: =IF(AND(C48>23,D48>9),"P","F") -> P | G48: 33 | H48: =IF(G48>32,"P","F") -> P | I48: 17 | J48: 12 | K48: 18 | L48: =I48+J48+K48 -> 47 | M48: =IF(AND(I48>16,J48>8,K48>8),"P","F") -> P | N48: 20 | O48: 12 | P48: 18 | Q48: =N48+O48+P48 -> 50 | R48: =IF(AND(N48>16,O48>8,P48>8),"P","F") -> P | S48: 19 | T48: 12 | U48: 18 | V48: =S48+T48+U48 -> 49 | W48: =IF(AND(S48>16,T48>8,U48>8),"P","F") -> P | X48: 18 | Y48: 10 | Z48: 18 | AA48: =X48+Y48+Z48 -> 46 | AB48: =IF(AND(X48>16,Y48>8,Z48>8),"P","F") -> P | AC48: 5 | AD48: 20 | AE48: 18 | AF48: =AC48+AD48+AE48 -> 43 | AG48: =IF(AND(AC48>16,AD48>8,AE48>8),"P","F") -> F
A49: 48 | B49: MD. LIAKOT HOSSAIN BAPPY | C49: 42 | D49: 20 | E49: =C49+D49 -> 62 | F49: =IF(AND(C49>23,D49>9),"P","F") -> P | G49: 55 | H49: =IF(G49>32,"P","F") -> P | I49: 13 | J49: 14 | K49: 18 | L49: =I49+J49+K49 -> 45 | M49: =IF(AND(I49>16,J49>8,K49>8),"P","F") -> F | N49: 1 | O49: 13 | P49: 18 | Q49: =N49+O49+P49 -> 32 | R49: =IF(AND(N49>16,O49>8,P49>8),"P","F") -> F | S49: 19 | T49: 13 | U49: 18 | V49: =S49+T49+U49 -> 50 | W49: =IF(AND(S49>16,T49>8,U49>8),"P","F") -> P | X49: 21 | Y49: 12 | Z49: 18 | AA49: =X49+Y49+Z49 -> 51 | AB49: =IF(AND(X49>16,Y49>8,Z49>8),"P","F") -> P | AC49: 6 | AD49: 15 | AE49: 18 | AF49: =AC49+AD49+AE49 -> 39 | AG49: =IF(AND(AC49>16,AD49>8,AE49>8),"P","F") -> F
A50: 50 | B50: SADHIN HALDER | C50: 29 | D50: 10 | E50: =C50+D50 -> 39 | F50: =IF(AND(C50>23,D50>9),"P","F") -> P | G50: 24 | H50: =IF(G50>32,"P","F") -> F | I50: 4 | J50: 14 | K50: 18 | L50: =I50+J50+K50 -> 36 | M50: =IF(AND(I50>16,J50>8,K50>8),"P","F") -> F | N50: 8 | O50: 5 | P50: 18 | Q50: =N50+O50+P50 -> 31 | R50: =IF(AND(N50>16,O50>8,P50>8),"P","F") -> F | S50: 10 | T50: 10 | U50: 18 | V50: =S50+T50+U50 -> 38 | W50: =IF(AND(S50>16,T50>8,U50>8),"P","F") -> F | X50: 18 | Y50: 10 | Z50: 18 | AA50: =X50+Y50+Z50 -> 46 | AB50: =IF(AND(X50>16,Y50>8,Z50>8),"P","F") -> P | AC50: 6 | AD50: 12 | AE50: 18 | AF50: =AC50+AD50+AE50 -> 36 | AG50: =IF(AND(AC50>16,AD50>8,AE50>8),"P","F") -> F
A51: 51 | B51: SURJO PAUL | C51: 33 | D51: 15 | E51: =C51+D51 -> 48 | F51: =IF(AND(C51>23,D51>9),"P","F") -> P | G51: 33 | H51: =IF(G51>32,"P","F") -> P | I51: 11 | J51: 14 | K51: 18 | L51: =I51+J51+K51 -> 43 | M51: =IF(AND(I51>16,J51>8,K51>8),"P","F") -> F | N51: 13 | O51: 7 | P51: 18 | Q51: =N51+O51+P51 -> 38 | R51: =IF(AND(N51>16,O51>8,P51>8),"P","F") -> F | S51: 5 | T51: 13 | U51: 18 | V51: =S51+T51+U51 -> 36 | W51: =IF(AND(S51>16,T51>8,U51>8),"P","F") -> F | X51: 22 | Y51: 10 | Z51: 18 | AA51: =X51+Y51+Z51 -> 50 | AB51: =IF(AND(X51>16,Y51>8,Z51>8),"P","F") -> P | AC51: 3 | AD51: 13 | AE51: 18 | AF51: =AC51+AD51+AE51 -> 34 | AG51: =IF(AND(AC51>16,AD51>8,AE51>8),"P","F") -> F
A52: 52 | B52: TINNI | C52: 43 | D52: 14 | E52: =C52+D52 -> 57 | F52: =IF(AND(C52>23,D52>9),"P","F") -> P | G52: 30 | H52: =IF(G52>32,"P","F") -> F | I52: 25 | J52: 12 | K52: 18 | L52: =I52+J52+K52 -> 55 | M52: =IF(AND(I52>16,J52>8,K52>8),"P","F") -> P | N52: 17 | O52: 11 | P52: 18 | Q52: =N52+O52+P52 -> 46 | R52: =IF(AND(N52>16,O52>8,P52>8),"P","F") -> P | S52: 36 | T52: 9 | U52: 18 | V52: =S52+T52+U52 -> 63 | W52: =IF(AND(S52>16,T52>8,U52>8),"P","F") -> P | X52: 38 | Y52: 12 | Z52: 18 | AA52: =X52+Y52+Z52 -> 68 | AB52: =IF(AND(X52>16,Y52>8,Z52>8),"P","F") -> P | AC52: 32 | AD52: 18 | AE52: 18 | AF52: =AC52+AD52+AE52 -> 68 | AG52: =IF(AND(AC52>16,AD52>8,AE52>8),"P","F") -> P
A53: 55 | B53: AVIK SAHA | C53: 5 | D53: 17 | E53: =C53+D53 -> 22 | F53: =IF(AND(C53>23,D53>9),"P","F") -> F | G53: 33 | H53: =IF(G53>32,"P","F") -> P | I53: 17 | J53: 10 | K53: 18 | L53: =I53+J53+K53 -> 45 | M53: =IF(AND(I53>16,J53>8,K53>8),"P","F") -> P | N53: 8 | O53: 10 | P53: 18 | Q53: =N53+O53+P53 -> 36 | R53: =IF(AND(N53>16,O53>8,P53>8),"P","F") -> F | S53: 19 | T53: 10 | U53: 18 | V53: =S53+T53+U53 -> 47 | W53: =IF(AND(S53>16,T53>8,U53>8),"P","F") -> P | X53: 17 | Y53: 9 | Z53: 18 | AA53: =X53+Y53+Z53 -> 44 | AB53: =IF(AND(X53>16,Y53>8,Z53>8),"P","F") -> P | AC53: 1 | AD53: 9 | AE53: 18 | AF53: =AC53+AD53+AE53 -> 28 | AG53: =IF(AND(AC53>16,AD53>8,AE53>8),"P","F") -> F
A54: 56 | B54: SUBARNA JOYTI BAWALI | C54: 49 | D54: 16 | E54: =C54+D54 -> 65 | F54: =IF(AND(C54>23,D54>9),"P","F") -> P | G54: 50 | H54: =IF(G54>32,"P","F") -> P | I54: 20 | J54: 16 | K54: 18 | L54: =I54+J54+K54 -> 54 | M54: =IF(AND(I54>16,J54>8,K54>8),"P","F") -> P | N54: 32 | O54: 15 | P54: 18 | Q54: =N54+O54+P54 -> 65 | R54: =IF(AND(N54>16,O54>8,P54>8),"P","F") -> P | S54: 37 | T54: 11 | U54: 18 | V54: =S54+T54+U54 -> 66 | W54: =IF(AND(S54>16,T54>8,U54>8),"P","F") -> P | X54: 37 | Y54: 18 | Z54: 18 | AA54: =X54+Y54+Z54 -> 73 | AB54: =IF(AND(X54>16,Y54>8,Z54>8),"P","F") -> P | AC54: 17 | AD54: 16 | AE54: 18 | AF54: =AC54+AD54+AE54 -> 51 | AG54: =IF(AND(AC54>16,AD54>8,AE54>8),"P","F") -> P
... A60: 62 | B60: REDWAN AHMED | C60: 41 | D60: 19 | E60: =C60+D60 -> 60 | F60: =IF(AND(C60>23,D60>9),"P","F") -> P | G60: 62 | H60: =IF(G60>32,"P","F") -> P | I60: 14 | J60: 14 | K60: 18 | L60: =I60+J60+K60 -> 46 | M60: =IF(AND(I60>16,J60>8,K60>8),"P","F") -> F | N60: 23 | O60: 13 | P60: 18 | Q60: =N60+O60+P60 -> 54 | R60: =IF(AND(N60>16,O60>8,P60>8),"P","F") -> P | S60: 30 | T60: 9 | U60: 18 | V60: =S60+T60+U60 -> 57 | W60: =IF(AND(S60>16,T60>8,U60>8),"P","F") -> P | X60: 18 | Y60: 11 | Z60: 18 | AA60: =X60+Y60+Z60 -> 47 | AB60: =IF(AND(X60>16,Y60>8,Z60>8),"P","F") -> P | AC60: 21 | AD60: 11 | AE60: 18 | AF60: =AC60+AD60+AE60 -> 50 | AG60: =IF(AND(AC60>16,AD60>8,AE60>8),"P","F") -> P
A61: 63 | B61: MAHEYAN ISLAM | C61: 4 | D61: 8 | E61: =C61+D61 -> 12 | F61: =IF(AND(C61>23,D61>9),"P","F") -> F | H61: =IF(G61>32,"P","F") -> F | L61: =I61+J61+K61 -> 0 | M61: =IF(AND(I61>16,J61>8,K61>8),"P","F") -> F | Q61: =N61+O61+P61 -> 0 | R61: =IF(AND(N61>16,O61>8,P61>8),"P","F") -> F | V61: =S61+T61+U61 -> 0 | W61: =IF(AND(S61>16,T61>8,U61>8),"P","F") -> F | AA61: =X61+Y61+Z61 -> 0 | AB61: =IF(AND(X61>16,Y61>8,Z61>8),"P","F") -> F | AF61: =AC61+AD61+AE61 -> 0 | AG61: =IF(AND(AC61>16,AD61>8,AE61>8),"P","F") -> F
A62: 64 | B62: AJMAN HOSSAN | C62: 40 | D62: 14 | E62: =C62+D62 -> 54 | F62: =IF(AND(C62>23,D62>9),"P","F") -> P | G62: 43 | H62: =IF(G62>32,"P","F") -> P | I62: 26 | J62: 15 | K62: 18 | L62: =I62+J62+K62 -> 59 | M62: =IF(AND(I62>16,J62>8,K62>8),"P","F") -> P | N62: 23 | O62: 11 | P62: 18 | Q62: =N62+O62+P62 -> 52 | R62: =IF(AND(N62>16,O62>8,P62>8),"P","F") -> P | S62: 40 | T62: 18 | U62: 18 | V62: =S62+T62+U62 -> 76 | W62: =IF(AND(S62>16,T62>8,U62>8),"P","F") -> P | X62: 24 | Y62: 7 | Z62: 18 | AA62: =X62+Y62+Z62 -> 49 | AB62: =IF(AND(X62>16,Y62>8,Z62>8),"P","F") -> F | AC62: 29 | AD62: 12 | AE62: 18 | AF62: =AC62+AD62+AE62 -> 59 | AG62: =IF(AND(AC62>16,AD62>8,AE62>8),"P","F") -> P
A63: 65 | B63: MD. AHAD TALUKDER | C63: 37 | D63: 15 | E63: =C63+D63 -> 52 | F63: =IF(AND(C63>23,D63>9),"P","F") -> P | G63: 37 | H63: =IF(G63>32,"P","F") -> P | I63: 18 | J63: 16 | K63: 18 | L63: =I63+J63+K63 -> 52 | M63: =IF(AND(I63>16,J63>8,K63>8),"P","F") -> P | N63: 4 | O63: 8 | P63: 18 | Q63: =N63+O63+P63 -> 30 | R63: =IF(AND(N63>16,O63>8,P63>8),"P","F") -> F | S63: 17 | T63: 8 | U63: 18 | V63: =S63+T63+U63 -> 43 | W63: =IF(AND(S63>16,T63>8,U63>8),"P","F") -> F | X63: 16 | Y63: 8 | Z63: 18 | AA63: =X63+Y63+Z63 -> 42 | AB63: =IF(AND(X63>16,Y63>8,Z63>8),"P","F") -> F | AC63: 17 | AD63: 10 | AE63: 18 | AF63: =AC63+AD63+AE63 -> 45 | AG63: =IF(AND(AC63>16,AD63>8,AE63>8),"P","F") -> P
A64: 66 | B64: MD. ARAFAT HOSSAIN JAMADDAR | C64: 34 | D64: 17 | E64: =C64+D64 -> 51 | F64: =IF(AND(C64>23,D64>9),"P","F") -> P | G64: 46 | H64: =IF(G64>32,"P","F") -> P | I64: 14 | J64: 13 | K64: 18 | L64: =I64+J64+K64 -> 45 | M64: =IF(AND(I64>16,J64>8,K64>8),"P","F") -> F | N64: 3 | O64: 10 | P64: 18 | Q64: =N64+O64+P64 -> 31 | R64: =IF(AND(N64>16,O64>8,P64>8),"P","F") -> F | S64: 17 | T64: 10 | U64: 18 | V64: =S64+T64+U64 -> 45 | W64: =IF(AND(S64>16,T64>8,U64>8),"P","F") -> P | X64: 21 | Y64: 10 | Z64: 18 | AA64: =X64+Y64+Z64 -> 49 | AB64: =IF(AND(X64>16,Y64>8,Z64>8),"P","F") -> P | AC64: 17 | AD64: 13 | AE64: 18 | AF64: =AC64+AD64+AE64 -> 48 | AG64: =IF(AND(AC64>16,AD64>8,AE64>8),"P","F") -> P
A65: 67 | B65: AMMAR NIYAM | C65: 42 | D65: 15 | E65: =C65+D65 -> 57 | F65: =IF(AND(C65>23,D65>9),"P","F") -> P | G65: 49 | H65: =IF(G65>32,"P","F") -> P | I65: 24 | J65: 19 | K65: 18 | L65: =I65+J65+K65 -> 61 | M65: =IF(AND(I65>16,J65>8,K65>8),"P","F") -> P | N65: 8 | O65: 8 | P65: 18 | Q65: =N65+O65+P65 -> 34 | R65: =IF(AND(N65>16,O65>8,P65>8),"P","F") -> F | S65: 20 | T65: 16 | U65: 18 | V65: =S65+T65+U65 -> 54 | W65: =IF(AND(S65>16,T65>8,U65>8),"P","F") -> P | X65: 18 | Y65: 13 | Z65: 18 | AA65: =X65+Y65+Z65 -> 49 | AB65: =IF(AND(X65>16,Y65>8,Z65>8),"P","F") -> P | AC65: 20 | AD65: 8 | AE65: 18 | AF65: =AC65+AD65+AE65 -> 46 | AG65: =IF(AND(AC65>16,AD65>8,AE65>8),"P","F") -> F
A66: 68 | B66: FAYEZ KHAN | C66: 41 | D66: 15 | E66: =C66+D66 -> 56 | F66: =IF(AND(C66>23,D66>9),"P","F") -> P | G66: 46 | H66: =IF(G66>32,"P","F") -> P | I66: 27 | J66: 17 | K66: 18 | L66: =I66+J66+K66 -> 62 | M66: =IF(AND(I66>16,J66>8,K66>8),"P","F") -> P | N66: 3 | O66: 7 | P66: 18 | Q66: =N66+O66+P66 -> 28 | R66: =IF(AND(N66>16,O66>8,P66>8),"P","F") -> F | S66: 17 | T66: 11 | U66: 18 | V66: =S66+T66+U66 -> 46 | W66: =IF(AND(S66>16,T66>8,U66>8),"P","F") -> P | X66: 17 | Y66: 14 | Z66: 18 | AA66: =X66+Y66+Z66 -> 49 | AB66: =IF(AND(X66>16,Y66>8,Z66>8),"P","F") -> P | AC66: 17 | AD66: 10 | AE66: 18 | AF66: =AC66+AD66+AE66 -> 45 | AG66: =IF(AND(AC66>16,AD66>8,AE66>8),"P","F") -> P
A67: 69 | B67: SHARIA LABIB | C67: 33 | D67: 20 | E67: =C67+D67 -> 53 | F67: =IF(AND(C67>23,D67>9),"P","F") -> P | G67: 33 | H67: =IF(G67>32,"P","F") -> P | I67: 24 | J67: 18 | K67: 18 | L67: =I67+J67+K67 -> 60 | M67: =IF(AND(I67>16,J67>8,K67>8),"P","F") -> P | N67: 10 | O67: 11 | P67: 18 | Q67: =N67+O67+P67 -> 39 | R67: =IF(AND(N67>16,O67>8,P67>8),"P","F") -> F | V67: =S67+T67+U67 -> 0 | W67: =IF(AND(S67>16,T67>8,U67>8),"P","F") -> F | X67: 12 | Y67: 9 | Z67: 18 | AA67: =X67+Y67+Z67 -> 39 | AB67: =IF(AND(X67>16,Y67>8,Z67>8),"P","F") -> F | AC67: 17 | AD67: 11 | AE67: 18 | AF67: =AC67+AD67+AE67 -> 46 | AG67: =IF(AND(AC67>16,AD67>8,AE67>8),"P","F") -> P
A68: 70 | B68: MD JUBAYER KHAN | C68: 35 | D68: 15 | E68: =C68+D68 -> 50 | F68: =IF(AND(C68>23,D68>9),"P","F") -> P | G68: 22 | H68: =IF(G68>32,"P","F") -> F | I68: 10 | J68: 17 | K68: 18 | L68: =I68+J68+K68 -> 45 | M68: =IF(AND(I68>16,J68>8,K68>8),"P","F") -> F | N68: 0 | O68: 5 | P68: 18 | Q68: =N68+O68+P68 -> 23 | R68: =IF(AND(N68>16,O68>8,P68>8),"P","F") -> F | S68: 3 | T68: 10 | U68: 18 | V68: =S68+T68+U68 -> 31 | W68: =IF(AND(S68>16,T68>8,U68>8),"P","F") -> F | X68: 13 | Y68: 14 | Z68: 18 | AA68: =X68+Y68+Z68 -> 45 | AB68: =IF(AND(X68>16,Y68>8,Z68>8),"P","F") -> F | AC68: 6 | AD68: 11 | AE68: 18 | AF68: =AC68+AD68+AE68 -> 35 | AG68: =IF(AND(AC68>16,AD68>8,AE68>8),"P","F") -> F
A69: 72 | B69: MD. SEAM KHAN | C69: 38 | D69: 16 | E69: =C69+D69 -> 54 | F69: =IF(AND(C69>23,D69>9),"P","F") -> P | G69: 34 | H69: =IF(G69>32,"P","F") -> P | I69: 12 | J69: 17 | K69: 18 | L69: =I69+J69+K69 -> 47 | M69: =IF(AND(I69>16,J69>8,K69>8),"P","F") -> F | N69: 0 | O69: 6 | P69: 18 | Q69: =N69+O69+P69 -> 24 | R69: =IF(AND(N69>16,O69>8,P69>8),"P","F") -> F | S69: 6 | T69: 10 | U69: 18 | V69: =S69+T69+U69 -> 34 | W69: =IF(AND(S69>16,T69>8,U69>8),"P","F") -> F | X69: 22 | Y69: 20 | Z69: 18 | AA69: =X69+Y69+Z69 -> 60 | AB69: =IF(AND(X69>16,Y69>8,Z69>8),"P","F") -> P | AC69: 17 | AD69: 12 | AE69: 18 | AF69: =AC69+AD69+AE69 -> 47 | AG69: =IF(AND(AC69>16,AD69>8,AE69>8),"P","F") -> P
A70: 73 | B70: PALLOB MONDOL | C70: 36 | D70: 17 | E70: =C70+D70 -> 53 | F70: =IF(AND(C70>23,D70>9),"P","F") -> P | G70: 34 | H70: =IF(G70>32,"P","F") -> P | I70: 18 | J70: 16 | K70: 18 | L70: =I70+J70+K70 -> 52 | M70: =IF(AND(I70>16,J70>8,K70>8),"P","F") -> P | N70: 0 | O70: 9 | P70: 18 | Q70: =N70+O70+P70 -> 27 | R70: =IF(AND(N70>16,O70>8,P70>8),"P","F") -> F | S70: 10 | T70: 11 | U70: 18 | V70: =S70+T70+U70 -> 39 | W70: =IF(AND(S70>16,T70>8,U70>8),"P","F") -> F | X70: 24 | Y70: 19 | Z70: 18 | AA70: =X70+Y70+Z70 -> 61 | AB70: =IF(AND(X70>16,Y70>8,Z70>8),"P","F") -> P | AC70: 12 | AD70: 14 | AE70: 18 | AF70: =AC70+AD70+AE70 -> 44 | AG70: =IF(AND(AC70>16,AD70>8,AE70>8),"P","F") -> F
A71: 74 | B71: MD. NAIMUL | C71: 9 | D71: 6 | E71: =C71+D71 -> 15 | F71: =IF(AND(C71>23,D71>9),"P","F") -> F | G71: 18 | H71: =IF(G71>32,"P","F") -> F | I71: 0 | J71: 8 | K71: 18 | L71: =I71+J71+K71 -> 26 | M71: =IF(AND(I71>16,J71>8,K71>8),"P","F") -> F | N71: 0 | O71: 4 | P71: 18 | Q71: =N71+O71+P71 -> 22 | R71: =IF(AND(N71>16,O71>8,P71>8),"P","F") -> F | S71: 0 | T71: 15 | U71: 18 | V71: =S71+T71+U71 -> 33 | W71: =IF(AND(S71>16,T71>8,U71>8),"P","F") -> F | AA71: =X71+Y71+Z71 -> 0 | AB71: =IF(AND(X71>16,Y71>8,Z71>8),"P","F") -> F | AC71: 0 | AD71: 11 | AE71: 18 | AF71: =AC71+AD71+AE71 -> 29 | AG71: =IF(AND(AC71>16,AD71>8,AE71>8),"P","F") -> F
A72: 75 | B72: MD.AMINUL | C72: 26 | D72: 20 | E72: =C72+D72 -> 46 | F72: =IF(AND(C72>23,D72>9),"P","F") -> P | G72: 21 | H72: =IF(G72>32,"P","F") -> F | I72: 5 | J72: 10 | K72: 18 | L72: =I72+J72+K72 -> 33 | M72: =IF(AND(I72>16,J72>8,K72>8),"P","F") -> F | N72: 2 | O72: 12 | P72: 18 | Q72: =N72+O72+P72 -> 32 | R72: =IF(AND(N72>16,O72>8,P72>8),"P","F") -> F | S72: 17 | T72: 12 | U72: 18 | V72: =S72+T72+U72 -> 47 | W72: =IF(AND(S72>16,T72>8,U72>8),"P","F") -> P | X72: 14 | Y72: 11 | Z72: 18 | AA72: =X72+Y72+Z72 -> 43 | AB72: =IF(AND(X72>16,Y72>8,Z72>8),"P","F") -> F | AC72: 2 | AD72: 11 | AE72: 18 | AF72: =AC72+AD72+AE72 -> 31 | AG72: =IF(AND(AC72>16,AD72>8,AE72>8),"P","F") -> F
A73: 77 | B73: LIKSON SAHA | E73: =C73+D73 -> 0 | F73: =IF(AND(C73>23,D73>9),"P","F") -> F | H73: =IF(G73>32,"P","F") -> F | L73: =I73+J73+K73 -> 0 | M73: =IF(AND(I73>16,J73>8,K73>8),"P","F") -> F | Q73: =N73+O73+P73 -> 0 | R73: =IF(AND(N73>16,O73>8,P73>8),"P","F") -> F | V73: =S73+T73+U73 -> 0 | W73: =IF(AND(S73>16,T73>8,U73>8),"P","F") -> F | AA73: =X73+Y73+Z73 -> 0 | AB73: =IF(AND(X73>16,Y73>8,Z73>8),"P","F") -> F | AF73: =AC73+AD73+AE73 -> 0 | AG73: =IF(AND(AC73>16,AD73>8,AE73>8),"P","F") -> F
A74: 78 | B74: AMIT MAJUMDER | C74: 34 | D74: 17 | E74: =C74+D74 -> 51 | F74: =IF(AND(C74>23,D74>9),"P","F") -> P | G74: 29 | H74: =IF(G74>32,"P","F") -> F | I74: 10 | J74: 11 | K74: 18 | L74: =I74+J74+K74 -> 39 | M74: =IF(AND(I74>16,J74>8,K74>8),"P","F") -> F | N74: 9 | O74: 4 | P74: 18 | Q74: =N74+O74+P74 -> 31 | R74: =IF(AND(N74>16,O74>8,P74>8),"P","F") -> F | S74: 17 | T74: 11 | U74: 18 | V74: =S74+T74+U74 -> 46 | W74: =IF(AND(S74>16,T74>8,U74>8),"P","F") -> P | X74: 23 | Y74: 16 | Z74: 18 | AA74: =X74+Y74+Z74 -> 57 | AB74: =IF(AND(X74>16,Y74>8,Z74>8),"P","F") -> P | AC74: 7 | AD74: 11 | AE74: 18 | AF74: =AC74+AD74+AE74 -> 36 | AG74: =IF(AND(AC74>16,AD74>8,AE74>8),"P","F") -> F
A75: 79 | B75: MD. FOYSAL KHAN | C75: 41 | D75: 17 | E75: =C75+D75 -> 58 | F75: =IF(AND(C75>23,D75>9),"P","F") -> P | G75: 34 | H75: =IF(G75>32,"P","F") -> P | I75: 3 | J75: 14 | K75: 18 | L75: =I75+J75+K75 -> 35 | M75: =IF(AND(I75>16,J75>8,K75>8),"P","F") -> F | N75: 6 | O75: 7 | P75: 18 | Q75: =N75+O75+P75 -> 31 | R75: =IF(AND(N75>16,O75>8,P75>8),"P","F") -> F | S75: 17 | T75: 14 | U75: 18 | V75: =S75+T75+U75 -> 49 | W75: =IF(AND(S75>16,T75>8,U75>8),"P","F") -> P | X75: 23 | Y75: 14 | Z75: 18 | AA75: =X75+Y75+Z75 -> 55 | AB75: =IF(AND(X75>16,Y75>8,Z75>8),"P","F") -> P | AC75: 1 | AD75: 12 | AE75: 18 | AF75: =AC75+AD75+AE75 -> 31 | AG75: =IF(AND(AC75>16,AD75>8,AE75>8),"P","F") -> F
A76: 80 | B76: FARHANA AKTER | C76: 52 | D76: 20 | E76: =C76+D76 -> 72 | F76: =IF(AND(C76>23,D76>9),"P","F") -> P | G76: 44 | H76: =IF(G76>32,"P","F") -> P | I76: 37 | J76: 18 | K76: 18 | L76: =I76+J76+K76 -> 73 | M76: =IF(AND(I76>16,J76>8,K76>8),"P","F") -> P | N76: 27 | O76: 10 | P76: 18 | Q76: =N76+O76+P76 -> 55 | R76: =IF(AND(N76>16,O76>8,P76>8),"P","F") -> P | S76: 26 | T76: 15 | U76: 18 | V76: =S76+T76+U76 -> 59 | W76: =IF(AND(S76>16,T76>8,U76>8),"P","F") -> P | X76: 34 | Y76: 16 | Z76: 18 | AA76: =X76+Y76+Z76 -> 68 | AB76: =IF(AND(X76>16,Y76>8,Z76>8),"P","F") -> P | AC76: 25 | AD76: 16 | AE76: 18 | AF76: =AC76+AD76+AE76 -> 59 | AG76: =IF(AND(AC76>16,AD76>8,AE76>8),"P","F") -> P
A77: 81 | B77: MD. SHAFIQUL ISLAM | C77: 36 | D77: 10 | E77: =C77+D77 -> 46 | F77: =IF(AND(C77>23,D77>9),"P","F") -> P | G77: 20 | H77: =IF(G77>32,"P","F") -> F | I77: 3 | J77: 9 | K77: 18 | L77: =I77+J77+K77 -> 30 | M77: =IF(AND(I77>16,J77>8,K77>8),"P","F") -> F | N77: 19 | O77: 10 | P77: 18 | Q77: =N77+O77+P77 -> 47 | R77: =IF(AND(N77>16,O77>8,P77>8),"P","F") -> P | S77: 6 | T77: 8 | U77: 18 | V77: =S77+T77+U77 -> 32 | W77: =IF(AND(S77>16,T77>8,U77>8),"P","F") -> F | X77: 6 | Y77: 10 | Z77: 18 | AA77: =X77+Y77+Z77 -> 34 | AB77: =IF(AND(X77>16,Y77>8,Z77>8),"P","F") -> F | AC77: 10 | AD77: 12 | AE77: 18 | AF77: =AC77+AD77+AE77 -> 40 | AG77: =IF(AND(AC77>16,AD77>8,AE77>8),"P","F") -> F
A78: 83 | B78: RAHAJUL ISLAM | C78: 43 | D78: 12 | E78: =C78+D78 -> 55 | F78: =IF(AND(C78>23,D78>9),"P","F") -> P | G78: 33 | H78: =IF(G78>32,"P","F") -> P | I78: 5 | J78: 14 | K78: 18 | L78: =I78+J78+K78 -> 37 | M78: =IF(AND(I78>16,J78>8,K78>8),"P","F") -> F | N78: 7 | O78: 17 | P78: 18 | Q78: =N78+O78+P78 -> 42 | R78: =IF(AND(N78>16,O78>8,P78>8),"P","F") -> F | S78: 8 | T78: 12 | U78: 18 | V78: =S78+T78+U78 -> 38 | W78: =IF(AND(S78>16,T78>8,U78>8),"P","F") -> F | X78: 6 | Y78: 16 | Z78: 18 | AA78: =X78+Y78+Z78 -> 40 | AB78: =IF(AND(X78>16,Y78>8,Z78>8),"P","F") -> F | AC78: 9 | AD78: 13 | AE78: 18 | AF78: =AC78+AD78+AE78 -> 40 | AG78: =IF(AND(AC78>16,AD78>8,AE78>8),"P","F") -> F
A79: 84 | B79: MD YASSIN ARAFAT DALIM | C79: 41 | D79: 14 | E79: =C79+D79 -> 55 | F79: =IF(AND(C79>23,D79>9),"P","F") -> P | G79: 35 | H79: =IF(G79>32,"P","F") -> P | I79: 9 | J79: 15 | K79: 18 | L79: =I79+J79+K79 -> 42 | M79: =IF(AND(I79>16,J79>8,K79>8),"P","F") -> F | N79: 5 | O79: 12 | P79: 18 | Q79: =N79+O79+P79 -> 35 | R79: =IF(AND(N79>16,O79>8,P79>8),"P","F") -> F | S79: 1 | T79: 13 | U79: 18 | V79: =S79+T79+U79 -> 32 | W79: =IF(AND(S79>16,T79>8,U79>8),"P","F") -> F | X79: 15 | Y79: 12 | Z79: 18 | AA79: =X79+Y79+Z79 -> 45 | AB79: =IF(AND(X79>16,Y79>8,Z79>8),"P","F") -> F | AC79: 4 | AD79: 11 | AE79: 18 | AF79: =AC79+AD79+AE79 -> 33 | AG79: =IF(AND(AC79>16,AD79>8,AE79>8),"P","F") -> F
A80: 85 | B80: MARINA AKTER | E80: =C80+D80 -> 0 | F80: =IF(AND(C80>23,D80>9),"P","F") -> F | H80: =IF(G80>32,"P","F") -> F | L80: =I80+J80+K80 -> 0 | M80: =IF(AND(I80>16,J80>8,K80>8),"P","F") -> F | Q80: =N80+O80+P80 -> 0 | R80: =IF(AND(N80>16,O80>8,P80>8),"P","F") -> F | V80: =S80+T80+U80 -> 0 | W80: =IF(AND(S80>16,T80>8,U80>8),"P","F") -> F | AA80: =X80+Y80+Z80 -> 0 | AB80: =IF(AND(X80>16,Y80>8,Z80>8),"P","F") -> F | AF80: =AC80+AD80+AE80 -> 0 | AG80: =IF(AND(AC80>16,AD80>8,AE80>8),"P","F") -> F
A81: 86 | B81: MD. TAWHIDUL ISLAM SIYAM | C81: 29 | D81: 11 | E81: =C81+D81 -> 40 | F81: =IF(AND(C81>23,D81>9),"P","F") -> P | G81: 33 | H81: =IF(G81>32,"P","F") -> P | I81: 11 | J81: 13 | K81: 18 | L81: =I81+J81+K81 -> 42 | M81: =IF(AND(I81>16,J81>8,K81>8),"P","F") -> F | N81: 17 | O81: 7 | P81: 18 | Q81: =N81+O81+P81 -> 42 | R81: =IF(AND(N81>16,O81>8,P81>8),"P","F") -> F | S81: 17 | T81: 11 | U81: 18 | V81: =S81+T81+U81 -> 46 | W81: =IF(AND(S81>16,T81>8,U81>8),"P","F") -> P | X81: 11 | Y81: 9 | Z81: 18 | AA81: =X81+Y81+Z81 -> 38 | AB81: =IF(AND(X81>16,Y81>8,Z81>8),"P","F") -> F | AC81: 5 | AD81: 10 | AE81: 18 | AF81: =AC81+AD81+AE81 -> 33 | AG81: =IF(AND(AC81>16,AD81>8,AE81>8),"P","F") -> F
A82: 87 | B82: NAYAN HOWLADER | E82: =C82+D82 -> 0 | F82: =IF(AND(C82>23,D82>9),"P","F") -> F | H82: =IF(G82>32,"P","F") -> F | K82: 18 | L82: =I82+J82+K82 -> 18 | M82: =IF(AND(I82>16,J82>8,K82>8),"P","F") -> F | P82: 18 | Q82: =N82+O82+P82 -> 18 | R82: =IF(AND(N82>16,O82>8,P82>8),"P","F") -> F | V82: =S82+T82+U82 -> 0 | W82: =IF(AND(S82>16,T82>8,U82>8),"P","F") -> F | Z82: 18 | AA82: =X82+Y82+Z82 -> 18 | AB82: =IF(AND(X82>16,Y82>8,Z82>8),"P","F") -> F | AF82: =AC82+AD82+AE82 -> 0 | AG82: =IF(AND(AC82>16,AD82>8,AE82>8),"P","F") -> F
A83: 88 | B83: ISHAN RAY | C83: 33 | D83: 15 | E83: =C83+D83 -> 48 | F83: =IF(AND(C83>23,D83>9),"P","F") -> P | G83: 20 | H83: =IF(G83>32,"P","F") -> F | I83: 25 | J83: 9 | K83: 18 | L83: =I83+J83+K83 -> 52 | M83: =IF(AND(I83>16,J83>8,K83>8),"P","F") -> P | N83: 7 | O83: 9 | P83: 18 | Q83: =N83+O83+P83 -> 34 | R83: =IF(AND(N83>16,O83>8,P83>8),"P","F") -> F | S83: 17 | T83: 11 | U83: 18 | V83: =S83+T83+U83 -> 46 | W83: =IF(AND(S83>16,T83>8,U83>8),"P","F") -> P | X83: 13 | Y83: 8 | Z83: 18 | AA83: =X83+Y83+Z83 -> 39 | AB83: =IF(AND(X83>16,Y83>8,Z83>8),"P","F") -> F | AC83: 6 | AD83: 14 | AE83: 18 | AF83: =AC83+AD83+AE83 -> 38 | AG83: =IF(AND(AC83>16,AD83>8,AE83>8),"P","F") -> F
A84: 90 | B84: RABBANI SARDER | E84: =C84+D84 -> 0 | F84: =IF(AND(C84>23,D84>9),"P","F") -> F | H84: =IF(G84>32,"P","F") -> F | L84: =I84+J84+K84 -> 0 | M84: =IF(AND(I84>16,J84>8,K84>8),"P","F") -> F | Q84: =N84+O84+P84 -> 0 | R84: =IF(AND(N84>16,O84>8,P84>8),"P","F") -> F | V84: =S84+T84+U84 -> 0 | W84: =IF(AND(S84>16,T84>8,U84>8),"P","F") -> F | AA84: =X84+Y84+Z84 -> 0 | AB84: =IF(AND(X84>16,Y84>8,Z84>8),"P","F") -> F | AF84: =AC84+AD84+AE84 -> 0 | AG84: =IF(AND(AC84>16,AD84>8,AE84>8),"P","F") -> F
A85: 91 | B85: DHRUBA HALDER | C85: 38 | D85: 13 | E85: =C85+D85 -> 51 | F85: =IF(AND(C85>23,D85>9),"P","F") -> P | G85: 53 | H85: =IF(G85>32,"P","F") -> P | I85: 25 | J85: 9 | K85: 18 | L85: =I85+J85+K85 -> 52 | M85: =IF(AND(I85>16,J85>8,K85>8),"P","F") -> P | N85: 6 | O85: 8 | P85: 18 | Q85: =N85+O85+P85 -> 32 | R85: =IF(AND(N85>16,O85>8,P85>8),"P","F") -> F | S85: 18 | T85: 9 | U85: 18 | V85: =S85+T85+U85 -> 45 | W85: =IF(AND(S85>16,T85>8,U85>8),"P","F") -> P | X85: 20 | Y85: 8 | Z85: 18 | AA85: =X85+Y85+Z85 -> 46 | AB85: =IF(AND(X85>16,Y85>8,Z85>8),"P","F") -> F | AC85: 5 | AD85: 8 | AE85: 18 | AF85: =AC85+AD85+AE85 -> 31 | AG85: =IF(AND(AC85>16,AD85>8,AE85>8),"P","F") -> F
A86: 92 | B86: ANKUR HALDER | C86: 21 | D86: 19 | E86: =C86+D86 -> 40 | F86: =IF(AND(C86>23,D86>9),"P","F") -> F | G86: 33 | H86: =IF(G86>32,"P","F") -> P | I86: 9 | J86: 12 | K86: 18 | L86: =I86+J86+K86 -> 39 | M86: =IF(AND(I86>16,J86>8,K86>8),"P","F") -> F | N86: 7 | O86: 5 | P86: 18 | Q86: =N86+O86+P86 -> 30 | R86: =IF(AND(N86>16,O86>8,P86>8),"P","F") -> F | S86: 17 | T86: 9 | U86: 18 | V86: =S86+T86+U86 -> 44 | W86: =IF(AND(S86>16,T86>8,U86>8),"P","F") -> P | X86: 15 | Y86: 8 | Z86: 18 | AA86: =X86+Y86+Z86 -> 41 | AB86: =IF(AND(X86>16,Y86>8,Z86>8),"P","F") -> F | AC86: 6 | AD86: 11 | AE86: 18 | AF86: =AC86+AD86+AE86 -> 35 | AG86: =IF(AND(AC86>16,AD86>8,AE86>8),"P","F") -> F
A87: 93 | B87: CHADNI AKTER | E87: =C87+D87 -> 0 | F87: =IF(AND(C87>23,D87>9),"P","F") -> F | H87: =IF(G87>32,"P","F") -> F | K87: 18 | L87: =I87+J87+K87 -> 18 | M87: =IF(AND(I87>16,J87>8,K87>8),"P","F") -> F | Q87: =N87+O87+P87 -> 0 | R87: =IF(AND(N87>16,O87>8,P87>8),"P","F") -> F | V87: =S87+T87+U87 -> 0 | W87: =IF(AND(S87>16,T87>8,U87>8),"P","F") -> F | AA87: =X87+Y87+Z87 -> 0 | AB87: =IF(AND(X87>16,Y87>8,Z87>8),"P","F") -> F | AF87: =AC87+AD87+AE87 -> 0 | AG87: =IF(AND(AC87>16,AD87>8,AE87>8),"P","F") -> F
A88: 94 | B88: MST. AMINA JAHAN TASBI | C88: 36 | D88: 15 | E88: =C88+D88 -> 51 | F88: =IF(AND(C88>23,D88>9),"P","F") -> P | G88: 33 | H88: =IF(G88>32,"P","F") -> P | I88: 14 | J88: 13 | K88: 18 | L88: =I88+J88+K88 -> 45 | M88: =IF(AND(I88>16,J88>8,K88>8),"P","F") -> F | N88: 8 | O88: 8 | P88: 18 | Q88: =N88+O88+P88 -> 34 | R88: =IF(AND(N88>16,O88>8,P88>8),"P","F") -> F | S88: 4 | T88: 10 | U88: 18 | V88: =S88+T88+U88 -> 32 | W88: =IF(AND(S88>16,T88>8,U88>8),"P","F") -> F | X88: 16 | Y88: 9 | Z88: 18 | AA88: =X88+Y88+Z88 -> 43 | AB88: =IF(AND(X88>16,Y88>8,Z88>8),"P","F") -> F | AC88: 8 | AD88: 12 | AE88: 18 | AF88: =AC88+AD88+AE88 -> 38 | AG88: =IF(AND(AC88>16,AD88>8,AE88>8),"P","F") -> F
A89: 96 | B89: FARJANA AKTER | C89: 36 | D89: 15 | E89: =C89+D89 -> 51 | F89: =IF(AND(C89>23,D89>9),"P","F") -> P | G89: 27 | H89: =IF(G89>32,"P","F") -> F | I89: 22 | J89: 15 | K89: 18 | L89: =I89+J89+K89 -> 55 | M89: =IF(AND(I89>16,J89>8,K89>8),"P","F") -> P | N89: 9 | O89: 7 | P89: 18 | Q89: =N89+O89+P89 -> 34 | R89: =IF(AND(N89>16,O89>8,P89>8),"P","F") -> F | S89: 17 | T89: 9 | U89: 18 | V89: =S89+T89+U89 -> 44 | W89: =IF(AND(S89>16,T89>8,U89>8),"P","F") -> P | X89: 15 | Y89: 8 | Z89: 18 | AA89: =X89+Y89+Z89 -> 41 | AB89: =IF(AND(X89>16,Y89>8,Z89>8),"P","F") -> F | AC89: 15 | AD89: 9 | AE89: 18 | AF89: =AC89+AD89+AE89 -> 42 | AG89: =IF(AND(AC89>16,AD89>8,AE89>8),"P","F") -> F
A90: 97 | B90: MD. ALAMIN KHAN | C90: 28 | D90: 6 | E90: =C90+D90 -> 34 | F90: =IF(AND(C90>23,D90>9),"P","F") -> F | G90: 25 | H90: =IF(G90>32,"P","F") -> F | I90: 7 | J90: 9 | K90: 18 | L90: =I90+J90+K90 -> 34 | M90: =IF(AND(I90>16,J90>8,K90>8),"P","F") -> F | N90: 6 | O90: 9 | P90: 18 | Q90: =N90+O90+P90 -> 33 | R90: =IF(AND(N90>16,O90>8,P90>8),"P","F") -> F | S90: 17 | T90: 8 | U90: 18 | V90: =S90+T90+U90 -> 43 | W90: =IF(AND(S90>16,T90>8,U90>8),"P","F") -> F | X90: 14 | Y90: 10 | Z90: 18 | AA90: =X90+Y90+Z90 -> 42 | AB90: =IF(AND(X90>16,Y90>8,Z90>8),"P","F") -> F | AC90: 6 | AD90: 12 | AE90: 18 | AF90: =AC90+AD90+AE90 -> 36 | AG90: =IF(AND(AC90>16,AD90>8,AE90>8),"P","F") -> F
A91: 98 | B91: SUMAIYA AKTER | C91: 30 | D91: 19 | E91: =C91+D91 -> 49 | F91: =IF(AND(C91>23,D91>9),"P","F") -> P | G91: 33 | H91: =IF(G91>32,"P","F") -> P | I91: 14 | J91: 14 | K91: 18 | L91: =I91+J91+K91 -> 46 | M91: =IF(AND(I91>16,J91>8,K91>8),"P","F") -> F | N91: 10 | O91: 7 | P91: 18 | Q91: =N91+O91+P91 -> 35 | R91: =IF(AND(N91>16,O91>8,P91>8),"P","F") -> F | S91: 20 | T91: 8 | U91: 18 | V91: =S91+T91+U91 -> 46 | W91: =IF(AND(S91>16,T91>8,U91>8),"P","F") -> F | X91: 16 | Y91: 9 | Z91: 18 | AA91: =X91+Y91+Z91 -> 43 | AB91: =IF(AND(X91>16,Y91>8,Z91>8),"P","F") -> F | AC91: 12 | AD91: 9 | AE91: 18 | AF91: =AC91+AD91+AE91 -> 39 | AG91: =IF(AND(AC91>16,AD91>8,AE91>8),"P","F") -> F
A92: 99 | B92: PRETOM DEBNATH | C92: 51 | D92: 18 | E92: =C92+D92 -> 69 | F92: =IF(AND(C92>23,D92>9),"P","F") -> P | G92: 60 | H92: =IF(G92>32,"P","F") -> P | I92: 21 | J92: 10 | K92: 18 | L92: =I92+J92+K92 -> 49 | M92: =IF(AND(I92>16,J92>8,K92>8),"P","F") -> P | N92: 11 | O92: 10 | P92: 18 | Q92: =N92+O92+P92 -> 39 | R92: =IF(AND(N92>16,O92>8,P92>8),"P","F") -> F | S92: 28 | T92: 10 | U92: 18 | V92: =S92+T92+U92 -> 56 | W92: =IF(AND(S92>16,T92>8,U92>8),"P","F") -> P | X92: 18 | Y92: 8 | Z92: 18 | AA92: =X92+Y92+Z92 -> 44 | AB92: =IF(AND(X92>16,Y92>8,Z92>8),"P","F") -> F | AC92: 7 | AD92: 12 | AE92: 18 | AF92: =AC92+AD92+AE92 -> 37 | AG92: =IF(AND(AC92>16,AD92>8,AE92>8),"P","F") -> F
A93: 100 | B93: PULAK MISTRY | C93: 28 | D93: 12 | E93: =C93+D93 -> 40 | F93: =IF(AND(C93>23,D93>9),"P","F") -> P | G93: 33 | H93: =IF(G93>32,"P","F") -> P | I93: 0 | J93: 3 | K93: 18 | L93: =I93+J93+K93 -> 21 | M93: =IF(AND(I93>16,J93>8,K93>8),"P","F") -> F | N93: 4 | O93: 6 | P93: 18 | Q93: =N93+O93+P93 -> 28 | R93: =IF(AND(N93>16,O93>8,P93>8),"P","F") -> F | S93: 0 | T93: 16 | U93: 18 | V93: =S93+T93+U93 -> 34 | W93: =IF(AND(S93>16,T93>8,U93>8),"P","F") -> F | X93: 7 | Y93: 8 | Z93: 18 | AA93: =X93+Y93+Z93 -> 33 | AB93: =IF(AND(X93>16,Y93>8,Z93>8),"P","F") -> F | AC93: 0 | AD93: 9 | AE93: 18 | AF93: =AC93+AD93+AE93 -> 27 | AG93: =IF(AND(AC93>16,AD93>8,AE93>8),"P","F") -> F
A94: 103 | B94: SAJIB SAHA | C94: 11 | D94: 12 | E94: =C94+D94 -> 23 | G94: 24 | I94: 1 | J94: 9 | K94: 18 | N94: 2 | O94: 9 | P94: 18 | S94: 1 | T94: 9 | U94: 18 | X94: 3 | Y94: 8 | Z94: 18 | AC94: 2 | AD94: 11 | AE94: 18
A95: 104 | B95: SAIKAT HOWLADER | C95: 25 | D95: 14 | E95: =C95+D95 -> 39 | F95: =IF(AND(C95>23,D95>9),"P","F") -> P | G95: 33 | H95: =IF(G95>32,"P","F") -> P | I95: 4 | J95: 10 | K95: 18 | L95: =I95+J95+K95 -> 32 | M95: =IF(AND(I95>16,J95>8,K95>8),"P","F") -> F | N95: 0 | O95: 5 | P95: 18 | Q95: =N95+O95+P95 -> 23 | R95: =IF(AND(N95>16,O95>8,P95>8),"P","F") -> F | S95: 1 | T95: 11 | U95: 18 | V95: =S95+T95+U95 -> 30 | W95: =IF(AND(S95>16,T95>8,U95>8),"P","F") -> F | X95: 13 | Y95: 10 | Z95: 18 | AA95: =X95+Y95+Z95 -> 41 | AB95: =IF(AND(X95>16,Y95>8,Z95>8),"P","F") -> F | AC95: 2 | AD95: 10 | AE95: 18 | AF95: =AC95+AD95+AE95 -> 30 | AG95: =IF(AND(AC95>16,AD95>8,AE95>8),"P","F") -> F
A96: 105 | B96: PARNA MITRA | C96: 32 | D96: 13 | E96: =C96+D96 -> 45 | F96: =IF(AND(C96>23,D96>9),"P","F") -> P | G96: 29 | H96: =IF(G96>32,"P","F") -> F | I96: 2 | J96: 9 | K96: 18 | L96: =I96+J96+K96 -> 29 | M96: =IF(AND(I96>16,J96>8,K96>8),"P","F") -> F | N96: 1 | O96: 6 | P96: 18 | Q96: =N96+O96+P96 -> 25 | R96: =IF(AND(N96>16,O96>8,P96>8),"P","F") -> F | S96: 1 | T96: 8 | U96: 18 | V96: =S96+T96+U96 -> 27 | W96: =IF(AND(S96>16,T96>8,U96>8),"P","F") -> F | X96: 9 | Y96: 6 | Z96: 18 | AA96: =X96+Y96+Z96 -> 33 | AB96: =IF(AND(X96>16,Y96>8,Z96>8),"P","F") -> F | AC96: 0 | AD96: 11 | AE96: 18 | AF96: =AC96+AD96+AE96 -> 29 | AG96: =IF(AND(AC96>16,AD96>8,AE96>8),"P","F") -> F
A97: 106 | B97: SAIM HOWLADER | C97: 9 | D97: 14 | E97: =C97+D97 -> 23 | F97: =IF(AND(C97>23,D97>9),"P","F") -> F | G97: 29 | H97: =IF(G97>32,"P","F") -> F | I97: 0 | J97: 12 | K97: 18 | L97: =I97+J97+K97 -> 30 | M97: =IF(AND(I97>16,J97>8,K97>8),"P","F") -> F | N97: 3 | O97: 8 | P97: 18 | Q97: =N97+O97+P97 -> 29 | R97: =IF(AND(N97>16,O97>8,P97>8),"P","F") -> F | S97: 5 | T97: 9 | U97: 18 | V97: =S97+T97+U97 -> 32 | W97: =IF(AND(S97>16,T97>8,U97>8),"P","F") -> F | X97: 8 | Y97: 8 | Z97: 18 | AA97: =X97+Y97+Z97 -> 34 | AB97: =IF(AND(X97>16,Y97>8,Z97>8),"P","F") -> F | AC97: 6 | AD97: 11 | AE97: 18 | AF97: =AC97+AD97+AE97 -> 35 | AG97: =IF(AND(AC97>16,AD97>8,AE97>8),"P","F") -> F
A98: 107 | B98: MD. MAYNUR RAHMAN MUNNA | E98: =C98+D98 -> 0 | F98: =IF(AND(C98>23,D98>9),"P","F") -> F | H98: =IF(G98>32,"P","F") -> F | L98: =I98+J98+K98 -> 0 | M98: =IF(AND(I98>16,J98>8,K98>8),"P","F") -> F | Q98: =N98+O98+P98 -> 0 | R98: =IF(AND(N98>16,O98>8,P98>8),"P","F") -> F | V98: =S98+T98+U98 -> 0 | W98: =IF(AND(S98>16,T98>8,U98>8),"P","F") -> F | AA98: =X98+Y98+Z98 -> 0 | AB98: =IF(AND(X98>16,Y98>8,Z98>8),"P","F") -> F | AF98: =AC98+AD98+AE98 -> 0 | AG98: =IF(AND(AC98>16,AD98>8,AE98>8),"P","F") -> F
A99: 108 | B99: ABU BAKAR SIDDIK SOHAN | C99: 4 | D99: 11 | E99: =C99+D99 -> 15 | F99: =IF(AND(C99>23,D99>9),"P","F") -> F | G99: 14 | H99: =IF(G99>32,"P","F") -> F | I99: 1 | J99: 13 | K99: 18 | L99: =I99+J99+K99 -> 32 | M99: =IF(AND(I99>16,J99>8,K99>8),"P","F") -> F | N99: 1 | O99: 4 | P99: 18 | Q99: =N99+O99+P99 -> 23 | R99: =IF(AND(N99>16,O99>8,P99>8),"P","F") -> F | S99: 3 | T99: 14 | U99: 18 | V99: =S99+T99+U99 -> 35 | W99: =IF(AND(S99>16,T99>8,U99>8),"P","F") -> F | X99: 4 | Y99: 8 | Z99: 18 | AA99: =X99+Y99+Z99 -> 30 | AB99: =IF(AND(X99>16,Y99>8,Z99>8),"P","F") -> F | AC99: 0 | AD99: 12 | AE99: 18 | AF99: =AC99+AD99+AE99 -> 30 | AG99: =IF(AND(AC99>16,AD99>8,AE99>8),"P","F") -> F
A100: 109 | B100: MISBAHUS SALIHEEN | C100: 42 | D100: 17 | E100: =C100+D100 -> 59 | F100: =IF(AND(C100>23,D100>9),"P","F") -> P | G100: 44 | H100: =IF(G100>32,"P","F") -> P | I100: 4 | J100: 10 | K100: 18 | L100: =I100+J100+K100 -> 32 | M100: =IF(AND(I100>16,J100>8,K100>8),"P","F") -> F | N100: 1 | O100: 8 | P100: 18 | Q100: =N100+O100+P100 -> 27 | R100: =IF(AND(N100>16,O100>8,P100>8),"P","F") -> F | S100: 10 | T100: 9 | U100: 18 | V100: =S100+T100+U100 -> 37 | W100: =IF(AND(S100>16,T100>8,U100>8),"P","F") -> F | X100: 17 | Y100: 10 | Z100: 18 | AA100: =X100+Y100+Z100 -> 45 | AB100: =IF(AND(X100>16,Y100>8,Z100>8),"P","F") -> P | AC100: 12 | AD100: 14 | AE100: 18 | AF100: =AC100+AD100+AE100 -> 44 | AG100: =IF(AND(AC100>16,AD100>8,AE100>8),"P","F") -> F
A101: 110 | B101: DIPJOY DAS | C101: 34 | D101: 18 | E101: =C101+D101 -> 52 | F101: =IF(AND(C101>23,D101>9),"P","F") -> P | G101: 36 | H101: =IF(G101>32,"P","F") -> P | I101: 5 | J101: 17 | K101: 18 | L101: =I101+J101+K101 -> 40 | M101: =IF(AND(I101>16,J101>8,K101>8),"P","F") -> F | N101: 1 | O101: 11 | P101: 18 | Q101: =N101+O101+P101 -> 30 | R101: =IF(AND(N101>16,O101>8,P101>8),"P","F") -> F | S101: 17 | T101: 12 | U101: 18 | V101: =S101+T101+U101 -> 47 | W101: =IF(AND(S101>16,T101>8,U101>8),"P","F") -> P | X101: 26 | Y101: 9 | Z101: 18 | AA101: =X101+Y101+Z101 -> 53 | AB101: =IF(AND(X101>16,Y101>8,Z101>8),"P","F") -> P | AC101: 12 | AD101: 12 | AE101: 18 | AF101: =AC101+AD101+AE101 -> 42 | AG101: =IF(AND(AC101>16,AD101>8,AE101>8),"P","F") -> F
A102: 111 | B102: ANKUR ROY | C102: 34 | D102: 17 | E102: =C102+D102 -> 51 | F102: =IF(AND(C102>23,D102>9),"P","F") -> P | G102: 33 | H102: =IF(G102>32,"P","F") -> P | I102: 11 | J102: 14 | K102: 18 | L102: =I102+J102+K102 -> 43 | M102: =IF(AND(I102>16,J102>8,K102>8),"P","F") -> F | N102: 2 | O102: 9 | P102: 18 | Q102: =N102+O102+P102 -> 29 | R102: =IF(AND(N102>16,O102>8,P102>8),"P","F") -> F | S102: 8 | T102: 12 | U102: 18 | V102: =S102+T102+U102 -> 38 | W102: =IF(AND(S102>16,T102>8,U102>8),"P","F") -> F | X102: 8 | Y102: 9 | Z102: 18 | AA102: =X102+Y102+Z102 -> 35 | AB102: =IF(AND(X102>16,Y102>8,Z102>8),"P","F") -> F | AC102: 5 | AD102: 13 | AE102: 18 | AF102: =AC102+AD102+AE102 -> 36 | AG102: =IF(AND(AC102>16,AD102>8,AE102>8),"P","F") -> F
A103: 112 | B103: PALLAB SAMADDER | C103: 52 | D103: 21 | E103: =C103+D103 -> 73 | F103: =IF(AND(C103>23,D103>9),"P","F") -> P | G103: 49 | H103: =IF(G103>32,"P","F") -> P | I103: 27 | J103: 18 | K103: 18 | L103: =I103+J103+K103 -> 63 | M103: =IF(AND(I103>16,J103>8,K103>8),"P","F") -> P | N103: 30 | O103: 14 | P103: 18 | Q103: =N103+O103+P103 -> 62 | R103: =IF(AND(N103>16,O103>8,P103>8),"P","F") -> P | S103: 26 | T103: 8 | U103: 18 | V103: =S103+T103+U103 -> 52 | W103: =IF(AND(S103>16,T103>8,U103>8),"P","F") -> F | X103: 31 | Y103: 9 | Z103: 18 | AA103: =X103+Y103+Z103 -> 58 | AB103: =IF(AND(X103>16,Y103>8,Z103>8),"P","F") -> P | AC103: 19 | AD103: 13 | AE103: 18 | AF103: =AC103+AD103+AE103 -> 50 | AG103: =IF(AND(AC103>16,AD103>8,AE103>8),"P","F") -> P
A104: 113 | B104: ARANYO HIRA | C104: 37 | D104: 18 | E104: =C104+D104 -> 55 | F104: =IF(AND(C104>23,D104>9),"P","F") -> P | G104: 50 | H104: =IF(G104>32,"P","F") -> P | I104: 14 | J104: 19 | K104: 18 | L104: =I104+J104+K104 -> 51 | M104: =IF(AND(I104>16,J104>8,K104>8),"P","F") -> F | N104: 0 | O104: 6 | P104: 18 | Q104: =N104+O104+P104 -> 24 | R104: =IF(AND(N104>16,O104>8,P104>8),"P","F") -> F | S104: 17 | T104: 13 | U104: 18 | V104: =S104+T104+U104 -> 48 | W104: =IF(AND(S104>16,T104>8,U104>8),"P","F") -> P | X104: 14 | Y104: 8 | Z104: 18 | AA104: =X104+Y104+Z104 -> 40 | AB104: =IF(AND(X104>16,Y104>8,Z104>8),"P","F") -> F | AC104: 10 | AD104: 9 | AE104: 18 | AF104: =AC104+AD104+AE104 -> 37 | AG104: =IF(AND(AC104>16,AD104>8,AE104>8),"P","F") -> F
A105: 114 | B105: MIR SAMIN YASAR | C105: 40 | D105: 17 | E105: =C105+D105 -> 57 | F105: =IF(AND(C105>23,D105>9),"P","F") -> P | H105: =IF(G105>32,"P","F") -> F | I105: 13 | J105: 18 | K105: 18 | L105: =I105+J105+K105 -> 49 | M105: =IF(AND(I105>16,J105>8,K105>8),"P","F") -> F | Q105: =N105+O105+P105 -> 0 | R105: =IF(AND(N105>16,O105>8,P105>8),"P","F") -> F | V105: =S105+T105+U105 -> 0 | W105: =IF(AND(S105>16,T105>8,U105>8),"P","F") -> F | AA105: =X105+Y105+Z105 -> 0 | AB105: =IF(AND(X105>16,Y105>8,Z105>8),"P","F") -> F | AF105: =AC105+AD105+AE105 -> 0 | AG105: =IF(AND(AC105>16,AD105>8,AE105>8),"P","F") -> F
A106: 116 | B106: MD SHAKER KHAN | C106: 29 | D106: 19 | E106: =C106+D106 -> 48 | F106: =IF(AND(C106>23,D106>9),"P","F") -> P | G106: 12 | H106: =IF(G106>32,"P","F") -> F | I106: 18 | J106: 13 | K106: 18 | L106: =I106+J106+K106 -> 49 | M106: =IF(AND(I106>16,J106>8,K106>8),"P","F") -> P | N106: 17 | O106: 11 | P106: 18 | Q106: =N106+O106+P106 -> 46 | R106: =IF(AND(N106>16,O106>8,P106>8),"P","F") -> P | S106: 33 | T106: 15 | U106: 18 | V106: =S106+T106+U106 -> 66 | W106: =IF(AND(S106>16,T106>8,U106>8),"P","F") -> P | X106: 24 | Y106: 15 | Z106: 18 | AA106: =X106+Y106+Z106 -> 57 | AB106: =IF(AND(X106>16,Y106>8,Z106>8),"P","F") -> P | AC106: 29 | AD106: 17 | AE106: 18 | AF106: =AC106+AD106+AE106 -> 64 | AG106: =IF(AND(AC106>16,AD106>8,AE106>8),"P","F") -> P
A107: 117 | B107: SAIKAT BARAL | C107: 42 | D107: 16 | E107: =C107+D107 -> 58 | F107: =IF(AND(C107>23,D107>9),"P","F") -> P | G107: 56 | H107: =IF(G107>32,"P","F") -> P | I107: 8 | J107: 16 | K107: 18 | L107: =I107+J107+K107 -> 42 | M107: =IF(AND(I107>16,J107>8,K107>8),"P","F") -> F | N107: 14 | O107: 11 | P107: 18 | Q107: =N107+O107+P107 -> 43 | R107: =IF(AND(N107>16,O107>8,P107>8),"P","F") -> F | S107: 25 | T107: 17 | U107: 18 | V107: =S107+T107+U107 -> 60 | W107: =IF(AND(S107>16,T107>8,U107>8),"P","F") -> P | X107: 23 | Y107: 15 | Z107: 18 | AA107: =X107+Y107+Z107 -> 56 | AB107: =IF(AND(X107>16,Y107>8,Z107>8),"P","F") -> P | AC107: 22 | AD107: 18 | AE107: 18 | AF107: =AC107+AD107+AE107 -> 58 | AG107: =IF(AND(AC107>16,AD107>8,AE107>8),"P","F") -> P
A108: 118 | B108: PRANTO HOWLADER | C108: 40 | D108: 11 | E108: =C108+D108 -> 51 | F108: =IF(AND(C108>23,D108>9),"P","F") -> P | G108: 38 | H108: =IF(G108>32,"P","F") -> P | I108: 6 | J108: 11 | K108: 18 | L108: =I108+J108+K108 -> 35 | M108: =IF(AND(I108>16,J108>8,K108>8),"P","F") -> F | N108: 7 | O108: 7 | P108: 18 | Q108: =N108+O108+P108 -> 32 | R108: =IF(AND(N108>16,O108>8,P108>8),"P","F") -> F | S108: 17 | T108: 10 | U108: 18 | V108: =S108+T108+U108 -> 45 | W108: =IF(AND(S108>16,T108>8,U108>8),"P","F") -> P | X108: 12 | Y108: 6 | Z108: 18 | AA108: =X108+Y108+Z108 -> 36 | AB108: =IF(AND(X108>16,Y108>8,Z108>8),"P","F") -> F | AC108: 18 | AD108: 8 | AE108: 18 | AF108: =AC108+AD108+AE108 -> 44 | AG108: =IF(AND(AC108>16,AD108>8,AE108>8),"P","F") -> F
...

Sheet Business Studies
A4: Roll | B4: Name | C4: Bangla | G4: English | I4: ICT | N4: Accounting | R4: Business Organization and Management | V4: Production and Management | Z4: Finance Banking and Insurance | AD4: Economics
C5: CQ | D5: MCQ | E5: Total | F5: Grade | G5: Total | H5: Grade | I5: CQ | J5: MCQ | K5: Practical | L5: Total | M5: Grade | N5: CQ | O5: MCQ | P5: Total | Q5: Grade | R5: CQ | S5: MCQ | T5: Total | U5: Grade | V5: CQ | W5: MCQ | X5: Total | Y5: Grade | Z5: CQ | AA5: MCQ | AB5: Total | AC5: Grade | AD5: CQ | AE5: MCQ | AF5: Total | AG5: Grade
A6: 302 | B6: NISHAT AKTAR | C6: 35 | D6: 6 | E6: =C6+D6 -> 41 | F6: =IF(AND(C6>23,D6>9),"P","F") -> F | G6: 25 | H6: =IF(AND(G6>32),"P","F") -> F | I6: 10 | J6: 9 | K6: 18 | L6: =I6+J6+K6 -> 37 | M6: =IF(AND(I6>16,J6>8<K6>8),"P","F") -> F | N6: 41 | O6: 23 | P6: =N6+O6 -> 64 | Q6: =IF(AND(N6>23,O6>9),"P","F") -> P | R6: 42 | S6: 15 | T6: =R6+S6 -> 57 | U6: =IF(AND(R6>23,S6>9),"P","F") -> P | V6: 24 | W6: 7 | X6: =V6+W6 -> 31 | Y6: =IF(AND(V6>23,W6>9),"P","F") -> F | Z6: 26 | AA6: 14 | AB6: =Z6+AA6 -> 40 | AC6: =IF(AND(Z6>23,AA6>9),"P","F") -> P | AF6: =AD6+AE6 -> 0 | AG6: =IF(AND(AD6>23,AE6>9),"P","F") -> F
A7: 306 | B7: MARIA SULTANA SAFA | C7: 40 | D7: 17 | E7: =C7+D7 -> 57 | F7: =IF(AND(C7>23,D7>9),"P","F") -> P | G7: 45 | H7: =IF(AND(G7>32),"P","F") -> P | I7: 17 | J7: 15 | K7: 18 | L7: =I7+J7+K7 -> 50 | M7: =IF(AND(I7>16,J7>8<K7>8),"P","F") -> P | N7: 33 | O7: 14 | P7: =N7+O7 -> 47 | Q7: =IF(AND(N7>23,O7>9),"P","F") -> P | R7: 26 | S7: 14 | T7: =R7+S7 -> 40 | U7: =IF(AND(R7>23,S7>9),"P","F") -> P | X7: =V7+W7 -> 0 | Y7: =IF(AND(V7>23,W7>9),"P","F") -> F | Z7: 23 | AA7: 10 | AB7: =Z7+AA7 -> 33 | AC7: =IF(AND(Z7>23,AA7>9),"P","F") -> F | AF7: =AD7+AE7 -> 0 | AG7: =IF(AND(AD7>23,AE7>9),"P","F") -> F
A8: 310 | B8: S.M.ABDULLAH | C8: 24 | D8: 17 | E8: =C8+D8 -> 41 | F8: =IF(AND(C8>23,D8>9),"P","F") -> P | G8: 35 | H8: =IF(AND(G8>32),"P","F") -> P | I8: 8 | J8: 11 | K8: 18 | L8: =I8+J8+K8 -> 37 | M8: =IF(AND(I8>16,J8>8<K8>8),"P","F") -> F | N8: 28 | O8: 20 | P8: =N8+O8 -> 48 | Q8: =IF(AND(N8>23,O8>9),"P","F") -> P | R8: 23 | S8: 12 | T8: =R8+S8 -> 35 | U8: =IF(AND(R8>23,S8>9),"P","F") -> F | V8: 21 | W8: 13 | X8: =V8+W8 -> 34 | Y8: =IF(AND(V8>23,W8>9),"P","F") -> F | Z8: 24 | AA8: 11 | AB8: =Z8+AA8 -> 35 | AC8: =IF(AND(Z8>23,AA8>9),"P","F") -> P | AF8: =AD8+AE8 -> 0 | AG8: =IF(AND(AD8>23,AE8>9),"P","F") -> F
A9: 312 | B9: SADIA AKTER | C9: 43 | D9: 11 | E9: =C9+D9 -> 54 | F9: =IF(AND(C9>23,D9>9),"P","F") -> P | G9: 24 | H9: =IF(AND(G9>32),"P","F") -> F | I9: 17 | J9: 10 | K9: 18 | L9: =I9+J9+K9 -> 45 | M9: =IF(AND(I9>16,J9>8<K9>8),"P","F") -> P | N9: 56 | O9: 16 | P9: =N9+O9 -> 72 | Q9: =IF(AND(N9>23,O9>9),"P","F") -> P | R9: 39 | S9: 23 | T9: =R9+S9 -> 62 | U9: =IF(AND(R9>23,S9>9),"P","F") -> P | V9: 44 | W9: 16 | X9: =V9+W9 -> 60 | Y9: =IF(AND(V9>23,W9>9),"P","F") -> P | Z9: 25 | AA9: 9 | AB9: =Z9+AA9 -> 34 | AC9: =IF(AND(Z9>23,AA9>9),"P","F") -> F | AF9: =AD9+AE9 -> 0 | AG9: =IF(AND(AD9>23,AE9>9),"P","F") -> F
A10: 318 | B10: AHMED AL AYMAN | C10: 32 | D10: 12 | E10: =C10+D10 -> 44 | F10: =IF(AND(C10>23,D10>9),"P","F") -> P | G10: 12 | H10: =IF(AND(G10>32),"P","F") -> F | I10: 4 | J10: 8 | K10: 18 | L10: =I10+J10+K10 -> 30 | M10: =IF(AND(I10>16,J10>8<K10>8),"P","F") -> F | N10: 34 | O10: 18 | P10: =N10+O10 -> 52 | Q10: =IF(AND(N10>23,O10>9),"P","F") -> P | R10: 31 | S10: 16 | T10: =R10+S10 -> 47 | U10: =IF(AND(R10>23,S10>9),"P","F") -> P | V10: 30 | W10: 17 | X10: =V10+W10 -> 47 | Y10: =IF(AND(V10>23,W10>9),"P","F") -> P | Z10: 23 | AA10: 10 | AB10: =Z10+AA10 -> 33 | AC10: =IF(AND(Z10>23,AA10>9),"P","F") -> F | AF10: =AD10+AE10 -> 0 | AG10: =IF(AND(AD10>23,AE10>9),"P","F") -> F
A11: 319 | B11: MAHI FERDOUS | C11: 31 | D11: 12 | E11: =C11+D11 -> 43 | F11: =IF(AND(C11>23,D11>9),"P","F") -> P | G11: 19 | H11: =IF(AND(G11>32),"P","F") -> F | I11: 8 | J11: 8 | K11: 18 | L11: =I11+J11+K11 -> 34 | M11: =IF(AND(I11>16,J11>8<K11>8),"P","F") -> F | N11: 44 | O11: 21 | P11: =N11+O11 -> 65 | Q11: =IF(AND(N11>23,O11>9),"P","F") -> P | R11: 29 | S11: 20 | T11: =R11+S11 -> 49 | U11: =IF(AND(R11>23,S11>9),"P","F") -> P | V11: 25 | W11: 15 | X11: =V11+W11 -> 40 | Y11: =IF(AND(V11>23,W11>9),"P","F") -> P | Z11: 14 | AA11: 12 | AB11: =Z11+AA11 -> 26 | AC11: =IF(AND(Z11>23,AA11>9),"P","F") -> F | AF11: =AD11+AE11 -> 0 | AG11: =IF(AND(AD11>23,AE11>9),"P","F") -> F
A12: 321 | B12: NAYAN MALI | C12: 32 | D12: 15 | E12: =C12+D12 -> 47 | F12: =IF(AND(C12>23,D12>9),"P","F") -> P | G12: 37 | H12: =IF(AND(G12>32),"P","F") -> P | I12: 17 | J12: 9 | K12: 18 | L12: =I12+J12+K12 -> 44 | M12: =IF(AND(I12>16,J12>8<K12>8),"P","F") -> P | N12: 46 | O12: 19 | P12: =N12+O12 -> 65 | Q12: =IF(AND(N12>23,O12>9),"P","F") -> P | R12: 31 | S12: 19 | T12: =R12+S12 -> 50 | U12: =IF(AND(R12>23,S12>9),"P","F") -> P | V12: 33 | W12: 19 | X12: =V12+W12 -> 52 | Y12: =IF(AND(V12>23,W12>9),"P","F") -> P | Z12: 23 | AA12: 13 | AB12: =Z12+AA12 -> 36 | AC12: =IF(AND(Z12>23,AA12>9),"P","F") -> F | AF12: =AD12+AE12 -> 0 | AG12: =IF(AND(AD12>23,AE12>9),"P","F") -> F
A13: 322 | B13: MD. KAWSHIK | C13: 34 | D13: 18 | E13: =C13+D13 -> 52 | F13: =IF(AND(C13>23,D13>9),"P","F") -> P | G13: 41 | H13: =IF(AND(G13>32),"P","F") -> P | I13: 17 | J13: 12 | K13: 18 | L13: =I13+J13+K13 -> 47 | M13: =IF(AND(I13>16,J13>8<K13>8),"P","F") -> P | N13: 59 | O13: 26 | P13: =N13+O13 -> 85 | Q13: =IF(AND(N13>23,O13>9),"P","F") -> P | R13: 40 | S13: 18 | T13: =R13+S13 -> 58 | U13: =IF(AND(R13>23,S13>9),"P","F") -> P | V13: 32 | W13: 15 | X13: =V13+W13 -> 47 | Y13: =IF(AND(V13>23,W13>9),"P","F") -> P | Z13: 40 | AA13: 28 | AB13: =Z13+AA13 -> 68 | AC13: =IF(AND(Z13>23,AA13>9),"P","F") -> P | AF13: =AD13+AE13 -> 0 | AG13: =IF(AND(AD13>23,AE13>9),"P","F") -> F
A14: 323 | B14: MD EFAT HOWLADER | C14: 40 | D14: 16 | E14: =C14+D14 -> 56 | F14: =IF(AND(C14>23,D14>9),"P","F") -> P | G14: 42 | H14: =IF(AND(G14>32),"P","F") -> P | I14: 19 | J14: 12 | K14: 18 | L14: =I14+J14+K14 -> 49 | M14: =IF(AND(I14>16,J14>8<K14>8),"P","F") -> P | N14: 58 | O14: 25 | P14: =N14+O14 -> 83 | Q14: =IF(AND(N14>23,O14>9),"P","F") -> P | R14: 44 | S14: 21 | T14: =R14+S14 -> 65 | U14: =IF(AND(R14>23,S14>9),"P","F") -> P | V14: 40 | W14: 15 | X14: =V14+W14 -> 55 | Y14: =IF(AND(V14>23,W14>9),"P","F") -> P | Z14: 35 | AA14: 28 | AB14: =Z14+AA14 -> 63 | AC14: =IF(AND(Z14>23,AA14>9),"P","F") -> P | AF14: =AD14+AE14 -> 0 | AG14: =IF(AND(AD14>23,AE14>9),"P","F") -> F
A15: 324 | B15: APON SHIKDER | C15: 33 | D15: 17 | E15: =C15+D15 -> 50 | F15: =IF(AND(C15>23,D15>9),"P","F") -> P | G15: 33 | H15: =IF(AND(G15>32),"P","F") -> P | I15: 4 | J15: 9 | K15: 18 | L15: =I15+J15+K15 -> 31 | M15: =IF(AND(I15>16,J15>8<K15>8),"P","F") -> F | N15: 63 | O15: 21 | P15: =N15+O15 -> 84 | Q15: =IF(AND(N15>23,O15>9),"P","F") -> P | R15: 30 | S15: 23 | T15: =R15+S15 -> 53 | U15: =IF(AND(R15>23,S15>9),"P","F") -> P | V15: 32 | W15: 16 | X15: =V15+W15 -> 48 | Y15: =IF(AND(V15>23,W15>9),"P","F") -> P | Z15: 25 | AA15: 14 | AB15: =Z15+AA15 -> 39 | AC15: =IF(AND(Z15>23,AA15>9),"P","F") -> P | AF15: =AD15+AE15 -> 0 | AG15: =IF(AND(AD15>23,AE15>9),"P","F") -> F
A16: 329 | B16: MD. TAMIM RAHMAN | C16: 27 | D16: 12 | E16: =C16+D16 -> 39 | F16: =IF(AND(C16>23,D16>9),"P","F") -> P | G16: 33 | H16: =IF(AND(G16>32),"P","F") -> P | I16: 3 | J16: 8 | K16: 18 | L16: =I16+J16+K16 -> 29 | M16: =IF(AND(I16>16,J16>8<K16>8),"P","F") -> F | N16: 47 | O16: 11 | P16: =N16+O16 -> 58 | Q16: =IF(AND(N16>23,O16>9),"P","F") -> P | R16: 28 | S16: 16 | T16: =R16+S16 -> 44 | U16: =IF(AND(R16>23,S16>9),"P","F") -> P | V16: 29 | W16: 15 | X16: =V16+W16 -> 44 | Y16: =IF(AND(V16>23,W16>9),"P","F") -> P | Z16: 10 | AA16: 16 | AB16: =Z16+AA16 -> 26 | AC16: =IF(AND(Z16>23,AA16>9),"P","F") -> F | AF16: =AD16+AE16 -> 0 | AG16: =IF(AND(AD16>23,AE16>9),"P","F") -> F
A17: 332 | B17: MITU MONI | C17: 51 | D17: 19 | E17: =C17+D17 -> 70 | F17: =IF(AND(C17>23,D17>9),"P","F") -> P | G17: 60 | H17: =IF(AND(G17>32),"P","F") -> P | I17: 25 | J17: 20 | K17: 18 | L17: =I17+J17+K17 -> 63 | M17: =IF(AND(I17>16,J17>8<K17>8),"P","F") -> P | N17: 60 | O17: 22 | P17: =N17+O17 -> 82 | Q17: =IF(AND(N17>23,O17>9),"P","F") -> P | R17: 52 | S17: 24 | T17: =R17+S17 -> 76 | U17: =IF(AND(R17>23,S17>9),"P","F") -> P | V17: 59 | W17: 22 | X17: =V17+W17 -> 81 | Y17: =IF(AND(V17>23,W17>9),"P","F") -> P | Z17: 34 | AA17: 23 | AB17: =Z17+AA17 -> 57 | AC17: =IF(AND(Z17>23,AA17>9),"P","F") -> P | AF17: =AD17+AE17 -> 0 | AG17: =IF(AND(AD17>23,AE17>9),"P","F") -> F
A18: 333 | B18: PROBIR MAZUMDER | C18: 31 | D18: 13 | E18: =C18+D18 -> 44 | F18: =IF(AND(C18>23,D18>9),"P","F") -> P | G18: 35 | H18: =IF(AND(G18>32),"P","F") -> P | I18: 1 | J18: 10 | K18: 18 | L18: =I18+J18+K18 -> 29 | M18: =IF(AND(I18>16,J18>8<K18>8),"P","F") -> F | N18: 60 | O18: 22 | P18: =N18+O18 -> 82 | Q18: =IF(AND(N18>23,O18>9),"P","F") -> P | R18: 30 | S18: 16 | T18: =R18+S18 -> 46 | U18: =IF(AND(R18>23,S18>9),"P","F") -> P | X18: =V18+W18 -> 0 | Y18: =IF(AND(V18>23,W18>9),"P","F") -> F | Z18: 25 | AA18: 15 | AB18: =Z18+AA18 -> 40 | AC18: =IF(AND(Z18>23,AA18>9),"P","F") -> P | AF18: =AD18+AE18 -> 0 | AG18: =IF(AND(AD18>23,AE18>9),"P","F") -> F
A19: 335 | B19: DHIP SAMADDER | C19: 25 | D19: 12 | E19: =C19+D19 -> 37 | F19: =IF(AND(C19>23,D19>9),"P","F") -> P | H19: =IF(AND(G19>32),"P","F") -> F | I19: 2 | J19: 8 | K19: 18 | L19: =I19+J19+K19 -> 28 | M19: =IF(AND(I19>16,J19>8<K19>8),"P","F") -> F | N19: 30 | O19: 14 | P19: =N19+O19 -> 44 | Q19: =IF(AND(N19>23,O19>9),"P","F") -> P | R19: 24 | S19: 13 | T19: =R19+S19 -> 37 | U19: =IF(AND(R19>23,S19>9),"P","F") -> P | V19: 21 | W19: 18 | X19: =V19+W19 -> 39 | Y19: =IF(AND(V19>23,W19>9),"P","F") -> F | Z19: 23 | AA19: 12 | AB19: =Z19+AA19 -> 35 | AC19: =IF(AND(Z19>23,AA19>9),"P","F") -> F | AF19: =AD19+AE19 -> 0 | AG19: =IF(AND(AD19>23,AE19>9),"P","F") -> F
A20: 339 | B20: NUSRAT JAHAN RUMI | C20: 33 | D20: 16 | E20: =C20+D20 -> 49 | F20: =IF(AND(C20>23,D20>9),"P","F") -> P | G20: 29 | H20: =IF(AND(G20>32),"P","F") -> F | I20: 18 | J20: 11 | K20: 18 | L20: =I20+J20+K20 -> 47 | M20: =IF(AND(I20>16,J20>8<K20>8),"P","F") -> P | N20: 54 | O20: 24 | P20: =N20+O20 -> 78 | Q20: =IF(AND(N20>23,O20>9),"P","F") -> P | R20: 30 | S20: 21 | T20: =R20+S20 -> 51 | U20: =IF(AND(R20>23,S20>9),"P","F") -> P | V20: 35 | W20: 23 | X20: =V20+W20 -> 58 | Y20: =IF(AND(V20>23,W20>9),"P","F") -> P | Z20: 27 | AA20: 14 | AB20: =Z20+AA20 -> 41 | AC20: =IF(AND(Z20>23,AA20>9),"P","F") -> P | AF20: =AD20+AE20 -> 0 | AG20: =IF(AND(AD20>23,AE20>9),"P","F") -> F
A21: 340 | B21: MD. RIMON JOMADDER | C21: 34 | D21: 10 | E21: =C21+D21 -> 44 | F21: =IF(AND(C21>23,D21>9),"P","F") -> P | G21: 28 | H21: =IF(AND(G21>32),"P","F") -> F | I21: 5 | J21: 9 | K21: 18 | L21: =I21+J21+K21 -> 32 | M21: =IF(AND(I21>16,J21>8<K21>8),"P","F") -> F | N21: 19 | O21: 16 | P21: =N21+O21 -> 35 | Q21: =IF(AND(N21>23,O21>9),"P","F") -> F | R21: 26 | S21: 18 | T21: =R21+S21 -> 44 | U21: =IF(AND(R21>23,S21>9),"P","F") -> P | V21: 23 | W21: 11 | X21: =V21+W21 -> 34 | Y21: =IF(AND(V21>23,W21>9),"P","F") -> F | Z21: 26 | AA21: 14 | AB21: =Z21+AA21 -> 40 | AC21: =IF(AND(Z21>23,AA21>9),"P","F") -> P | AF21: =AD21+AE21 -> 0 | AG21: =IF(AND(AD21>23,AE21>9),"P","F") -> F
A22: 353 | B22: NAYEM SHAH ZAKARIA | C22: 38 | D22: 11 | E22: =C22+D22 -> 49 | F22: =IF(AND(C22>23,D22>9),"P","F") -> P | G22: 33 | H22: =IF(AND(G22>32),"P","F") -> P | I22: 4 | J22: 10 | K22: 18 | L22: =I22+J22+K22 -> 32 | M22: =IF(AND(I22>16,J22>8<K22>8),"P","F") -> F | N22: 37 | O22: 16 | P22: =N22+O22 -> 53 | Q22: =IF(AND(N22>23,O22>9),"P","F") -> P | R22: 30 | S22: 18 | T22: =R22+S22 -> 48 | U22: =IF(AND(R22>23,S22>9),"P","F") -> P | V22: 40 | W22: 16 | X22: =V22+W22 -> 56 | Y22: =IF(AND(V22>23,W22>9),"P","F") -> P | Z22: 29 | AA22: 14 | AB22: =Z22+AA22 -> 43 | AC22: =IF(AND(Z22>23,AA22>9),"P","F") -> P | AF22: =AD22+AE22 -> 0 | AG22: =IF(AND(AD22>23,AE22>9),"P","F") -> F
A23: 355 | B23: ANIP | C23: 28 | D23: 16 | E23: =C23+D23 -> 44 | F23: =IF(AND(C23>23,D23>9),"P","F") -> P | G23: 33 | H23: =IF(AND(G23>32),"P","F") -> P | I23: 1 | J23: 10 | K23: 18 | L23: =I23+J23+K23 -> 29 | M23: =IF(AND(I23>16,J23>8<K23>8),"P","F") -> F | N23: 52 | O23: 15 | P23: =N23+O23 -> 67 | Q23: =IF(AND(N23>23,O23>9),"P","F") -> P | R23: 29 | S23: 15 | T23: =R23+S23 -> 44 | U23: =IF(AND(R23>23,S23>9),"P","F") -> P | V23: 31 | W23: 12 | X23: =V23+W23 -> 43 | Y23: =IF(AND(V23>23,W23>9),"P","F") -> P | Z23: 23 | AA23: 19 | AB23: =Z23+AA23 -> 42 | AC23: =IF(AND(Z23>23,AA23>9),"P","F") -> F | AF23: =AD23+AE23 -> 0 | AG23: =IF(AND(AD23>23,AE23>9),"P","F") -> F
A24: 357 | B24: MD. RAHAT HOWLADER | C24: 39 | D24: 9 | E24: =C24+D24 -> 48 | F24: =IF(AND(C24>23,D24>9),"P","F") -> F | G24: 27 | H24: =IF(AND(G24>32),"P","F") -> F | I24: 6 | J24: 7 | K24: 18 | L24: =I24+J24+K24 -> 31 | M24: =IF(AND(I24>16,J24>8<K24>8),"P","F") -> F | N24: 54 | O24: 21 | P24: =N24+O24 -> 75 | Q24: =IF(AND(N24>23,O24>9),"P","F") -> P | R24: 26 | S24: 18 | T24: =R24+S24 -> 44 | U24: =IF(AND(R24>23,S24>9),"P","F") -> P | V24: 38 | W24: 14 | X24: =V24+W24 -> 52 | Y24: =IF(AND(V24>23,W24>9),"P","F") -> P | Z24: 24 | AA24: 15 | AB24: =Z24+AA24 -> 39 | AC24: =IF(AND(Z24>23,AA24>9),"P","F") -> P | AF24: =AD24+AE24 -> 0 | AG24: =IF(AND(AD24>23,AE24>9),"P","F") -> F
A25: 358 | B25: HASIB SHEKH | C25: 38 | D25: 13 | E25: =C25+D25 -> 51 | F25: =IF(AND(C25>23,D25>9),"P","F") -> P | G25: 34 | H25: =IF(AND(G25>32),"P","F") -> P | I25: 2 | J25: 18 | K25: 18 | L25: =I25+J25+K25 -> 38 | M25: =IF(AND(I25>16,J25>8<K25>8),"P","F") -> F | N25: 56 | O25: 19 | P25: =N25+O25 -> 75 | Q25: =IF(AND(N25>23,O25>9),"P","F") -> P | R25: 36 | S25: 18 | T25: =R25+S25 -> 54 | U25: =IF(AND(R25>23,S25>9),"P","F") -> P | V25: 34 | W25: 18 | X25: =V25+W25 -> 52 | Y25: =IF(AND(V25>23,W25>9),"P","F") -> P | AB25: =Z25+AA25 -> 0 | AC25: =IF(AND(Z25>23,AA25>9),"P","F") -> F | AF25: =AD25+AE25 -> 0 | AG25: =IF(AND(AD25>23,AE25>9),"P","F") -> F
A26: 363 | B26: SAMMO SAHA | C26: 33 | D26: 17 | E26: =C26+D26 -> 50 | F26: =IF(AND(C26>23,D26>9),"P","F") -> P | G26: 38 | H26: =IF(AND(G26>32),"P","F") -> P | I26: 13 | J26: 15 | K26: 18 | L26: =I26+J26+K26 -> 46 | M26: =IF(AND(I26>16,J26>8<K26>8),"P","F") -> F | N26: 39 | O26: 13 | P26: =N26+O26 -> 52 | Q26: =IF(AND(N26>23,O26>9),"P","F") -> P | R26: 27 | S26: 21 | T26: =R26+S26 -> 48 | U26: =IF(AND(R26>23,S26>9),"P","F") -> P | V26: 32 | W26: 18 | X26: =V26+W26 -> 50 | Y26: =IF(AND(V26>23,W26>9),"P","F") -> P | Z26: 24 | AA26: 13 | AB26: =Z26+AA26 -> 37 | AC26: =IF(AND(Z26>23,AA26>9),"P","F") -> P | AF26: =AD26+AE26 -> 0 | AG26: =IF(AND(AD26>23,AE26>9),"P","F") -> F
A27: 366 | B27: RATUL HOSSEN | C27: 42 | D27: 17 | E27: =C27+D27 -> 59 | F27: =IF(AND(C27>23,D27>9),"P","F") -> P | G27: 33 | H27: =IF(AND(G27>32),"P","F") -> P | I27: 14 | J27: 11 | K27: 18 | L27: =I27+J27+K27 -> 43 | M27: =IF(AND(I27>16,J27>8<K27>8),"P","F") -> F | N27: 46 | O27: 19 | P27: =N27+O27 -> 65 | Q27: =IF(AND(N27>23,O27>9),"P","F") -> P | R27: 34 | S27: 16 | T27: =R27+S27 -> 50 | U27: =IF(AND(R27>23,S27>9),"P","F") -> P | V27: 35 | W27: 14 | X27: =V27+W27 -> 49 | Y27: =IF(AND(V27>23,W27>9),"P","F") -> P | Z27: 24 | AA27: 10 | AB27: =Z27+AA27 -> 34 | AC27: =IF(AND(Z27>23,AA27>9),"P","F") -> P | AF27: =AD27+AE27 -> 0 | AG27: =IF(AND(AD27>23,AE27>9),"P","F") -> F
A28: 367 | B28: SAIFULLAH EMRAN | C28: 44 | D28: 19 | E28: =C28+D28 -> 63 | F28: =IF(AND(C28>23,D28>9),"P","F") -> P | G28: 34 | H28: =IF(AND(G28>32),"P","F") -> P | I28: 19 | J28: 19 | K28: 18 | L28: =I28+J28+K28 -> 56 | M28: =IF(AND(I28>16,J28>8<K28>8),"P","F") -> P | N28: 61 | O28: 24 | P28: =N28+O28 -> 85 | Q28: =IF(AND(N28>23,O28>9),"P","F") -> P | R28: 30 | S28: 24 | T28: =R28+S28 -> 54 | U28: =IF(AND(R28>23,S28>9),"P","F") -> P | V28: 34 | W28: 18 | X28: =V28+W28 -> 52 | Y28: =IF(AND(V28>23,W28>9),"P","F") -> P | Z28: 30 | AA28: 21 | AB28: =Z28+AA28 -> 51 | AC28: =IF(AND(Z28>23,AA28>9),"P","F") -> P | AF28: =AD28+AE28 -> 0 | AG28: =IF(AND(AD28>23,AE28>9),"P","F") -> F
A29: 368 | B29: MD. ARAFAT HOWLADER | C29: 44 | D29: 14 | E29: =C29+D29 -> 58 | F29: =IF(AND(C29>23,D29>9),"P","F") -> P | G29: 33 | H29: =IF(AND(G29>32),"P","F") -> P | I29: 17 | J29: 18 | K29: 18 | L29: =I29+J29+K29 -> 53 | M29: =IF(AND(I29>16,J29>8<K29>8),"P","F") -> P | N29: 57 | O29: 21 | P29: =N29+O29 -> 78 | Q29: =IF(AND(N29>23,O29>9),"P","F") -> P | R29: 32 | S29: 22 | T29: =R29+S29 -> 54 | U29: =IF(AND(R29>23,S29>9),"P","F") -> P | V29: 34 | W29: 14 | X29: =V29+W29 -> 48 | Y29: =IF(AND(V29>23,W29>9),"P","F") -> P | Z29: 30 | AA29: 21 | AB29: =Z29+AA29 -> 51 | AC29: =IF(AND(Z29>23,AA29>9),"P","F") -> P | AF29: =AD29+AE29 -> 0 | AG29: =IF(AND(AD29>23,AE29>9),"P","F") -> F
A30: 369 | B30: MD. RIFAT MINA | C30: 47 | D30: 15 | E30: =C30+D30 -> 62 | F30: =IF(AND(C30>23,D30>9),"P","F") -> P | G30: 33 | H30: =IF(AND(G30>32),"P","F") -> P | I30: 8 | J30: 11 | K30: 18 | L30: =I30+J30+K30 -> 37 | M30: =IF(AND(I30>16,J30>8<K30>8),"P","F") -> F | N30: 41 | O30: 21 | P30: =N30+O30 -> 62 | Q30: =IF(AND(N30>23,O30>9),"P","F") -> P | T30: =R30+S30 -> 0 | U30: =IF(AND(R30>23,S30>9),"P","F") -> F | V30: 41 | W30: 18 | X30: =V30+W30 -> 59 | Y30: =IF(AND(V30>23,W30>9),"P","F") -> P | Z30: 34 | AA30: 15 | AB30: =Z30+AA30 -> 49 | AC30: =IF(AND(Z30>23,AA30>9),"P","F") -> P | AF30: =AD30+AE30 -> 0 | AG30: =IF(AND(AD30>23,AE30>9),"P","F") -> F
A31: 370 | B31: KAZI SEYAM | C31: 53 | D31: 11 | E31: =C31+D31 -> 64 | F31: =IF(AND(C31>23,D31>9),"P","F") -> P | G31: 19 | H31: =IF(AND(G31>32),"P","F") -> F | I31: 8 | J31: 8 | K31: 18 | L31: =I31+J31+K31 -> 34 | M31: =IF(AND(I31>16,J31>8<K31>8),"P","F") -> F | N31: 42 | O31: 22 | P31: =N31+O31 -> 64 | Q31: =IF(AND(N31>23,O31>9),"P","F") -> P | R31: 48 | S31: 12 | T31: =R31+S31 -> 60 | U31: =IF(AND(R31>23,S31>9),"P","F") -> P | V31: 41 | W31: 17 | X31: =V31+W31 -> 58 | Y31: =IF(AND(V31>23,W31>9),"P","F") -> P | Z31: 25 | AA31: 10 | AB31: =Z31+AA31 -> 35 | AC31: =IF(AND(Z31>23,AA31>9),"P","F") -> P | AF31: =AD31+AE31 -> 0 | AG31: =IF(AND(AD31>23,AE31>9),"P","F") -> F
A32: 371 | B32: MD. SEAM TALUCKDAR | C32: 30 | D32: 8 | E32: =C32+D32 -> 38 | F32: =IF(AND(C32>23,D32>9),"P","F") -> F | G32: 14 | H32: =IF(AND(G32>32),"P","F") -> F | I32: 1 | J32: 8 | K32: 18 | L32: =I32+J32+K32 -> 27 | M32: =IF(AND(I32>16,J32>8<K32>8),"P","F") -> F | N32: 22 | O32: 9 | P32: =N32+O32 -> 31 | Q32: =IF(AND(N32>23,O32>9),"P","F") -> F | R32: 20 | S32: 11 | T32: =R32+S32 -> 31 | U32: =IF(AND(R32>23,S32>9),"P","F") -> F | V32: 25 | W32: 10 | X32: =V32+W32 -> 35 | Y32: =IF(AND(V32>23,W32>9),"P","F") -> P | Z32: 20 | AA32: 12 | AB32: =Z32+AA32 -> 32 | AC32: =IF(AND(Z32>23,AA32>9),"P","F") -> F | AF32: =AD32+AE32 -> 0 | AG32: =IF(AND(AD32>23,AE32>9),"P","F") -> F
A33: 372 | B33: SHAYEM ISLAM ROHAN | E33: =C33+D33 -> 0 | F33: =IF(AND(C33>23,D33>9),"P","F") -> F | G33: 9 | H33: =IF(AND(G33>32),"P","F") -> F | I33: 0 | J33: 9 | K33: 18 | L33: =I33+J33+K33 -> 27 | M33: =IF(AND(I33>16,J33>8<K33>8),"P","F") -> F | N33: 30 | O33: 13 | P33: =N33+O33 -> 43 | Q33: =IF(AND(N33>23,O33>9),"P","F") -> P | R33: 33 | S33: 5 | T33: =R33+S33 -> 38 | U33: =IF(AND(R33>23,S33>9),"P","F") -> F | V33: 29 | W33: 10 | X33: =V33+W33 -> 39 | Y33: =IF(AND(V33>23,W33>9),"P","F") -> P | Z33: 20 | AA33: 7 | AB33: =Z33+AA33 -> 27 | AC33: =IF(AND(Z33>23,AA33>9),"P","F") -> F | AF33: =AD33+AE33 -> 0 | AG33: =IF(AND(AD33>23,AE33>9),"P","F") -> F
A34: 376 | B34: RUPA | C34: 58 | D34: 20 | E34: =C34+D34 -> 78 | F34: =IF(AND(C34>23,D34>9),"P","F") -> P | G34: 52 | H34: =IF(AND(G34>32),"P","F") -> P | I34: 30 | J34: 20 | K34: 18 | L34: =I34+J34+K34 -> 68 | M34: =IF(AND(I34>16,J34>8<K34>8),"P","F") -> P | N34: 60 | O34: 27 | P34: =N34+O34 -> 87 | Q34: =IF(AND(N34>23,O34>9),"P","F") -> P | R34: 55 | S34: 26 | T34: =R34+S34 -> 81 | U34: =IF(AND(R34>23,S34>9),"P","F") -> P | V34: 60 | W34: 20 | X34: =V34+W34 -> 80 | Y34: =IF(AND(V34>23,W34>9),"P","F") -> P | Z34: 28 | AA34: 26 | AB34: =Z34+AA34 -> 54 | AC34: =IF(AND(Z34>23,AA34>9),"P","F") -> P | AF34: =AD34+AE34 -> 0 | AG34: =IF(AND(AD34>23,AE34>9),"P","F") -> F
A35: 377 | B35: URMI AKTER | C35: 57 | D35: 18 | E35: =C35+D35 -> 75 | F35: =IF(AND(C35>23,D35>9),"P","F") -> P | G35: 50 | H35: =IF(AND(G35>32),"P","F") -> P | I35: 21 | J35: 10 | K35: 18 | L35: =I35+J35+K35 -> 49 | M35: =IF(AND(I35>16,J35>8<K35>8),"P","F") -> P | N35: 61 | O35: 26 | P35: =N35+O35 -> 87 | Q35: =IF(AND(N35>23,O35>9),"P","F") -> P | R35: 59 | S35: 26 | T35: =R35+S35 -> 85 | U35: =IF(AND(R35>23,S35>9),"P","F") -> P | V35: 59 | W35: 21 | X35: =V35+W35 -> 80 | Y35: =IF(AND(V35>23,W35>9),"P","F") -> P | Z35: 40 | AA35: 22 | AB35: =Z35+AA35 -> 62 | AC35: =IF(AND(Z35>23,AA35>9),"P","F") -> P | AF35: =AD35+AE35 -> 0 | AG35: =IF(AND(AD35>23,AE35>9),"P","F") -> F
A36: 385 | B36: PARVEJ HASAN RAJIB | C36: 30 | D36: 13 | E36: =C36+D36 -> 43 | F36: =IF(AND(C36>23,D36>9),"P","F") -> P | G36: 18 | H36: =IF(AND(G36>32),"P","F") -> F | I36: 2 | J36: 6 | K36: 18 | L36: =I36+J36+K36 -> 26 | M36: =IF(AND(I36>16,J36>8<K36>8),"P","F") -> F | N36: 29 | O36: 20 | P36: =N36+O36 -> 49 | Q36: =IF(AND(N36>23,O36>9),"P","F") -> P | R36: 29 | S36: 13 | T36: =R36+S36 -> 42 | U36: =IF(AND(R36>23,S36>9),"P","F") -> P | X36: =V36+W36 -> 0 | Y36: =IF(AND(V36>23,W36>9),"P","F") -> F | Z36: 29 | AA36: 13 | AB36: =Z36+AA36 -> 42 | AC36: =IF(AND(Z36>23,AA36>9),"P","F") -> P | AF36: =AD36+AE36 -> 0 | AG36: =IF(AND(AD36>23,AE36>9),"P","F") -> F
A37: 386 | B37: NAYON DAS | C37: 20 | D37: 17 | E37: =C37+D37 -> 37 | F37: =IF(AND(C37>23,D37>9),"P","F") -> F | G37: 18 | H37: =IF(AND(G37>32),"P","F") -> F | I37: 10 | J37: 15 | K37: 18 | L37: =I37+J37+K37 -> 43 | M37: =IF(AND(I37>16,J37>8<K37>8),"P","F") -> F | N37: 54 | O37: 24 | P37: =N37+O37 -> 78 | Q37: =IF(AND(N37>23,O37>9),"P","F") -> P | R37: 27 | S37: 13 | T37: =R37+S37 -> 40 | U37: =IF(AND(R37>23,S37>9),"P","F") -> P | V37: 46 | W37: 13 | X37: =V37+W37 -> 59 | Y37: =IF(AND(V37>23,W37>9),"P","F") -> P | Z37: 27 | AA37: 15 | AB37: =Z37+AA37 -> 42 | AC37: =IF(AND(Z37>23,AA37>9),"P","F") -> P | AF37: =AD37+AE37 -> 0 | AG37: =IF(AND(AD37>23,AE37>9),"P","F") -> F
A38: 392 | B38: RAHAT FAKIR | C38: 30 | D38: 9 | E38: =C38+D38 -> 39 | F38: =IF(AND(C38>23,D38>9),"P","F") -> F | G38: 13 | H38: =IF(AND(G38>32),"P","F") -> F | I38: 5 | J38: 15 | K38: 18 | L38: =I38+J38+K38 -> 38 | M38: =IF(AND(I38>16,J38>8<K38>8),"P","F") -> F | N38: 41 | O38: 19 | P38: =N38+O38 -> 60 | Q38: =IF(AND(N38>23,O38>9),"P","F") -> P | R38: 21 | S38: 11 | T38: =R38+S38 -> 32 | U38: =IF(AND(R38>23,S38>9),"P","F") -> F | V38: 26 | W38: 9 | X38: =V38+W38 -> 35 | Y38: =IF(AND(V38>23,W38>9),"P","F") -> F | Z38: 20 | AA38: 8 | AB38: =Z38+AA38 -> 28 | AC38: =IF(AND(Z38>23,AA38>9),"P","F") -> F | AF38: =AD38+AE38 -> 0 | AG38: =IF(AND(AD38>23,AE38>9),"P","F") -> F
A39: 393 | B39: MD.RIAD KHAN | C39: 43 | D39: 18 | E39: =C39+D39 -> 61 | F39: =IF(AND(C39>23,D39>9),"P","F") -> P | G39: 22 | H39: =IF(AND(G39>32),"P","F") -> F | I39: 17 | J39: 14 | K39: 18 | L39: =I39+J39+K39 -> 49 | M39: =IF(AND(I39>16,J39>8<K39>8),"P","F") -> P | N39: 44 | O39: 26 | P39: =N39+O39 -> 70 | Q39: =IF(AND(N39>23,O39>9),"P","F") -> P | R39: 39 | S39: 14 | T39: =R39+S39 -> 53 | U39: =IF(AND(R39>23,S39>9),"P","F") -> P | V39: 33 | W39: 18 | X39: =V39+W39 -> 51 | Y39: =IF(AND(V39>23,W39>9),"P","F") -> P | Z39: 25 | AA39: 17 | AB39: =Z39+AA39 -> 42 | AC39: =IF(AND(Z39>23,AA39>9),"P","F") -> P | AF39: =AD39+AE39 -> 0 | AG39: =IF(AND(AD39>23,AE39>9),"P","F") -> F
A40: 395 | B40: SUPROTIC KARMOKER | C40: 34 | D40: 7 | E40: =C40+D40 -> 41 | F40: =IF(AND(C40>23,D40>9),"P","F") -> F | G40: 33 | H40: =IF(AND(G40>32),"P","F") -> P | I40: 3 | J40: 8 | K40: 18 | L40: =I40+J40+K40 -> 29 | M40: =IF(AND(I40>16,J40>8<K40>8),"P","F") -> F | N40: 47 | O40: 19 | P40: =N40+O40 -> 66 | Q40: =IF(AND(N40>23,O40>9),"P","F") -> P | R40: 24 | S40: 11 | T40: =R40+S40 -> 35 | U40: =IF(AND(R40>23,S40>9),"P","F") -> P | V40: 29 | W40: 8 | X40: =V40+W40 -> 37 | Y40: =IF(AND(V40>23,W40>9),"P","F") -> F | Z40: 20 | AA40: 8 | AB40: =Z40+AA40 -> 28 | AC40: =IF(AND(Z40>23,AA40>9),"P","F") -> F | AF40: =AD40+AE40 -> 0 | AG40: =IF(AND(AD40>23,AE40>9),"P","F") -> F
A41: 397 | B41: SANJIT DAS | C41: 37 | D41: 11 | E41: =C41+D41 -> 48 | F41: =IF(AND(C41>23,D41>9),"P","F") -> P | G41: 20 | H41: =IF(AND(G41>32),"P","F") -> F | I41: 5 | J41: 10 | K41: 18 | L41: =I41+J41+K41 -> 33 | M41: =IF(AND(I41>16,J41>8<K41>8),"P","F") -> F | N41: 35 | O41: 18 | P41: =N41+O41 -> 53 | Q41: =IF(AND(N41>23,O41>9),"P","F") -> P | R41: 40 | S41: 15 | T41: =R41+S41 -> 55 | U41: =IF(AND(R41>23,S41>9),"P","F") -> P | V41: 38 | W41: 13 | X41: =V41+W41 -> 51 | Y41: =IF(AND(V41>23,W41>9),"P","F") -> P | Z41: 25 | AA41: 9 | AB41: =Z41+AA41 -> 34 | AC41: =IF(AND(Z41>23,AA41>9),"P","F") -> F | AF41: =AD41+AE41 -> 0 | AG41: =IF(AND(AD41>23,AE41>9),"P","F") -> F
A42: 399 | B42: MINHAJUR RAHMAN TAMIM | C42: 29 | D42: 10 | E42: =C42+D42 -> 39 | F42: =IF(AND(C42>23,D42>9),"P","F") -> P | G42: 22 | H42: =IF(AND(G42>32),"P","F") -> F | I42: 10 | J42: 9 | K42: 18 | L42: =I42+J42+K42 -> 37 | M42: =IF(AND(I42>16,J42>8<K42>8),"P","F") -> F | N42: 27 | O42: 21 | P42: =N42+O42 -> 48 | Q42: =IF(AND(N42>23,O42>9),"P","F") -> P | R42: 38 | S42: 12 | T42: =R42+S42 -> 50 | U42: =IF(AND(R42>23,S42>9),"P","F") -> P | V42: 41 | W42: 14 | X42: =V42+W42 -> 55 | Y42: =IF(AND(V42>23,W42>9),"P","F") -> P | Z42: 29 | AA42: 11 | AB42: =Z42+AA42 -> 40 | AC42: =IF(AND(Z42>23,AA42>9),"P","F") -> P | AF42: =AD42+AE42 -> 0 | AG42: =IF(AND(AD42>23,AE42>9),"P","F") -> F
A43: 404 | B43: MD. SAKIB | C43: 24 | D43: 7 | E43: =C43+D43 -> 31 | F43: =IF(AND(C43>23,D43>9),"P","F") -> F | G43: 14 | H43: =IF(AND(G43>32),"P","F") -> F | I43: 3 | J43: 11 | K43: 18 | L43: =I43+J43+K43 -> 32 | M43: =IF(AND(I43>16,J43>8<K43>8),"P","F") -> F | N43: 37 | O43: 23 | P43: =N43+O43 -> 60 | Q43: =IF(AND(N43>23,O43>9),"P","F") -> P | R43: 31 | S43: 24 | T43: =R43+S43 -> 55 | U43: =IF(AND(R43>23,S43>9),"P","F") -> P | V43: 31 | W43: 17 | X43: =V43+W43 -> 48 | Y43: =IF(AND(V43>23,W43>9),"P","F") -> P | Z43: 28 | AA43: 24 | AB43: =Z43+AA43 -> 52 | AC43: =IF(AND(Z43>23,AA43>9),"P","F") -> P | AF43: =AD43+AE43 -> 0 | AG43: =IF(AND(AD43>23,AE43>9),"P","F") -> F
A44: 405 | B44: SIMA AKTER | C44: 54 | D44: 19 | E44: =C44+D44 -> 73 | F44: =IF(AND(C44>23,D44>9),"P","F") -> P | G44: 46 | H44: =IF(AND(G44>32),"P","F") -> P | I44: 21 | J44: 13 | K44: 18 | L44: =I44+J44+K44 -> 52 | M44: =IF(AND(I44>16,J44>8<K44>8),"P","F") -> P | N44: 49 | O44: 27 | P44: =N44+O44 -> 76 | Q44: =IF(AND(N44>23,O44>9),"P","F") -> P | R44: 56 | S44: 24 | T44: =R44+S44 -> 80 | U44: =IF(AND(R44>23,S44>9),"P","F") -> P | V44: 58 | W44: 21 | X44: =V44+W44 -> 79 | Y44: =IF(AND(V44>23,W44>9),"P","F") -> P | Z44: 35 | AA44: 23 | AB44: =Z44+AA44 -> 58 | AC44: =IF(AND(Z44>23,AA44>9),"P","F") -> P | AF44: =AD44+AE44 -> 0 | AG44: =IF(AND(AD44>23,AE44>9),"P","F") -> F
A45: 407 | B45: NILOY MISTRY | C45: 32 | D45: 15 | E45: =C45+D45 -> 47 | F45: =IF(AND(C45>23,D45>9),"P","F") -> P | G45: 22 | H45: =IF(AND(G45>32),"P","F") -> F | I45: 4 | J45: 10 | K45: 18 | L45: =I45+J45+K45 -> 32 | M45: =IF(AND(I45>16,J45>8<K45>8),"P","F") -> F | N45: 40 | O45: 15 | P45: =N45+O45 -> 55 | Q45: =IF(AND(N45>23,O45>9),"P","F") -> P | R45: 30 | S45: 14 | T45: =R45+S45 -> 44 | U45: =IF(AND(R45>23,S45>9),"P","F") -> P | V45: 30 | W45: 16 | X45: =V45+W45 -> 46 | Y45: =IF(AND(V45>23,W45>9),"P","F") -> P | Z45: 26 | AA45: 15 | AB45: =Z45+AA45 -> 41 | AC45: =IF(AND(Z45>23,AA45>9),"P","F") -> P | AF45: =AD45+AE45 -> 0 | AG45: =IF(AND(AD45>23,AE45>9),"P","F") -> F
A46: 409 | B46: PROSANTO KUMAR | C46: 30 | D46: 14 | E46: =C46+D46 -> 44 | F46: =IF(AND(C46>23,D46>9),"P","F") -> P | G46: 7 | H46: =IF(AND(G46>32),"P","F") -> F | I46: 0 | J46: 10 | K46: 18 | L46: =I46+J46+K46 -> 28 | M46: =IF(AND(I46>16,J46>8<K46>8),"P","F") -> F | N46: 30 | O46: 9 | P46: =N46+O46 -> 39 | Q46: =IF(AND(N46>23,O46>9),"P","F") -> F | R46: 32 | S46: 14 | T46: =R46+S46 -> 46 | U46: =IF(AND(R46>23,S46>9),"P","F") -> P | V46: 28 | W46: 15 | X46: =V46+W46 -> 43 | Y46: =IF(AND(V46>23,W46>9),"P","F") -> P | Z46: 23 | AA46: 23 | AB46: =Z46+AA46 -> 46 | AC46: =IF(AND(Z46>23,AA46>9),"P","F") -> F | AF46: =AD46+AE46 -> 0 | AG46: =IF(AND(AD46>23,AE46>9),"P","F") -> F
A47: 410 | B47: SUVO BOWALI | E47: =C47+D47 -> 0 | F47: =IF(AND(C47>23,D47>9),"P","F") -> F | G47: 34 | H47: =IF(AND(G47>32),"P","F") -> P | I47: 5 | J47: 14 | K47: 18 | L47: =I47+J47+K47 -> 37 | M47: =IF(AND(I47>16,J47>8<K47>8),"P","F") -> F | N47: 40 | O47: 20 | P47: =N47+O47 -> 60 | Q47: =IF(AND(N47>23,O47>9),"P","F") -> P | R47: 31 | S47: 22 | T47: =R47+S47 -> 53 | U47: =IF(AND(R47>23,S47>9),"P","F") -> P | V47: 37 | W47: 16 | X47: =V47+W47 -> 53 | Y47: =IF(AND(V47>23,W47>9),"P","F") -> P | Z47: 23 | AA47: 23 | AB47: =Z47+AA47 -> 46 | AC47: =IF(AND(Z47>23,AA47>9),"P","F") -> F | AF47: =AD47+AE47 -> 0 | AG47: =IF(AND(AD47>23,AE47>9),"P","F") -> F
A48: 412 | B48: TARIKUL ISLAM | C48: 31 | D48: 17 | E48: =C48+D48 -> 48 | F48: =IF(AND(C48>23,D48>9),"P","F") -> P | G48: 18 | H48: =IF(AND(G48>32),"P","F") -> F | I48: 2 | J48: 13 | K48: 18 | L48: =I48+J48+K48 -> 33 | M48: =IF(AND(I48>16,J48>8<K48>8),"P","F") -> F | N48: 33 | O48: 25 | P48: =N48+O48 -> 58 | Q48: =IF(AND(N48>23,O48>9),"P","F") -> P | R48: 23 | S48: 24 | T48: =R48+S48 -> 47 | U48: =IF(AND(R48>23,S48>9),"P","F") -> F | V48: 24 | W48: 10 | X48: =V48+W48 -> 34 | Y48: =IF(AND(V48>23,W48>9),"P","F") -> P | Z48: 23 | AA48: 20 | AB48: =Z48+AA48 -> 43 | AC48: =IF(AND(Z48>23,AA48>9),"P","F") -> F | AF48: =AD48+AE48 -> 0 | AG48: =IF(AND(AD48>23,AE48>9),"P","F") -> F
A49: 414 | B49: MAHIM MALLIK | C49: 40 | D49: 14 | E49: =C49+D49 -> 54 | F49: =IF(AND(C49>23,D49>9),"P","F") -> P | G49: 33 | H49: =IF(AND(G49>32),"P","F") -> P | I49: 9 | J49: 10 | K49: 18 | L49: =I49+J49+K49 -> 37 | M49: =IF(AND(I49>16,J49>8<K49>8),"P","F") -> F | N49: 48 | O49: 23 | P49: =N49+O49 -> 71 | Q49: =IF(AND(N49>23,O49>9),"P","F") -> P | R49: 37 | S49: 16 | T49: =R49+S49 -> 53 | U49: =IF(AND(R49>23,S49>9),"P","F") -> P | V49: 42 | W49: 13 | X49: =V49+W49 -> 55 | Y49: =IF(AND(V49>23,W49>9),"P","F") -> P | Z49: 23 | AA49: 14 | AB49: =Z49+AA49 -> 37 | AC49: =IF(AND(Z49>23,AA49>9),"P","F") -> F | AF49: =AD49+AE49 -> 0 | AG49: =IF(AND(AD49>23,AE49>9),"P","F") -> F
A50: 415 | B50: MURSEDA KHANOM | C50: 33 | D50: 17 | E50: =C50+D50 -> 50 | F50: =IF(AND(C50>23,D50>9),"P","F") -> P | G50: 27 | H50: =IF(AND(G50>32),"P","F") -> F | I50: 5 | J50: 11 | K50: 18 | L50: =I50+J50+K50 -> 34 | M50: =IF(AND(I50>16,J50>8<K50>8),"P","F") -> F | N50: 44 | O50: 15 | P50: =N50+O50 -> 59 | Q50: =IF(AND(N50>23,O50>9),"P","F") -> P | R50: 37 | S50: 16 | T50: =R50+S50 -> 53 | U50: =IF(AND(R50>23,S50>9),"P","F") -> P | V50: 45 | W50: 14 | X50: =V50+W50 -> 59 | Y50: =IF(AND(V50>23,W50>9),"P","F") -> P | AB50: =Z50+AA50 -> 0 | AC50: =IF(AND(Z50>23,AA50>9),"P","F") -> F | AF50: =AD50+AE50 -> 0 | AG50: =IF(AND(AD50>23,AE50>9),"P","F") -> F
A51: 417 | B51: ARAFAT | C51: 41 | D51: 9 | E51: =C51+D51 -> 50 | F51: =IF(AND(C51>23,D51>9),"P","F") -> F | G51: 40 | H51: =IF(AND(G51>32),"P","F") -> P | I51: 7 | J51: 13 | K51: 18 | L51: =I51+J51+K51 -> 38 | M51: =IF(AND(I51>16,J51>8<K51>8),"P","F") -> F | N51: 52 | O51: 20 | P51: =N51+O51 -> 72 | Q51: =IF(AND(N51>23,O51>9),"P","F") -> P | R51: 44 | S51: 14 | T51: =R51+S51 -> 58 | U51: =IF(AND(R51>23,S51>9),"P","F") -> P | V51: 43 | W51: 16 | X51: =V51+W51 -> 59 | Y51: =IF(AND(V51>23,W51>9),"P","F") -> P | AB51: =Z51+AA51 -> 0 | AC51: =IF(AND(Z51>23,AA51>9),"P","F") -> F | AF51: =AD51+AE51 -> 0 | AG51: =IF(AND(AD51>23,AE51>9),"P","F") -> F
A52: 418 | B52: MD. BONI AMIN | C52: 23 | D52: 8 | E52: =C52+D52 -> 31 | F52: =IF(AND(C52>23,D52>9),"P","F") -> F | G52: 34 | H52: =IF(AND(G52>32),"P","F") -> P | I52: 8 | J52: 12 | K52: 18 | L52: =I52+J52+K52 -> 38 | M52: =IF(AND(I52>16,J52>8<K52>8),"P","F") -> F | N52: 48 | O52: 16 | P52: =N52+O52 -> 64 | Q52: =IF(AND(N52>23,O52>9),"P","F") -> P | R52: 24 | S52: 17 | T52: =R52+S52 -> 41 | U52: =IF(AND(R52>23,S52>9),"P","F") -> P | V52: 30 | W52: 12 | X52: =V52+W52 -> 42 | Y52: =IF(AND(V52>23,W52>9),"P","F") -> P | Z52: 15 | AA52: 7 | AB52: =Z52+AA52 -> 22 | AC52: =IF(AND(Z52>23,AA52>9),"P","F") -> F | AF52: =AD52+AE52 -> 0 | AG52: =IF(AND(AD52>23,AE52>9),"P","F") -> F
A53: 419 | B53: JANNATI AKTHER KOLY | E53: =C53+D53 -> 0 | F53: =IF(AND(C53>23,D53>9),"P","F") -> F | H53: =IF(AND(G53>32),"P","F") -> F | L53: =I53+J53+K53 -> 0 | M53: =IF(AND(I53>16,J53>8<K53>8),"P","F") -> F | P53: =N53+O53 -> 0 | Q53: =IF(AND(N53>23,O53>9),"P","F") -> F | T53: =R53+S53 -> 0 | U53: =IF(AND(R53>23,S53>9),"P","F") -> F | X53: =V53+W53 -> 0 | Y53: =IF(AND(V53>23,W53>9),"P","F") -> F | Z53: 12 | AA53: 10 | AB53: =Z53+AA53 -> 22 | AC53: =IF(AND(Z53>23,AA53>9),"P","F") -> F | AF53: =AD53+AE53 -> 0 | AG53: =IF(AND(AD53>23,AE53>9),"P","F") -> F
A54: 423 | B54: METUL | C54: 34 | D54: 12 | E54: =C54+D54 -> 46 | F54: =IF(AND(C54>23,D54>9),"P","F") -> P | G54: 33 | H54: =IF(AND(G54>32),"P","F") -> P | I54: 2 | J54: 8 | K54: 18 | L54: =I54+J54+K54 -> 28 | M54: =IF(AND(I54>16,J54>8<K54>8),"P","F") -> F | N54: 36 | O54: 25 | P54: =N54+O54 -> 61 | Q54: =IF(AND(N54>23,O54>9),"P","F") -> P | R54: 44 | S54: 13 | T54: =R54+S54 -> 57 | U54: =IF(AND(R54>23,S54>9),"P","F") -> P | V54: 30 | W54: 13 | X54: =V54+W54 -> 43 | Y54: =IF(AND(V54>23,W54>9),"P","F") -> P | AB54: =Z54+AA54 -> 0 | AC54: =IF(AND(Z54>23,AA54>9),"P","F") -> F | AF54: =AD54+AE54 -> 0 | AG54: =IF(AND(AD54>23,AE54>9),"P","F") -> F
A55: 429 | B55: MD. SYED ALI | C55: 23 | D55: 9 | E55: =C55+D55 -> 32 | F55: =IF(AND(C55>23,D55>9),"P","F") -> F | G55: 33 | H55: =IF(AND(G55>32),"P","F") -> P | I55: 3 | J55: 6 | K55: 18 | L55: =I55+J55+K55 -> 27 | M55: =IF(AND(I55>16,J55>8<K55>8),"P","F") -> F | N55: 15 | O55: 19 | P55: =N55+O55 -> 34 | Q55: =IF(AND(N55>23,O55>9),"P","F") -> F | R55: 17 | S55: 13 | T55: =R55+S55 -> 30 | U55: =IF(AND(R55>23,S55>9),"P","F") -> F | V55: 26 | W55: 16 | X55: =V55+W55 -> 42 | Y55: =IF(AND(V55>23,W55>9),"P","F") -> P | Z55: 12 | AA55: 10 | AB55: =Z55+AA55 -> 22 | AC55: =IF(AND(Z55>23,AA55>9),"P","F") -> F | AF55: =AD55+AE55 -> 0 | AG55: =IF(AND(AD55>23,AE55>9),"P","F") -> F
A56: 430 | B56: MAHIMA AKTHER | C56: 26 | D56: 11 | E56: =C56+D56 -> 37 | F56: =IF(AND(C56>23,D56>9),"P","F") -> P | G56: 28 | H56: =IF(AND(G56>32),"P","F") -> F | I56: 0 | J56: 12 | K56: 18 | L56: =I56+J56+K56 -> 30 | M56: =IF(AND(I56>16,J56>8<K56>8),"P","F") -> F | N56: 5 | O56: 12 | P56: =N56+O56 -> 17 | Q56: =IF(AND(N56>23,O56>9),"P","F") -> F | T56: =R56+S56 -> 0 | U56: =IF(AND(R56>23,S56>9),"P","F") -> F | X56: =V56+W56 -> 0 | Y56: =IF(AND(V56>23,W56>9),"P","F") -> F | AB56: =Z56+AA56 -> 0 | AC56: =IF(AND(Z56>23,AA56>9),"P","F") -> F | AF56: =AD56+AE56 -> 0 | AG56: =IF(AND(AD56>23,AE56>9),"P","F") -> F
A57: 433 | B57: ANIKA AKTHER | C57: 24 | D57: 12 | E57: =C57+D57 -> 36 | F57: =IF(AND(C57>23,D57>9),"P","F") -> P | G57: 44 | H57: =IF(AND(G57>32),"P","F") -> P | I57: 0 | J57: 7 | K57: 18 | L57: =I57+J57+K57 -> 25 | M57: =IF(AND(I57>16,J57>8<K57>8),"P","F") -> F | N57: 34 | O57: 16 | P57: =N57+O57 -> 50 | Q57: =IF(AND(N57>23,O57>9),"P","F") -> P | R57: 19 | S57: 19 | T57: =R57+S57 -> 38 | U57: =IF(AND(R57>23,S57>9),"P","F") -> F | V57: 35 | W57: 18 | X57: =V57+W57 -> 53 | Y57: =IF(AND(V57>23,W57>9),"P","F") -> P | Z57: 8 | AA57: 7 | AB57: =Z57+AA57 -> 15 | AC57: =IF(AND(Z57>23,AA57>9),"P","F") -> F | AF57: =AD57+AE57 -> 0 | AG57: =IF(AND(AD57>23,AE57>9),"P","F") -> F
A58: 436 | B58: MD. MUSABBIR SHIKE | C58: 36 | D58: 18 | E58: =C58+D58 -> 54 | F58: =IF(AND(C58>23,D58>9),"P","F") -> P | H58: =IF(AND(G58>32),"P","F") -> F | I58: 3 | J58: 11 | K58: 18 | L58: =I58+J58+K58 -> 32 | M58: =IF(AND(I58>16,J58>8<K58>8),"P","F") -> F | N58: 38 | O58: 21 | P58: =N58+O58 -> 59 | Q58: =IF(AND(N58>23,O58>9),"P","F") -> P | R58: 34 | S58: 16 | T58: =R58+S58 -> 50 | U58: =IF(AND(R58>23,S58>9),"P","F") -> P | X58: =V58+W58 -> 0 | Y58: =IF(AND(V58>23,W58>9),"P","F") -> F | Z58: 24 | AA58: 16 | AB58: =Z58+AA58 -> 40 | AC58: =IF(AND(Z58>23,AA58>9),"P","F") -> P | AF58: =AD58+AE58 -> 0 | AG58: =IF(AND(AD58>23,AE58>9),"P","F") -> F
A59: 442 | B59: RASHID SHAHRIAR | C59: 41 | D59: 16 | E59: =C59+D59 -> 57 | F59: =IF(AND(C59>23,D59>9),"P","F") -> P | G59: 58 | H59: =IF(AND(G59>32),"P","F") -> P | I59: 11 | J59: 12 | K59: 18 | L59: =I59+J59+K59 -> 41 | M59: =IF(AND(I59>16,J59>8<K59>8),"P","F") -> F | N59: 49 | O59: 25 | P59: =N59+O59 -> 74 | Q59: =IF(AND(N59>23,O59>9),"P","F") -> P | R59: 44 | S59: 20 | T59: =R59+S59 -> 64 | U59: =IF(AND(R59>23,S59>9),"P","F") -> P | V59: 38 | W59: 16 | X59: =V59+W59 -> 54 | Y59: =IF(AND(V59>23,W59>9),"P","F") -> P | Z59: 28 | AA59: 19 | AB59: =Z59+AA59 -> 47 | AC59: =IF(AND(Z59>23,AA59>9),"P","F") -> P | AF59: =AD59+AE59 -> 0 | AG59: =IF(AND(AD59>23,AE59>9),"P","F") -> F
A60: 444 | B60: RAMJAN SHEIK | C60: 20 | D60: 15 | E60: =C60+D60 -> 35 | F60: =IF(AND(C60>23,D60>9),"P","F") -> F | G60: 33 | H60: =IF(AND(G60>32),"P","F") -> P | I60: 0 | J60: 9 | K60: 18 | L60: =I60+J60+K60 -> 27 | M60: =IF(AND(I60>16,J60>8<K60>8),"P","F") -> F | N60: 23 | O60: 13 | P60: =N60+O60 -> 36 | Q60: =IF(AND(N60>23,O60>9),"P","F") -> F | R60: 27 | S60: 12 | T60: =R60+S60 -> 39 | U60: =IF(AND(R60>23,S60>9),"P","F") -> P | V60: 24 | W60: 9 | X60: =V60+W60 -> 33 | Y60: =IF(AND(V60>23,W60>9),"P","F") -> F | Z60: 27 | AA60: 17 | AB60: =Z60+AA60 -> 44 | AC60: =IF(AND(Z60>23,AA60>9),"P","F") -> P | AF60: =AD60+AE60 -> 0 | AG60: =IF(AND(AD60>23,AE60>9),"P","F") -> F
A61: 450 | C61: 20 | D61: 8 | E61: =C61+D61 -> 28 | F61: =IF(AND(C61>23,D61>9),"P","F") -> F
A62: 451 | C62: 28 | D62: 16 | E62: =C62+D62 -> 44 | F62: =IF(AND(C62>23,D62>9),"P","F") -> P
A63: 453 | C63: 12 | D63: 7 | E63: =C63+D63 -> 19 | F63: =IF(AND(C63>23,D63>9),"P","F") -> F
A64: 454 | C64: 24 | D64: 10 | E64: =C64+D64 -> 34 | F64: =IF(AND(C64>23,D64>9),"P","F") -> P
A65: 455 | C65: 25 | D65: 8 | E65: =C65+D65 -> 33 | F65: =IF(AND(C65>23,D65>9),"P","F") -> F
A66: 456 | C66: 9 | D66: 7 | E66: =C66+D66 -> 16 | F66: =IF(AND(C66>23,D66>9),"P","F") -> F | G66: 33
A67: 457 | B67: TAMIM HOWLADER | C67: 19 | D67: 12 | E67: =C67+D67 -> 31 | F67: =IF(AND(C67>23,D67>9),"P","F") -> F | H67: =IF(AND(G67>32),"P","F") -> F | I67: 0 | J67: 10 | K67: 18 | L67: =I67+J67+K67 -> 28 | M67: =IF(AND(I67>16,J67>8<K67>8),"P","F") -> F | N67: 38 | O67: 21 | P67: =N67+O67 -> 59 | Q67: =IF(AND(N67>23,O67>9),"P","F") -> P | R67: 32 | S67: 26 | T67: =R67+S67 -> 58 | U67: =IF(AND(R67>23,S67>9),"P","F") -> P | V67: 19 | W67: 14 | X67: =V67+W67 -> 33 | Y67: =IF(AND(V67>23,W67>9),"P","F") -> F | Z67: 33 | AA67: 17 | AB67: =Z67+AA67 -> 50 | AC67: =IF(AND(Z67>23,AA67>9),"P","F") -> P | AF67: =AD67+AE67 -> 0 | AG67: =IF(AND(AD67>23,AE67>9),"P","F") -> F
A68: 460 | C68: 28 | D68: 13 | E68: =C68+D68 -> 41 | F68: =IF(AND(C68>23,D68>9),"P","F") -> P
A69: 462 | C69: 22 | D69: 10 | E69: =C69+D69 -> 32 | F69: =IF(AND(C69>23,D69>9),"P","F") -> F
A70: 463 | C70: 20 | D70: 10 | E70: =C70+D70 -> 30 | F70: =IF(AND(C70>23,D70>9),"P","F") -> F | N70: 0 | O70: 18 | T70: =R70+S70 -> 0 | U70: =IF(AND(R70>23,S70>9),"P","F") -> F | V70: 3 | W70: 17 | X70: =V70+W70 -> 20 | Y70: =IF(AND(V70>23,W70>9),"P","F") -> F | Z70: 8 | AA70: 20 | AB70: =Z70+AA70 -> 28 | AC70: =IF(AND(Z70>23,AA70>9),"P","F") -> F | AF70: =AD70+AE70 -> 0 | AG70: =IF(AND(AD70>23,AE70>9),"P","F") -> F
A71: 465 | C71: 18 | D71: 5 | E71: =C71+D71 -> 23 | F71: =IF(AND(C71>23,D71>9),"P","F") -> F
A72: 466 | C72: 22 | D72: 16 | E72: =C72+D72 -> 38 | F72: =IF(AND(C72>23,D72>9),"P","F") -> F | G72: 33 | N72: 37 | O72: 11 | R72: 31 | S72: 12 | T72: =R72+S72 -> 43 | U72: =IF(AND(R72>23,S72>9),"P","F") -> P
A73: 468 | B73: MD. SIAM KHAN | C73: 28 | D73: 16 | E73: =C73+D73 -> 44 | F73: =IF(AND(C73>23,D73>9),"P","F") -> P | G73: 53 | H73: =IF(AND(G73>32),"P","F") -> P | I73: 3 | J73: 8 | K73: 18 | L73: =I73+J73+K73 -> 29 | M73: =IF(AND(I73>16,J73>8<K73>8),"P","F") -> F | N73: 31 | O73: 22 | P73: =N73+O73 -> 53 | Q73: =IF(AND(N73>23,O73>9),"P","F") -> P | R73: 25 | S73: 18 | T73: =R73+S73 -> 43 | U73: =IF(AND(R73>23,S73>9),"P","F") -> P | V73: 40 | W73: 12 | X73: =V73+W73 -> 52 | Y73: =IF(AND(V73>23,W73>9),"P","F") -> P | Z73: 26 | AA73: 16 | AB73: =Z73+AA73 -> 42 | AC73: =IF(AND(Z73>23,AA73>9),"P","F") -> P | AF73: =AD73+AE73 -> 0 | AG73: =IF(AND(AD73>23,AE73>9),"P","F") -> F
A74: 470 | G74: 65 | N74: 45 | O74: 28 | R74: 36 | S74: 16 | Z74: 35 | AA74: 20 | AB74: =Z74+AA74 -> 55 | AC74: =IF(AND(Z74>23,AA74>9),"P","F") -> P
A75: 25 | C75: 39 | D75: 12 | I75: 3 | J75: 11 | K75: 18 | N75: 29 | O75: 20 | R75: 25 | S75: 17 | T75: =R75+S75 -> 42 | U75: =IF(AND(R75>23,S75>9),"P","F") -> P | V75: 37 | W75: 16 | X75: =V75+W75 -> 53 | Y75: =IF(AND(V75>23,W75>9),"P","F") -> P | Z75: 23 | AA75: 12 | AB75: =Z75+AA75 -> 35 | AC75: =IF(AND(Z75>23,AA75>9),"P","F") -> F
A76: 41 | B76: MD. JABIR HOSEN HAWOLADAR | C76: 33 | D76: 11 | I76: 12 | J76: 10 | K76: 18 | N76: 29 | O76: 23 | R76: 29 | S76: 16 | T76: =R76+S76 -> 45 | U76: =IF(AND(R76>23,S76>9),"P","F") -> P | V76: 27 | W76: 19 | X76: =V76+W76 -> 46 | Y76: =IF(AND(V76>23,W76>9),"P","F") -> P | Z76: 23 | AA76: 15 | AB76: =Z76+AA76 -> 38 | AC76: =IF(AND(Z76>23,AA76>9),"P","F") -> F

Sheet Humanitis
A5: Roll | B5: Name | C5: Bangla | G5: English | I5: ICT | N5: History | R5: Civics and Good Governence | V5: Islamic Studies | Z5: Islamic History and Cultural | AD5: Sanskrit | AF5: Economics | AJ5: Logic
C6: CQ | D6: MCQ | E6: Total | F6: Grade | G6: Total | H6: Grade | I6: CQ | J6: MCQ | K6: Practical | L6: Total | M6: Grade | N6: CQ | O6: MCQ | P6: Total | Q6: Grade | R6: CQ | S6: MCQ | T6: Total | U6: Grade | V6: CQ | W6: MCQ | X6: Total | Y6: Grade | Z6: CQ | AA6: MCQ | AB6: Total | AC6: Grade | AD6: Total | AE6: Grade | AF6: CQ | AG6: MCQ | AH6: Total | AI6: Grade | AJ6: CQ | AK6: MCQ | AL6: Total | AM6: Grade
A7: 601 | B7: HIAM | E7: =C7+D7 -> 0 | F7: =IF(AND(C7>23,D7>9),"P","F") -> F | G7: 20 | H7: =IF(AND(G7>32),"P","F") -> F | I7: 4 | J7: 6 | K7: 18 | L7: =I7+J7+K7 -> 28 | M7: =IF(AND(I7>16,J7>8,K7>8),"P","F") -> F | N7: 41 | O7: 24 | P7: =N7+O7 -> 65 | Q7: =IF(AND(N7>23,O7>9),"P","F") -> P | T7: =R7+S7 -> 0 | U7: =IF(AND(R7>23,S7>9),"P","F") -> F | V7: 43 | W7: 18 | X7: =V7+W7 -> 61 | Y7: =IF(AND(V7>23,W7>9),"P","F") -> P | AB7: =Z7+AA7 -> 0 | AC7: =IF(AND(Z7>23,AA7>9),"P","F") -> F | AE7: =IF(AND(AD7>32),"P","F") -> F | AH7: =AF7+AG7 -> 0 | AI7: =IF(AND(AF7>23,AG7>9),"P","F") -> F | AJ7: 24 | AK7: 15 | AL7: =AJ7+AK7 -> 39 | AM7: =IF(AND(AJ7>23,AK7>9),"P","F") -> P
A8: 602 | B8: MD. NADIMUL ISLAM | E8: =C8+D8 -> 0 | F8: =IF(AND(C8>23,D8>9),"P","F") -> F | G8: 23 | H8: =IF(AND(G8>32),"P","F") -> F | I8: 4 | J8: 8 | K8: 18 | L8: =I8+J8+K8 -> 30 | M8: =IF(AND(I8>16,J8>8,K8>8),"P","F") -> F | P8: =N8+O8 -> 0 | Q8: =IF(AND(N8>23,O8>9),"P","F") -> F | T8: =R8+S8 -> 0 | U8: =IF(AND(R8>23,S8>9),"P","F") -> F | V8: 43 | W8: 20 | X8: =V8+W8 -> 63 | Y8: =IF(AND(V8>23,W8>9),"P","F") -> P | Z8: 32 | AA8: 22 | AB8: =Z8+AA8 -> 54 | AC8: =IF(AND(Z8>23,AA8>9),"P","F") -> P | AE8: =IF(AND(AD8>32),"P","F") -> F | AH8: =AF8+AG8 -> 0 | AI8: =IF(AND(AF8>23,AG8>9),"P","F") -> F | AL8: =AJ8+AK8 -> 0 | AM8: =IF(AND(AJ8>23,AK8>9),"P","F") -> F
A9: 603 | B9: MD. SAYEM SHEIKH | E9: =C9+D9 -> 0 | F9: =IF(AND(C9>23,D9>9),"P","F") -> F | G9: 17 | H9: =IF(AND(G9>32),"P","F") -> F | I9: 18 | J9: 12 | K9: 18 | L9: =I9+J9+K9 -> 48 | M9: =IF(AND(I9>16,J9>8,K9>8),"P","F") -> P | P9: =N9+O9 -> 0 | Q9: =IF(AND(N9>23,O9>9),"P","F") -> F | T9: =R9+S9 -> 0 | U9: =IF(AND(R9>23,S9>9),"P","F") -> F | V9: 38 | W9: 18 | X9: =V9+W9 -> 56 | Y9: =IF(AND(V9>23,W9>9),"P","F") -> P | Z9: 31 | AA9: 23 | AB9: =Z9+AA9 -> 54 | AC9: =IF(AND(Z9>23,AA9>9),"P","F") -> P | AE9: =IF(AND(AD9>32),"P","F") -> F | AH9: =AF9+AG9 -> 0 | AI9: =IF(AND(AF9>23,AG9>9),"P","F") -> F | AJ9: 28 | AK9: 15 | AL9: =AJ9+AK9 -> 43 | AM9: =IF(AND(AJ9>23,AK9>9),"P","F") -> P
A10: 604 | B10: RUMI AKTER | E10: =C10+D10 -> 0 | F10: =IF(AND(C10>23,D10>9),"P","F") -> F | G10: 28 | H10: =IF(AND(G10>32),"P","F") -> F | I10: 3 | J10: 7 | K10: 18 | L10: =I10+J10+K10 -> 28 | M10: =IF(AND(I10>16,J10>8,K10>8),"P","F") -> F | N10: 43 | O10: 17 | P10: =N10+O10 -> 60 | Q10: =IF(AND(N10>23,O10>9),"P","F") -> P | T10: =R10+S10 -> 0 | U10: =IF(AND(R10>23,S10>9),"P","F") -> F | V10: 43 | W10: 18 | X10: =V10+W10 -> 61 | Y10: =IF(AND(V10>23,W10>9),"P","F") -> P | AB10: =Z10+AA10 -> 0 | AC10: =IF(AND(Z10>23,AA10>9),"P","F") -> F | AE10: =IF(AND(AD10>32),"P","F") -> F | AH10: =AF10+AG10 -> 0 | AI10: =IF(AND(AF10>23,AG10>9),"P","F") -> F | AJ10: 40 | AK10: 17 | AL10: =AJ10+AK10 -> 57 | AM10: =IF(AND(AJ10>23,AK10>9),"P","F") -> P
A11: 605 | B11: MD. SHAHRIAR KHAN | E11: =C11+D11 -> 0 | F11: =IF(AND(C11>23,D11>9),"P","F") -> F | G11: 45 | H11: =IF(AND(G11>32),"P","F") -> P | I11: 34 | J11: 18 | K11: 18 | L11: =I11+J11+K11 -> 70 | M11: =IF(AND(I11>16,J11>8,K11>8),"P","F") -> P | P11: =N11+O11 -> 0 | Q11: =IF(AND(N11>23,O11>9),"P","F") -> F | T11: =R11+S11 -> 0 | U11: =IF(AND(R11>23,S11>9),"P","F") -> F | V11: 48 | W11: 18 | X11: =V11+W11 -> 66 | Y11: =IF(AND(V11>23,W11>9),"P","F") -> P | Z11: 26 | AA11: 21 | AB11: =Z11+AA11 -> 47 | AC11: =IF(AND(Z11>23,AA11>9),"P","F") -> P | AE11: =IF(AND(AD11>32),"P","F") -> F | AH11: =AF11+AG11 -> 0 | AI11: =IF(AND(AF11>23,AG11>9),"P","F") -> F | AL11: =AJ11+AK11 -> 0 | AM11: =IF(AND(AJ11>23,AK11>9),"P","F") -> F
A12: 606 | B12: MASUMA | E12: =C12+D12 -> 0 | F12: =IF(AND(C12>23,D12>9),"P","F") -> F | G12: 12 | H12: =IF(AND(G12>32),"P","F") -> F | I12: 0 | J12: 11 | K12: 18 | L12: =I12+J12+K12 -> 29 | M12: =IF(AND(I12>16,J12>8,K12>8),"P","F") -> F | P12: =N12+O12 -> 0 | Q12: =IF(AND(N12>23,O12>9),"P","F") -> F | T12: =R12+S12 -> 0 | U12: =IF(AND(R12>23,S12>9),"P","F") -> F | V12: 45 | W12: 15 | X12: =V12+W12 -> 60 | Y12: =IF(AND(V12>23,W12>9),"P","F") -> P | Z12: 30 | AA12: 23 | AB12: =Z12+AA12 -> 53 | AC12: =IF(AND(Z12>23,AA12>9),"P","F") -> P | AE12: =IF(AND(AD12>32),"P","F") -> F | AH12: =AF12+AG12 -> 0 | AI12: =IF(AND(AF12>23,AG12>9),"P","F") -> F | AJ12: 25 | AK12: 11 | AL12: =AJ12+AK12 -> 36 | AM12: =IF(AND(AJ12>23,AK12>9),"P","F") -> P
A13: 607 | B13: SAKIB SHEAIKH | E13: =C13+D13 -> 0 | F13: =IF(AND(C13>23,D13>9),"P","F") -> F | G13: 12 | H13: =IF(AND(G13>32),"P","F") -> F | I13: 7 | J13: 6 | K13: 18 | L13: =I13+J13+K13 -> 31 | M13: =IF(AND(I13>16,J13>8,K13>8),"P","F") -> F | N13: 38 | O13: 8 | P13: =N13+O13 -> 46 | Q13: =IF(AND(N13>23,O13>9),"P","F") -> F | T13: =R13+S13 -> 0 | U13: =IF(AND(R13>23,S13>9),"P","F") -> F | V13: 42 | W13: 18 | X13: =V13+W13 -> 60 | Y13: =IF(AND(V13>23,W13>9),"P","F") -> P | AB13: =Z13+AA13 -> 0 | AC13: =IF(AND(Z13>23,AA13>9),"P","F") -> F | AE13: =IF(AND(AD13>32),"P","F") -> F | AH13: =AF13+AG13 -> 0 | AI13: =IF(AND(AF13>23,AG13>9),"P","F") -> F | AJ13: 38 | AK13: 11 | AL13: =AJ13+AK13 -> 49 | AM13: =IF(AND(AJ13>23,AK13>9),"P","F") -> P
A14: 608 | B14: MST LAMEIA AFROJ | E14: =C14+D14 -> 0 | F14: =IF(AND(C14>23,D14>9),"P","F") -> F | G14: 24 | H14: =IF(AND(G14>32),"P","F") -> F | I14: 13 | J14: 12 | K14: 18 | L14: =I14+J14+K14 -> 43 | M14: =IF(AND(I14>16,J14>8,K14>8),"P","F") -> F | N14: 38 | O14: 21 | P14: =N14+O14 -> 59 | Q14: =IF(AND(N14>23,O14>9),"P","F") -> P | T14: =R14+S14 -> 0 | U14: =IF(AND(R14>23,S14>9),"P","F") -> F | V14: 50 | W14: 21 | X14: =V14+W14 -> 71 | Y14: =IF(AND(V14>23,W14>9),"P","F") -> P | AB14: =Z14+AA14 -> 0 | AC14: =IF(AND(Z14>23,AA14>9),"P","F") -> F | AE14: =IF(AND(AD14>32),"P","F") -> F | AH14: =AF14+AG14 -> 0 | AI14: =IF(AND(AF14>23,AG14>9),"P","F") -> F | AJ14: 33 | AK14: 22 | AL14: =AJ14+AK14 -> 55 | AM14: =IF(AND(AJ14>23,AK14>9),"P","F") -> P
A15: 609 | B15: MST JAKIA AKTER | E15: =C15+D15 -> 0 | F15: =IF(AND(C15>23,D15>9),"P","F") -> F | G15: 33 | H15: =IF(AND(G15>32),"P","F") -> P | I15: 9 | J15: 10 | K15: 18 | L15: =I15+J15+K15 -> 37 | M15: =IF(AND(I15>16,J15>8,K15>8),"P","F") -> F | N15: 41 | O15: 25 | P15: =N15+O15 -> 66 | Q15: =IF(AND(N15>23,O15>9),"P","F") -> P | T15: =R15+S15 -> 0 | U15: =IF(AND(R15>23,S15>9),"P","F") -> F | V15: 45 | W15: 24 | X15: =V15+W15 -> 69 | Y15: =IF(AND(V15>23,W15>9),"P","F") -> P | AB15: =Z15+AA15 -> 0 | AC15: =IF(AND(Z15>23,AA15>9),"P","F") -> F | AE15: =IF(AND(AD15>32),"P","F") -> F | AH15: =AF15+AG15 -> 0 | AI15: =IF(AND(AF15>23,AG15>9),"P","F") -> F | AJ15: 37 | AK15: 25 | AL15: =AJ15+AK15 -> 62 | AM15: =IF(AND(AJ15>23,AK15>9),"P","F") -> P
A16: 610 | B16: MST. SURAIYA AKTER | E16: =C16+D16 -> 0 | F16: =IF(AND(C16>23,D16>9),"P","F") -> F | G16: 27 | H16: =IF(AND(G16>32),"P","F") -> F | I16: 7 | J16: 13 | K16: 18 | L16: =I16+J16+K16 -> 38 | M16: =IF(AND(I16>16,J16>8,K16>8),"P","F") -> F | N16: 34 | O16: 18 | P16: =N16+O16 -> 52 | Q16: =IF(AND(N16>23,O16>9),"P","F") -> P | T16: =R16+S16 -> 0 | U16: =IF(AND(R16>23,S16>9),"P","F") -> F | V16: 38 | W16: 24 | X16: =V16+W16 -> 62 | Y16: =IF(AND(V16>23,W16>9),"P","F") -> P | AB16: =Z16+AA16 -> 0 | AC16: =IF(AND(Z16>23,AA16>9),"P","F") -> F | AE16: =IF(AND(AD16>32),"P","F") -> F | AH16: =AF16+AG16 -> 0 | AI16: =IF(AND(AF16>23,AG16>9),"P","F") -> F | AJ16: 25 | AK16: 20 | AL16: =AJ16+AK16 -> 45 | AM16: =IF(AND(AJ16>23,AK16>9),"P","F") -> P
A17: 611 | B17: MD. TAMIM SHEIKH | E17: =C17+D17 -> 0 | F17: =IF(AND(C17>23,D17>9),"P","F") -> F | G17: 21 | H17: =IF(AND(G17>32),"P","F") -> F | I17: 18 | J17: 7 | K17: 18 | L17: =I17+J17+K17 -> 43 | M17: =IF(AND(I17>16,J17>8,K17>8),"P","F") -> F | N17: 46 | O17: 26 | P17: =N17+O17 -> 72 | Q17: =IF(AND(N17>23,O17>9),"P","F") -> P | T17: =R17+S17 -> 0 | U17: =IF(AND(R17>23,S17>9),"P","F") -> F | V17: 41 | W17: 22 | X17: =V17+W17 -> 63 | Y17: =IF(AND(V17>23,W17>9),"P","F") -> P | AB17: =Z17+AA17 -> 0 | AC17: =IF(AND(Z17>23,AA17>9),"P","F") -> F | AE17: =IF(AND(AD17>32),"P","F") -> F | AH17: =AF17+AG17 -> 0 | AI17: =IF(AND(AF17>23,AG17>9),"P","F") -> F | AJ17: 41 | AK17: 18 | AL17: =AJ17+AK17 -> 59 | AM17: =IF(AND(AJ17>23,AK17>9),"P","F") -> P
A18: 612 | B18: JERIN AKTER | E18: =C18+D18 -> 0 | F18: =IF(AND(C18>23,D18>9),"P","F") -> F | G18: 25 | H18: =IF(AND(G18>32),"P","F") -> F | I18: 13 | J18: 10 | K18: 18 | L18: =I18+J18+K18 -> 41 | M18: =IF(AND(I18>16,J18>8,K18>8),"P","F") -> F | P18: =N18+O18 -> 0 | Q18: =IF(AND(N18>23,O18>9),"P","F") -> F | T18: =R18+S18 -> 0 | U18: =IF(AND(R18>23,S18>9),"P","F") -> F | V18: 37 | W18: 18 | X18: =V18+W18 -> 55 | Y18: =IF(AND(V18>23,W18>9),"P","F") -> P | Z18: 30 | AA18: 21 | AB18: =Z18+AA18 -> 51 | AC18: =IF(AND(Z18>23,AA18>9),"P","F") -> P | AE18: =IF(AND(AD18>32),"P","F") -> F | AH18: =AF18+AG18 -> 0 | AI18: =IF(AND(AF18>23,AG18>9),"P","F") -> F | AJ18: 25 | AK18: 18 | AL18: =AJ18+AK18 -> 43 | AM18: =IF(AND(AJ18>23,AK18>9),"P","F") -> P
A19: 613 | B19: MARIAM AKTER | E19: =C19+D19 -> 0 | F19: =IF(AND(C19>23,D19>9),"P","F") -> F | G19: 37 | H19: =IF(AND(G19>32),"P","F") -> P | I19: 12 | J19: 8 | K19: 18 | L19: =I19+J19+K19 -> 38 | M19: =IF(AND(I19>16,J19>8,K19>8),"P","F") -> F | P19: =N19+O19 -> 0 | Q19: =IF(AND(N19>23,O19>9),"P","F") -> F | T19: =R19+S19 -> 0 | U19: =IF(AND(R19>23,S19>9),"P","F") -> F | V19: 37 | W19: 20 | X19: =V19+W19 -> 57 | Y19: =IF(AND(V19>23,W19>9),"P","F") -> P | Z19: 34 | AA19: 20 | AB19: =Z19+AA19 -> 54 | AC19: =IF(AND(Z19>23,AA19>9),"P","F") -> P | AE19: =IF(AND(AD19>32),"P","F") -> F | AH19: =AF19+AG19 -> 0 | AI19: =IF(AND(AF19>23,AG19>9),"P","F") -> F | AJ19: 26 | AK19: 22 | AL19: =AJ19+AK19 -> 48 | AM19: =IF(AND(AJ19>23,AK19>9),"P","F") -> P
A20: 614 | B20: SAMIA | E20: =C20+D20 -> 0 | F20: =IF(AND(C20>23,D20>9),"P","F") -> F | G20: 39 | H20: =IF(AND(G20>32),"P","F") -> P | I20: 14 | J20: 9 | K20: 18 | L20: =I20+J20+K20 -> 41 | M20: =IF(AND(I20>16,J20>8,K20>8),"P","F") -> F | P20: =N20+O20 -> 0 | Q20: =IF(AND(N20>23,O20>9),"P","F") -> F | T20: =R20+S20 -> 0 | U20: =IF(AND(R20>23,S20>9),"P","F") -> F | V20: 38 | W20: 14 | X20: =V20+W20 -> 52 | Y20: =IF(AND(V20>23,W20>9),"P","F") -> P | Z20: 28 | AA20: 22 | AB20: =Z20+AA20 -> 50 | AC20: =IF(AND(Z20>23,AA20>9),"P","F") -> P | AE20: =IF(AND(AD20>32),"P","F") -> F | AH20: =AF20+AG20 -> 0 | AI20: =IF(AND(AF20>23,AG20>9),"P","F") -> F | AJ20: 32 | AK20: 14 | AL20: =AJ20+AK20 -> 46 | AM20: =IF(AND(AJ20>23,AK20>9),"P","F") -> P
A21: 615 | B21: TAYEBA TABASSUM MIM | E21: =C21+D21 -> 0 | F21: =IF(AND(C21>23,D21>9),"P","F") -> F | G21: 36 | H21: =IF(AND(G21>32),"P","F") -> P | I21: 7 | J21: 9 | K21: 18 | L21: =I21+J21+K21 -> 34 | M21: =IF(AND(I21>16,J21>8,K21>8),"P","F") -> F | P21: =N21+O21 -> 0 | Q21: =IF(AND(N21>23,O21>9),"P","F") -> F | T21: =R21+S21 -> 0 | U21: =IF(AND(R21>23,S21>9),"P","F") -> F | V21: 36 | W21: 19 | X21: =V21+W21 -> 55 | Y21: =IF(AND(V21>23,W21>9),"P","F") -> P | Z21: 34 | AA21: 23 | AB21: =Z21+AA21 -> 57 | AC21: =IF(AND(Z21>23,AA21>9),"P","F") -> P | AE21: =IF(AND(AD21>32),"P","F") -> F | AH21: =AF21+AG21 -> 0 | AI21: =IF(AND(AF21>23,AG21>9),"P","F") -> F | AJ21: 30 | AK21: 12 | AL21: =AJ21+AK21 -> 42 | AM21: =IF(AND(AJ21>23,AK21>9),"P","F") -> P
A22: 616 | B22: RAHATUL ISLAM | E22: =C22+D22 -> 0 | F22: =IF(AND(C22>23,D22>9),"P","F") -> F | G22: 21 | H22: =IF(AND(G22>32),"P","F") -> F | I22: 6 | J22: 8 | K22: 18 | L22: =I22+J22+K22 -> 32 | M22: =IF(AND(I22>16,J22>8,K22>8),"P","F") -> F | P22: =N22+O22 -> 0 | Q22: =IF(AND(N22>23,O22>9),"P","F") -> F | T22: =R22+S22 -> 0 | U22: =IF(AND(R22>23,S22>9),"P","F") -> F | V22: 20 | W22: 15 | X22: =V22+W22 -> 35 | Y22: =IF(AND(V22>23,W22>9),"P","F") -> F | Z22: 16 | AA22: 19 | AB22: =Z22+AA22 -> 35 | AC22: =IF(AND(Z22>23,AA22>9),"P","F") -> F | AE22: =IF(AND(AD22>32),"P","F") -> F | AH22: =AF22+AG22 -> 0 | AI22: =IF(AND(AF22>23,AG22>9),"P","F") -> F | AL22: =AJ22+AK22 -> 0 | AM22: =IF(AND(AJ22>23,AK22>9),"P","F") -> F
A23: 617 | B23: MD FAIJUL SHEIKH | E23: =C23+D23 -> 0 | F23: =IF(AND(C23>23,D23>9),"P","F") -> F | G23: 29 | H23: =IF(AND(G23>32),"P","F") -> F | I23: 9 | J23: 16 | K23: 18 | L23: =I23+J23+K23 -> 43 | M23: =IF(AND(I23>16,J23>8,K23>8),"P","F") -> F | P23: =N23+O23 -> 0 | Q23: =IF(AND(N23>23,O23>9),"P","F") -> F | T23: =R23+S23 -> 0 | U23: =IF(AND(R23>23,S23>9),"P","F") -> F | V23: 32 | W23: 18 | X23: =V23+W23 -> 50 | Y23: =IF(AND(V23>23,W23>9),"P","F") -> P | Z23: 22 | AA23: 20 | AB23: =Z23+AA23 -> 42 | AC23: =IF(AND(Z23>23,AA23>9),"P","F") -> F | AE23: =IF(AND(AD23>32),"P","F") -> F | AH23: =AF23+AG23 -> 0 | AI23: =IF(AND(AF23>23,AG23>9),"P","F") -> F | AL23: =AJ23+AK23 -> 0 | AM23: =IF(AND(AJ23>23,AK23>9),"P","F") -> F
A24: 618 | B24: LIMON SHEIKH | E24: =C24+D24 -> 0 | F24: =IF(AND(C24>23,D24>9),"P","F") -> F | G24: 23 | H24: =IF(AND(G24>32),"P","F") -> F | L24: =I24+J24+K24 -> 0 | M24: =IF(AND(I24>16,J24>8,K24>8),"P","F") -> F | P24: =N24+O24 -> 0 | Q24: =IF(AND(N24>23,O24>9),"P","F") -> F | T24: =R24+S24 -> 0 | U24: =IF(AND(R24>23,S24>9),"P","F") -> F | V24: 39 | W24: 14 | X24: =V24+W24 -> 53 | Y24: =IF(AND(V24>23,W24>9),"P","F") -> P | Z24: 14 | AA24: 17 | AB24: =Z24+AA24 -> 31 | AC24: =IF(AND(Z24>23,AA24>9),"P","F") -> F | AE24: =IF(AND(AD24>32),"P","F") -> F | AH24: =AF24+AG24 -> 0 | AI24: =IF(AND(AF24>23,AG24>9),"P","F") -> F | AJ24: 15 | AK24: 13 | AL24: =AJ24+AK24 -> 28 | AM24: =IF(AND(AJ24>23,AK24>9),"P","F") -> F
A25: 619 | B25: ABDULLAH AL MARZAN | E25: =C25+D25 -> 0 | F25: =IF(AND(C25>23,D25>9),"P","F") -> F | G25: 35 | H25: =IF(AND(G25>32),"P","F") -> P | I25: 2 | J25: 10 | K25: 18 | L25: =I25+J25+K25 -> 30 | M25: =IF(AND(I25>16,J25>8,K25>8),"P","F") -> F | P25: =N25+O25 -> 0 | Q25: =IF(AND(N25>23,O25>9),"P","F") -> F | T25: =R25+S25 -> 0 | U25: =IF(AND(R25>23,S25>9),"P","F") -> F | V25: 27 | W25: 13 | X25: =V25+W25 -> 40 | Y25: =IF(AND(V25>23,W25>9),"P","F") -> P | Z25: 22 | AA25: 19 | AB25: =Z25+AA25 -> 41 | AC25: =IF(AND(Z25>23,AA25>9),"P","F") -> F | AE25: =IF(AND(AD25>32),"P","F") -> F | AH25: =AF25+AG25 -> 0 | AI25: =IF(AND(AF25>23,AG25>9),"P","F") -> F | AJ25: 0 | AK25: 12 | AL25: =AJ25+AK25 -> 12 | AM25: =IF(AND(AJ25>23,AK25>9),"P","F") -> F
A26: 620 | B26: MD. SIAM HOSSEN | E26: =C26+D26 -> 0 | F26: =IF(AND(C26>23,D26>9),"P","F") -> F | G26: 27 | H26: =IF(AND(G26>32),"P","F") -> F | I26: 19 | J26: 9 | K26: 18 | L26: =I26+J26+K26 -> 46 | M26: =IF(AND(I26>16,J26>8,K26>8),"P","F") -> P | P26: =N26+O26 -> 0 | Q26: =IF(AND(N26>23,O26>9),"P","F") -> F | T26: =R26+S26 -> 0 | U26: =IF(AND(R26>23,S26>9),"P","F") -> F | V26: 42 | W26: 17 | X26: =V26+W26 -> 59 | Y26: =IF(AND(V26>23,W26>9),"P","F") -> P | Z26: 14 | AA26: 17 | AB26: =Z26+AA26 -> 31 | AC26: =IF(AND(Z26>23,AA26>9),"P","F") -> F | AE26: =IF(AND(AD26>32),"P","F") -> F | AH26: =AF26+AG26 -> 0 | AI26: =IF(AND(AF26>23,AG26>9),"P","F") -> F | AJ26: 1 | AK26: 10 | AL26: =AJ26+AK26 -> 11 | AM26: =IF(AND(AJ26>23,AK26>9),"P","F") -> F
A27: 621 | B27: MD. EASHEN ALI SARDER | E27: =C27+D27 -> 0 | F27: =IF(AND(C27>23,D27>9),"P","F") -> F | G27: 21 | H27: =IF(AND(G27>32),"P","F") -> F | I27: 0 | J27: 7 | K27: 18 | L27: =I27+J27+K27 -> 25 | M27: =IF(AND(I27>16,J27>8,K27>8),"P","F") -> F | P27: =N27+O27 -> 0 | Q27: =IF(AND(N27>23,O27>9),"P","F") -> F | T27: =R27+S27 -> 0 | U27: =IF(AND(R27>23,S27>9),"P","F") -> F | V27: 47 | W27: 16 | X27: =V27+W27 -> 63 | Y27: =IF(AND(V27>23,W27>9),"P","F") -> P | Z27: 16 | AA27: 17 | AB27: =Z27+AA27 -> 33 | AC27: =IF(AND(Z27>23,AA27>9),"P","F") -> F | AE27: =IF(AND(AD27>32),"P","F") -> F | AH27: =AF27+AG27 -> 0 | AI27: =IF(AND(AF27>23,AG27>9),"P","F") -> F | AJ27: 14 | AK27: 14 | AL27: =AJ27+AK27 -> 28 | AM27: =IF(AND(AJ27>23,AK27>9),"P","F") -> F
A28: 622 | B28: MUSHFIKA | E28: =C28+D28 -> 0 | F28: =IF(AND(C28>23,D28>9),"P","F") -> F | G28: 33 | H28: =IF(AND(G28>32),"P","F") -> P | I28: 4 | J28: 6 | K28: 18 | L28: =I28+J28+K28 -> 28 | M28: =IF(AND(I28>16,J28>8,K28>8),"P","F") -> F | P28: =N28+O28 -> 0 | Q28: =IF(AND(N28>23,O28>9),"P","F") -> F | T28: =R28+S28 -> 0 | U28: =IF(AND(R28>23,S28>9),"P","F") -> F | V28: 38 | W28: 16 | X28: =V28+W28 -> 54 | Y28: =IF(AND(V28>23,W28>9),"P","F") -> P | Z28: 24 | AA28: 19 | AB28: =Z28+AA28 -> 43 | AC28: =IF(AND(Z28>23,AA28>9),"P","F") -> P | AE28: =IF(AND(AD28>32),"P","F") -> F | AH28: =AF28+AG28 -> 0 | AI28: =IF(AND(AF28>23,AG28>9),"P","F") -> F | AJ28: 26 | AK28: 18 | AL28: =AJ28+AK28 -> 44 | AM28: =IF(AND(AJ28>23,AK28>9),"P","F") -> P
A29: 623 | B29: TAMIM ISLAM | E29: =C29+D29 -> 0 | F29: =IF(AND(C29>23,D29>9),"P","F") -> F | G29: 33 | H29: =IF(AND(G29>32),"P","F") -> P | I29: 20 | J29: 8 | K29: 18 | L29: =I29+J29+K29 -> 46 | M29: =IF(AND(I29>16,J29>8,K29>8),"P","F") -> F | N29: 48 | O29: 21 | P29: =N29+O29 -> 69 | Q29: =IF(AND(N29>23,O29>9),"P","F") -> P | T29: =R29+S29 -> 0 | U29: =IF(AND(R29>23,S29>9),"P","F") -> F | V29: 40 | W29: 19 | X29: =V29+W29 -> 59 | Y29: =IF(AND(V29>23,W29>9),"P","F") -> P | AB29: =Z29+AA29 -> 0 | AC29: =IF(AND(Z29>23,AA29>9),"P","F") -> F | AE29: =IF(AND(AD29>32),"P","F") -> F | AH29: =AF29+AG29 -> 0 | AI29: =IF(AND(AF29>23,AG29>9),"P","F") -> F | AJ29: 50 | AK29: 16 | AL29: =AJ29+AK29 -> 66 | AM29: =IF(AND(AJ29>23,AK29>9),"P","F") -> P
A30: 624 | B30: MD. TAWHID AHMED | E30: =C30+D30 -> 0 | F30: =IF(AND(C30>23,D30>9),"P","F") -> F | G30: 36 | H30: =IF(AND(G30>32),"P","F") -> P | I30: 12 | J30: 11 | K30: 18 | L30: =I30+J30+K30 -> 41 | M30: =IF(AND(I30>16,J30>8,K30>8),"P","F") -> F | P30: =N30+O30 -> 0 | Q30: =IF(AND(N30>23,O30>9),"P","F") -> F | T30: =R30+S30 -> 0 | U30: =IF(AND(R30>23,S30>9),"P","F") -> F | V30: 25 | W30: 16 | X30: =V30+W30 -> 41 | Y30: =IF(AND(V30>23,W30>9),"P","F") -> P | Z30: 14 | AA30: 16 | AB30: =Z30+AA30 -> 30 | AC30: =IF(AND(Z30>23,AA30>9),"P","F") -> F | AE30: =IF(AND(AD30>32),"P","F") -> F | AH30: =AF30+AG30 -> 0 | AI30: =IF(AND(AF30>23,AG30>9),"P","F") -> F | AL30: =AJ30+AK30 -> 0 | AM30: =IF(AND(AJ30>23,AK30>9),"P","F") -> F
A31: 625 | B31: SIYAM AHMAD | E31: =C31+D31 -> 0 | F31: =IF(AND(C31>23,D31>9),"P","F") -> F | G31: 33 | H31: =IF(AND(G31>32),"P","F") -> P | I31: 11 | J31: 11 | K31: 18 | L31: =I31+J31+K31 -> 40 | M31: =IF(AND(I31>16,J31>8,K31>8),"P","F") -> F | P31: =N31+O31 -> 0 | Q31: =IF(AND(N31>23,O31>9),"P","F") -> F | T31: =R31+S31 -> 0 | U31: =IF(AND(R31>23,S31>9),"P","F") -> F | V31: 37 | W31: 22 | X31: =V31+W31 -> 59 | Y31: =IF(AND(V31>23,W31>9),"P","F") -> P | Z31: 14 | AA31: 16 | AB31: =Z31+AA31 -> 30 | AC31: =IF(AND(Z31>23,AA31>9),"P","F") -> F | AE31: =IF(AND(AD31>32),"P","F") -> F | AH31: =AF31+AG31 -> 0 | AI31: =IF(AND(AF31>23,AG31>9),"P","F") -> F | AJ31: 10 | AK31: 14 | AL31: =AJ31+AK31 -> 24 | AM31: =IF(AND(AJ31>23,AK31>9),"P","F") -> F
A32: 626 | B32: SABBIR HOSSEN KHAN | E32: =C32+D32 -> 0 | F32: =IF(AND(C32>23,D32>9),"P","F") -> F | G32: 47 | H32: =IF(AND(G32>32),"P","F") -> P | I32: 22 | J32: 7 | K32: 18 | L32: =I32+J32+K32 -> 47 | M32: =IF(AND(I32>16,J32>8,K32>8),"P","F") -> F | N32: 35 | O32: 22 | P32: =N32+O32 -> 57 | Q32: =IF(AND(N32>23,O32>9),"P","F") -> P | T32: =R32+S32 -> 0 | U32: =IF(AND(R32>23,S32>9),"P","F") -> F | V32: 37 | W32: 18 | X32: =V32+W32 -> 55 | Y32: =IF(AND(V32>23,W32>9),"P","F") -> P | AB32: =Z32+AA32 -> 0 | AC32: =IF(AND(Z32>23,AA32>9),"P","F") -> F | AE32: =IF(AND(AD32>32),"P","F") -> F | AH32: =AF32+AG32 -> 0 | AI32: =IF(AND(AF32>23,AG32>9),"P","F") -> F | AL32: =AJ32+AK32 -> 0 | AM32: =IF(AND(AJ32>23,AK32>9),"P","F") -> F
A33: 627 | B33: MD. ASHAK ALAHI | E33: =C33+D33 -> 0 | F33: =IF(AND(C33>23,D33>9),"P","F") -> F | G33: 33 | H33: =IF(AND(G33>32),"P","F") -> P | I33: 0 | J33: 10 | K33: 18 | L33: =I33+J33+K33 -> 28 | M33: =IF(AND(I33>16,J33>8,K33>8),"P","F") -> F | N33: 29 | O33: 24 | P33: =N33+O33 -> 53 | Q33: =IF(AND(N33>23,O33>9),"P","F") -> P | T33: =R33+S33 -> 0 | U33: =IF(AND(R33>23,S33>9),"P","F") -> F | X33: =V33+W33 -> 0 | Y33: =IF(AND(V33>23,W33>9),"P","F") -> F | AB33: =Z33+AA33 -> 0 | AC33: =IF(AND(Z33>23,AA33>9),"P","F") -> F | AE33: =IF(AND(AD33>32),"P","F") -> F | AH33: =AF33+AG33 -> 0 | AI33: =IF(AND(AF33>23,AG33>9),"P","F") -> F | AJ33: 12 | AK33: 14 | AL33: =AJ33+AK33 -> 26 | AM33: =IF(AND(AJ33>23,AK33>9),"P","F") -> F
A34: 628 | B34: MD. SAKIB HOSSAIN | E34: =C34+D34 -> 0 | F34: =IF(AND(C34>23,D34>9),"P","F") -> F | G34: 41 | H34: =IF(AND(G34>32),"P","F") -> P | I34: 24 | J34: 9 | K34: 18 | L34: =I34+J34+K34 -> 51 | M34: =IF(AND(I34>16,J34>8,K34>8),"P","F") -> P | N34: 27 | O34: 18 | P34: =N34+O34 -> 45 | Q34: =IF(AND(N34>23,O34>9),"P","F") -> P | T34: =R34+S34 -> 0 | U34: =IF(AND(R34>23,S34>9),"P","F") -> F | V34: 30 | W34: 17 | X34: =V34+W34 -> 47 | Y34: =IF(AND(V34>23,W34>9),"P","F") -> P | AB34: =Z34+AA34 -> 0 | AC34: =IF(AND(Z34>23,AA34>9),"P","F") -> F | AE34: =IF(AND(AD34>32),"P","F") -> F | AH34: =AF34+AG34 -> 0 | AI34: =IF(AND(AF34>23,AG34>9),"P","F") -> F | AJ34: 8 | AK34: 16 | AL34: =AJ34+AK34 -> 24 | AM34: =IF(AND(AJ34>23,AK34>9),"P","F") -> F
A35: 629 | B35: MD. TANJIM HOSSAIN MAHIM | E35: =C35+D35 -> 0 | F35: =IF(AND(C35>23,D35>9),"P","F") -> F | H35: =IF(AND(G35>32),"P","F") -> F | L35: =I35+J35+K35 -> 0 | M35: =IF(AND(I35>16,J35>8,K35>8),"P","F") -> F | P35: =N35+O35 -> 0 | Q35: =IF(AND(N35>23,O35>9),"P","F") -> F | T35: =R35+S35 -> 0 | U35: =IF(AND(R35>23,S35>9),"P","F") -> F | X35: =V35+W35 -> 0 | Y35: =IF(AND(V35>23,W35>9),"P","F") -> F | AB35: =Z35+AA35 -> 0 | AC35: =IF(AND(Z35>23,AA35>9),"P","F") -> F | AE35: =IF(AND(AD35>32),"P","F") -> F | AH35: =AF35+AG35 -> 0 | AI35: =IF(AND(AF35>23,AG35>9),"P","F") -> F | AL35: =AJ35+AK35 -> 0 | AM35: =IF(AND(AJ35>23,AK35>9),"P","F") -> F
A36: 630 | B36: TAMANNA AKTER | E36: =C36+D36 -> 0 | F36: =IF(AND(C36>23,D36>9),"P","F") -> F | G36: 13 | H36: =IF(AND(G36>32),"P","F") -> F | I36: 3 | J36: 11 | K36: 18 | L36: =I36+J36+K36 -> 32 | M36: =IF(AND(I36>16,J36>8,K36>8),"P","F") -> F | P36: =N36+O36 -> 0 | Q36: =IF(AND(N36>23,O36>9),"P","F") -> F | T36: =R36+S36 -> 0 | U36: =IF(AND(R36>23,S36>9),"P","F") -> F | V36: 45 | W36: 13 | X36: =V36+W36 -> 58 | Y36: =IF(AND(V36>23,W36>9),"P","F") -> P | Z36: 26 | AA36: 21 | AB36: =Z36+AA36 -> 47 | AC36: =IF(AND(Z36>23,AA36>9),"P","F") -> P | AE36: =IF(AND(AD36>32),"P","F") -> F | AH36: =AF36+AG36 -> 0 | AI36: =IF(AND(AF36>23,AG36>9),"P","F") -> F | AJ36: 39 | AK36: 14 | AL36: =AJ36+AK36 -> 53 | AM36: =IF(AND(AJ36>23,AK36>9),"P","F") -> P
A37: 631 | B37: MUNIB MOLLIK | E37: =C37+D37 -> 0 | F37: =IF(AND(C37>23,D37>9),"P","F") -> F | G37: 21 | H37: =IF(AND(G37>32),"P","F") -> F | I37: 19 | J37: 13 | K37: 18 | L37: =I37+J37+K37 -> 50 | M37: =IF(AND(I37>16,J37>8,K37>8),"P","F") -> P | N37: 32 | O37: 22 | P37: =N37+O37 -> 54 | Q37: =IF(AND(N37>23,O37>9),"P","F") -> P | T37: =R37+S37 -> 0 | U37: =IF(AND(R37>23,S37>9),"P","F") -> F | V37: 36 | W37: 19 | X37: =V37+W37 -> 55 | Y37: =IF(AND(V37>23,W37>9),"P","F") -> P | AB37: =Z37+AA37 -> 0 | AC37: =IF(AND(Z37>23,AA37>9),"P","F") -> F | AE37: =IF(AND(AD37>32),"P","F") -> F | AH37: =AF37+AG37 -> 0 | AI37: =IF(AND(AF37>23,AG37>9),"P","F") -> F | AJ37: 35 | AK37: 20 | AL37: =AJ37+AK37 -> 55 | AM37: =IF(AND(AJ37>23,AK37>9),"P","F") -> P
A38: 632 | B38: SHIYAM HAWLADER | E38: =C38+D38 -> 0 | F38: =IF(AND(C38>23,D38>9),"P","F") -> F | G38: 12 | H38: =IF(AND(G38>32),"P","F") -> F | I38: 0 | J38: 10 | K38: 18 | L38: =I38+J38+K38 -> 28 | M38: =IF(AND(I38>16,J38>8,K38>8),"P","F") -> F | N38: 28 | O38: 16 | P38: =N38+O38 -> 44 | Q38: =IF(AND(N38>23,O38>9),"P","F") -> P | T38: =R38+S38 -> 0 | U38: =IF(AND(R38>23,S38>9),"P","F") -> F | V38: 30 | W38: 15 | X38: =V38+W38 -> 45 | Y38: =IF(AND(V38>23,W38>9),"P","F") -> P | AB38: =Z38+AA38 -> 0 | AC38: =IF(AND(Z38>23,AA38>9),"P","F") -> F | AE38: =IF(AND(AD38>32),"P","F") -> F | AH38: =AF38+AG38 -> 0 | AI38: =IF(AND(AF38>23,AG38>9),"P","F") -> F | AJ38: 15 | AK38: 15 | AL38: =AJ38+AK38 -> 30 | AM38: =IF(AND(AJ38>23,AK38>9),"P","F") -> F
A39: 633 | B39: RUDRO NILL SAHA | E39: =C39+D39 -> 0 | F39: =IF(AND(C39>23,D39>9),"P","F") -> F | G39: 39 | H39: =IF(AND(G39>32),"P","F") -> P | I39: 21 | J39: 11 | K39: 18 | L39: =I39+J39+K39 -> 50 | M39: =IF(AND(I39>16,J39>8,K39>8),"P","F") -> P | N39: 34 | O39: 19 | P39: =N39+O39 -> 53 | Q39: =IF(AND(N39>23,O39>9),"P","F") -> P | T39: =R39+S39 -> 0 | U39: =IF(AND(R39>23,S39>9),"P","F") -> F | X39: =V39+W39 -> 0 | Y39: =IF(AND(V39>23,W39>9),"P","F") -> F | AB39: =Z39+AA39 -> 0 | AC39: =IF(AND(Z39>23,AA39>9),"P","F") -> F | AD39: 33 | AE39: =IF(AND(AD39>32),"P","F") -> P | AH39: =AF39+AG39 -> 0 | AI39: =IF(AND(AF39>23,AG39>9),"P","F") -> F | AJ39: 14 | AK39: 20 | AL39: =AJ39+AK39 -> 34 | AM39: =IF(AND(AJ39>23,AK39>9),"P","F") -> F
A40: 634 | B40: REDWAN KABIR | E40: =C40+D40 -> 0 | F40: =IF(AND(C40>23,D40>9),"P","F") -> F | G40: 67 | H40: =IF(AND(G40>32),"P","F") -> P | I40: 37 | J40: 14 | K40: 18 | L40: =I40+J40+K40 -> 69 | M40: =IF(AND(I40>16,J40>8,K40>8),"P","F") -> P | P40: =N40+O40 -> 0 | Q40: =IF(AND(N40>23,O40>9),"P","F") -> F | T40: =R40+S40 -> 0 | U40: =IF(AND(R40>23,S40>9),"P","F") -> F | V40: 48 | W40: 22 | X40: =V40+W40 -> 70 | Y40: =IF(AND(V40>23,W40>9),"P","F") -> P | Z40: 60 | AA40: 24 | AB40: =Z40+AA40 -> 84 | AC40: =IF(AND(Z40>23,AA40>9),"P","F") -> P | AE40: =IF(AND(AD40>32),"P","F") -> F | AH40: =AF40+AG40 -> 0 | AI40: =IF(AND(AF40>23,AG40>9),"P","F") -> F | AL40: =AJ40+AK40 -> 0 | AM40: =IF(AND(AJ40>23,AK40>9),"P","F") -> F
A41: 635 | B41: SHEIKH SANIN | E41: =C41+D41 -> 0 | F41: =IF(AND(C41>23,D41>9),"P","F") -> F | G41: 36 | H41: =IF(AND(G41>32),"P","F") -> P | I41: 19 | J41: 13 | K41: 18 | L41: =I41+J41+K41 -> 50 | M41: =IF(AND(I41>16,J41>8,K41>8),"P","F") -> P | P41: =N41+O41 -> 0 | Q41: =IF(AND(N41>23,O41>9),"P","F") -> F | T41: =R41+S41 -> 0 | U41: =IF(AND(R41>23,S41>9),"P","F") -> F | V41: 42 | W41: 22 | X41: =V41+W41 -> 64 | Y41: =IF(AND(V41>23,W41>9),"P","F") -> P | Z41: 35 | AA41: 23 | AB41: =Z41+AA41 -> 58 | AC41: =IF(AND(Z41>23,AA41>9),"P","F") -> P | AE41: =IF(AND(AD41>32),"P","F") -> F | AH41: =AF41+AG41 -> 0 | AI41: =IF(AND(AF41>23,AG41>9),"P","F") -> F | AL41: =AJ41+AK41 -> 0 | AM41: =IF(AND(AJ41>23,AK41>9),"P","F") -> F
A42: 636 | B42: MD. MARUF KHAN | E42: =C42+D42 -> 0 | F42: =IF(AND(C42>23,D42>9),"P","F") -> F | G42: 26 | H42: =IF(AND(G42>32),"P","F") -> F | I42: 19 | J42: 13 | K42: 18 | L42: =I42+J42+K42 -> 50 | M42: =IF(AND(I42>16,J42>8,K42>8),"P","F") -> P | P42: =N42+O42 -> 0 | Q42: =IF(AND(N42>23,O42>9),"P","F") -> F | T42: =R42+S42 -> 0 | U42: =IF(AND(R42>23,S42>9),"P","F") -> F | V42: 37 | W42: 19 | X42: =V42+W42 -> 56 | Y42: =IF(AND(V42>23,W42>9),"P","F") -> P | Z42: 26 | AA42: 21 | AB42: =Z42+AA42 -> 47 | AC42: =IF(AND(Z42>23,AA42>9),"P","F") -> P | AE42: =IF(AND(AD42>32),"P","F") -> F | AH42: =AF42+AG42 -> 0 | AI42: =IF(AND(AF42>23,AG42>9),"P","F") -> F | AL42: =AJ42+AK42 -> 0 | AM42: =IF(AND(AJ42>23,AK42>9),"P","F") -> F
A43: 637 | B43: LABIB HASSAN | E43: =C43+D43 -> 0 | F43: =IF(AND(C43>23,D43>9),"P","F") -> F | G43: 64 | H43: =IF(AND(G43>32),"P","F") -> P | I43: 11 | J43: 10 | K43: 18 | L43: =I43+J43+K43 -> 39 | M43: =IF(AND(I43>16,J43>8,K43>8),"P","F") -> F | N43: 38 | O43: 17 | P43: =N43+O43 -> 55 | Q43: =IF(AND(N43>23,O43>9),"P","F") -> P | T43: =R43+S43 -> 0 | U43: =IF(AND(R43>23,S43>9),"P","F") -> F | V43: 46 | W43: 19 | X43: =V43+W43 -> 65 | Y43: =IF(AND(V43>23,W43>9),"P","F") -> P | AB43: =Z43+AA43 -> 0 | AC43: =IF(AND(Z43>23,AA43>9),"P","F") -> F | AE43: =IF(AND(AD43>32),"P","F") -> F | AH43: =AF43+AG43 -> 0 | AI43: =IF(AND(AF43>23,AG43>9),"P","F") -> F | AJ43: 50 | AK43: 23 | AL43: =AJ43+AK43 -> 73 | AM43: =IF(AND(AJ43>23,AK43>9),"P","F") -> P
A44: 638 | B44: MD. MUJADDIDE ALFE SUNNY | E44: =C44+D44 -> 0 | F44: =IF(AND(C44>23,D44>9),"P","F") -> F | G44: 43 | H44: =IF(AND(G44>32),"P","F") -> P | I44: 29 | J44: 14 | K44: 18 | L44: =I44+J44+K44 -> 61 | M44: =IF(AND(I44>16,J44>8,K44>8),"P","F") -> P | P44: =N44+O44 -> 0 | Q44: =IF(AND(N44>23,O44>9),"P","F") -> F | T44: =R44+S44 -> 0 | U44: =IF(AND(R44>23,S44>9),"P","F") -> F | V44: 34 | W44: 19 | X44: =V44+W44 -> 53 | Y44: =IF(AND(V44>23,W44>9),"P","F") -> P | Z44: 40 | AA44: 22 | AB44: =Z44+AA44 -> 62 | AC44: =IF(AND(Z44>23,AA44>9),"P","F") -> P | AE44: =IF(AND(AD44>32),"P","F") -> F | AH44: =AF44+AG44 -> 0 | AI44: =IF(AND(AF44>23,AG44>9),"P","F") -> F | AL44: =AJ44+AK44 -> 0 | AM44: =IF(AND(AJ44>23,AK44>9),"P","F") -> F
A45: 639 | B45: MD. MUJAHID ALFE SIZAN | E45: =C45+D45 -> 0 | F45: =IF(AND(C45>23,D45>9),"P","F") -> F | G45: 43 | H45: =IF(AND(G45>32),"P","F") -> P | I45: 12 | J45: 13 | K45: 18 | L45: =I45+J45+K45 -> 43 | M45: =IF(AND(I45>16,J45>8,K45>8),"P","F") -> F | P45: =N45+O45 -> 0 | Q45: =IF(AND(N45>23,O45>9),"P","F") -> F | T45: =R45+S45 -> 0 | U45: =IF(AND(R45>23,S45>9),"P","F") -> F | V45: 27 | W45: 17 | X45: =V45+W45 -> 44 | Y45: =IF(AND(V45>23,W45>9),"P","F") -> P | Z45: 43 | AA45: 23 | AB45: =Z45+AA45 -> 66 | AC45: =IF(AND(Z45>23,AA45>9),"P","F") -> P | AE45: =IF(AND(AD45>32),"P","F") -> F | AH45: =AF45+AG45 -> 0 | AI45: =IF(AND(AF45>23,AG45>9),"P","F") -> F | AL45: =AJ45+AK45 -> 0 | AM45: =IF(AND(AJ45>23,AK45>9),"P","F") -> F
A46: 640 | B46: MARJIA | E46: =C46+D46 -> 0 | F46: =IF(AND(C46>23,D46>9),"P","F") -> F | G46: 35 | H46: =IF(AND(G46>32),"P","F") -> P | I46: 1 | J46: 8 | K46: 18 | L46: =I46+J46+K46 -> 27 | M46: =IF(AND(I46>16,J46>8,K46>8),"P","F") -> F | N46: 37 | O46: 15 | P46: =N46+O46 -> 52 | Q46: =IF(AND(N46>23,O46>9),"P","F") -> P | T46: =R46+S46 -> 0 | U46: =IF(AND(R46>23,S46>9),"P","F") -> F | V46: 40 | W46: 21 | X46: =V46+W46 -> 61 | Y46: =IF(AND(V46>23,W46>9),"P","F") -> P | AB46: =Z46+AA46 -> 0 | AC46: =IF(AND(Z46>23,AA46>9),"P","F") -> F | AE46: =IF(AND(AD46>32),"P","F") -> F | AH46: =AF46+AG46 -> 0 | AI46: =IF(AND(AF46>23,AG46>9),"P","F") -> F | AJ46: 42 | AK46: 20 | AL46: =AJ46+AK46 -> 62 | AM46: =IF(AND(AJ46>23,AK46>9),"P","F") -> P
A47: 641 | B47: JANNATUL FERDOUS | E47: =C47+D47 -> 0 | F47: =IF(AND(C47>23,D47>9),"P","F") -> F | H47: =IF(AND(G47>32),"P","F") -> F | L47: =I47+J47+K47 -> 0 | M47: =IF(AND(I47>16,J47>8,K47>8),"P","F") -> F | P47: =N47+O47 -> 0 | Q47: =IF(AND(N47>23,O47>9),"P","F") -> F | T47: =R47+S47 -> 0 | U47: =IF(AND(R47>23,S47>9),"P","F") -> F | X47: =V47+W47 -> 0 | Y47: =IF(AND(V47>23,W47>9),"P","F") -> F | AB47: =Z47+AA47 -> 0 | AC47: =IF(AND(Z47>23,AA47>9),"P","F") -> F | AE47: =IF(AND(AD47>32),"P","F") -> F | AH47: =AF47+AG47 -> 0 | AI47: =IF(AND(AF47>23,AG47>9),"P","F") -> F | AL47: =AJ47+AK47 -> 0 | AM47: =IF(AND(AJ47>23,AK47>9),"P","F") -> F
A48: 642 | B48: MOST. AFSANA AKTER MIM | E48: =C48+D48 -> 0 | F48: =IF(AND(C48>23,D48>9),"P","F") -> F | H48: =IF(AND(G48>32),"P","F") -> F | L48: =I48+J48+K48 -> 0 | M48: =IF(AND(I48>16,J48>8,K48>8),"P","F") -> F | P48: =N48+O48 -> 0 | Q48: =IF(AND(N48>23,O48>9),"P","F") -> F | T48: =R48+S48 -> 0 | U48: =IF(AND(R48>23,S48>9),"P","F") -> F | X48: =V48+W48 -> 0 | Y48: =IF(AND(V48>23,W48>9),"P","F") -> F | AB48: =Z48+AA48 -> 0 | AC48: =IF(AND(Z48>23,AA48>9),"P","F") -> F | AE48: =IF(AND(AD48>32),"P","F") -> F | AH48: =AF48+AG48 -> 0 | AI48: =IF(AND(AF48>23,AG48>9),"P","F") -> F | AL48: =AJ48+AK48 -> 0 | AM48: =IF(AND(AJ48>23,AK48>9),"P","F") -> F
A49: 644 | B49: SURAIYA AKTER | E49: =C49+D49 -> 0 | F49: =IF(AND(C49>23,D49>9),"P","F") -> F | G49: 13 | H49: =IF(AND(G49>32),"P","F") -> F | I49: 15 | J49: 10 | K49: 18 | L49: =I49+J49+K49 -> 43 | M49: =IF(AND(I49>16,J49>8,K49>8),"P","F") -> F | P49: =N49+O49 -> 0 | Q49: =IF(AND(N49>23,O49>9),"P","F") -> F | T49: =R49+S49 -> 0 | U49: =IF(AND(R49>23,S49>9),"P","F") -> F | V49: 42 | W49: 16 | X49: =V49+W49 -> 58 | Y49: =IF(AND(V49>23,W49>9),"P","F") -> P | Z49: 30 | AA49: 22 | AB49: =Z49+AA49 -> 52 | AC49: =IF(AND(Z49>23,AA49>9),"P","F") -> P | AE49: =IF(AND(AD49>32),"P","F") -> F | AH49: =AF49+AG49 -> 0 | AI49: =IF(AND(AF49>23,AG49>9),"P","F") -> F | AJ49: 5 | AK49: 15 | AL49: =AJ49+AK49 -> 20 | AM49: =IF(AND(AJ49>23,AK49>9),"P","F") -> F
A50: 645 | B50: MD. SUNAN SHAHARIAR | E50: =C50+D50 -> 0 | F50: =IF(AND(C50>23,D50>9),"P","F") -> F | G50: 7 | H50: =IF(AND(G50>32),"P","F") -> F | I50: 0 | J50: 5 | K50: 18 | L50: =I50+J50+K50 -> 23 | M50: =IF(AND(I50>16,J50>8,K50>8),"P","F") -> F | N50: 11 | O50: 10 | P50: =N50+O50 -> 21 | Q50: =IF(AND(N50>23,O50>9),"P","F") -> F | T50: =R50+S50 -> 0 | U50: =IF(AND(R50>23,S50>9),"P","F") -> F | V50: 30 | W50: 8 | X50: =V50+W50 -> 38 | Y50: =IF(AND(V50>23,W50>9),"P","F") -> F | AB50: =Z50+AA50 -> 0 | AC50: =IF(AND(Z50>23,AA50>9),"P","F") -> F | AE50: =IF(AND(AD50>32),"P","F") -> F | AH50: =AF50+AG50 -> 0 | AI50: =IF(AND(AF50>23,AG50>9),"P","F") -> F | AL50: =AJ50+AK50 -> 0 | AM50: =IF(AND(AJ50>23,AK50>9),"P","F") -> F
A51: 646 | B51: MD. SIUM KHAN | E51: =C51+D51 -> 0 | F51: =IF(AND(C51>23,D51>9),"P","F") -> F | G51: 26 | H51: =IF(AND(G51>32),"P","F") -> F | I51: 5 | J51: 12 | K51: 18 | L51: =I51+J51+K51 -> 35 | M51: =IF(AND(I51>16,J51>8,K51>8),"P","F") -> F | P51: =N51+O51 -> 0 | Q51: =IF(AND(N51>23,O51>9),"P","F") -> F | T51: =R51+S51 -> 0 | U51: =IF(AND(R51>23,S51>9),"P","F") -> F | V51: 32 | W51: 15 | X51: =V51+W51 -> 47 | Y51: =IF(AND(V51>23,W51>9),"P","F") -> P | Z51: 35 | AA51: 20 | AB51: =Z51+AA51 -> 55 | AC51: =IF(AND(Z51>23,AA51>9),"P","F") -> P | AE51: =IF(AND(AD51>32),"P","F") -> F | AH51: =AF51+AG51 -> 0 | AI51: =IF(AND(AF51>23,AG51>9),"P","F") -> F | AL51: =AJ51+AK51 -> 0 | AM51: =IF(AND(AJ51>23,AK51>9),"P","F") -> F
A52: 647 | B52: SAURAV HALDER | E52: =C52+D52 -> 0 | F52: =IF(AND(C52>23,D52>9),"P","F") -> F | G52: 17 | H52: =IF(AND(G52>32),"P","F") -> F | I52: 0 | J52: 12 | K52: 18 | L52: =I52+J52+K52 -> 30 | M52: =IF(AND(I52>16,J52>8,K52>8),"P","F") -> F | N52: 29 | O52: 22 | P52: =N52+O52 -> 51 | Q52: =IF(AND(N52>23,O52>9),"P","F") -> P | T52: =R52+S52 -> 0 | U52: =IF(AND(R52>23,S52>9),"P","F") -> F | X52: =V52+W52 -> 0 | Y52: =IF(AND(V52>23,W52>9),"P","F") -> F | AB52: =Z52+AA52 -> 0 | AC52: =IF(AND(Z52>23,AA52>9),"P","F") -> F | AD52: 48 | AE52: =IF(AND(AD52>32),"P","F") -> P | AH52: =AF52+AG52 -> 0 | AI52: =IF(AND(AF52>23,AG52>9),"P","F") -> F | AL52: =AJ52+AK52 -> 0 | AM52: =IF(AND(AJ52>23,AK52>9),"P","F") -> F
A53: 648 | B53: MD. AZIM HOSSAIN | E53: =C53+D53 -> 0 | F53: =IF(AND(C53>23,D53>9),"P","F") -> F | H53: =IF(AND(G53>32),"P","F") -> F | I53: 0 | J53: 8 | K53: 18 | L53: =I53+J53+K53 -> 26 | M53: =IF(AND(I53>16,J53>8,K53>8),"P","F") -> F | P53: =N53+O53 -> 0 | Q53: =IF(AND(N53>23,O53>9),"P","F") -> F | T53: =R53+S53 -> 0 | U53: =IF(AND(R53>23,S53>9),"P","F") -> F | X53: =V53+W53 -> 0 | Y53: =IF(AND(V53>23,W53>9),"P","F") -> F | AB53: =Z53+AA53 -> 0 | AC53: =IF(AND(Z53>23,AA53>9),"P","F") -> F | AE53: =IF(AND(AD53>32),"P","F") -> F | AH53: =AF53+AG53 -> 0 | AI53: =IF(AND(AF53>23,AG53>9),"P","F") -> F | AL53: =AJ53+AK53 -> 0 | AM53: =IF(AND(AJ53>23,AK53>9),"P","F") -> F
A54: 649 | B54: MD. SALAUDDIN | E54: =C54+D54 -> 0 | F54: =IF(AND(C54>23,D54>9),"P","F") -> F | G54: 37 | H54: =IF(AND(G54>32),"P","F") -> P | I54: 12 | J54: 14 | K54: 18 | L54: =I54+J54+K54 -> 44 | M54: =IF(AND(I54>16,J54>8,K54>8),"P","F") -> F | N54: 43 | O54: 22 | P54: =N54+O54 -> 65 | Q54: =IF(AND(N54>23,O54>9),"P","F") -> P | T54: =R54+S54 -> 0 | U54: =IF(AND(R54>23,S54>9),"P","F") -> F | V54: 42 | W54: 21 | X54: =V54+W54 -> 63 | Y54: =IF(AND(V54>23,W54>9),"P","F") -> P | AB54: =Z54+AA54 -> 0 | AC54: =IF(AND(Z54>23,AA54>9),"P","F") -> F | AE54: =IF(AND(AD54>32),"P","F") -> F | AH54: =AF54+AG54 -> 0 | AI54: =IF(AND(AF54>23,AG54>9),"P","F") -> F | AJ54: 42 | AK54: 23 | AL54: =AJ54+AK54 -> 65 | AM54: =IF(AND(AJ54>23,AK54>9),"P","F") -> P
A55: 650 | B55: SHARIA KARIM SIAM | E55: =C55+D55 -> 0 | F55: =IF(AND(C55>23,D55>9),"P","F") -> F | G55: 33 | H55: =IF(AND(G55>32),"P","F") -> P | I55: 11 | J55: 9 | K55: 18 | L55: =I55+J55+K55 -> 38 | M55: =IF(AND(I55>16,J55>8,K55>8),"P","F") -> F | P55: =N55+O55 -> 0 | Q55: =IF(AND(N55>23,O55>9),"P","F") -> F | T55: =R55+S55 -> 0 | U55: =IF(AND(R55>23,S55>9),"P","F") -> F | V55: 27 | W55: 17 | X55: =V55+W55 -> 44 | Y55: =IF(AND(V55>23,W55>9),"P","F") -> P | Z55: 36 | AA55: 22 | AB55: =Z55+AA55 -> 58 | AC55: =IF(AND(Z55>23,AA55>9),"P","F") -> P | AE55: =IF(AND(AD55>32),"P","F") -> F | AH55: =AF55+AG55 -> 0 | AI55: =IF(AND(AF55>23,AG55>9),"P","F") -> F | AL55: =AJ55+AK55 -> 0 | AM55: =IF(AND(AJ55>23,AK55>9),"P","F") -> F
A56: 651 | B56: MAHADI HASAN RIFAT | C56: 11 | D56: 10 | E56: =C56+D56 -> 21 | F56: =IF(AND(C56>23,D56>9),"P","F") -> F | G56: 16 | H56: =IF(AND(G56>32),"P","F") -> F | I56: 1 | J56: 5 | K56: 18 | L56: =I56+J56+K56 -> 24 | M56: =IF(AND(I56>16,J56>8,K56>8),"P","F") -> F | P56: =N56+O56 -> 0 | Q56: =IF(AND(N56>23,O56>9),"P","F") -> F | T56: =R56+S56 -> 0 | U56: =IF(AND(R56>23,S56>9),"P","F") -> F | V56: 21 | W56: 13 | X56: =V56+W56 -> 34 | Y56: =IF(AND(V56>23,W56>9),"P","F") -> F | Z56: 28 | AA56: 22 | AB56: =Z56+AA56 -> 50 | AC56: =IF(AND(Z56>23,AA56>9),"P","F") -> P | AE56: =IF(AND(AD56>32),"P","F") -> F | AH56: =AF56+AG56 -> 0 | AI56: =IF(AND(AF56>23,AG56>9),"P","F") -> F | AL56: =AJ56+AK56 -> 0 | AM56: =IF(AND(AJ56>23,AK56>9),"P","F") -> F
A57: 652 | B57: AMIT PAL | C57: 14 | D57: 7 | E57: =C57+D57 -> 21 | F57: =IF(AND(C57>23,D57>9),"P","F") -> F | G57: 22 | H57: =IF(AND(G57>32),"P","F") -> F | I57: 0 | J57: 8 | K57: 18 | L57: =I57+J57+K57 -> 26 | M57: =IF(AND(I57>16,J57>8,K57>8),"P","F") -> F | N57: 23 | O57: 13 | P57: =N57+O57 -> 36 | Q57: =IF(AND(N57>23,O57>9),"P","F") -> F | T57: =R57+S57 -> 0 | U57: =IF(AND(R57>23,S57>9),"P","F") -> F | X57: =V57+W57 -> 0 | Y57: =IF(AND(V57>23,W57>9),"P","F") -> F | AB57: =Z57+AA57 -> 0 | AC57: =IF(AND(Z57>23,AA57>9),"P","F") -> F | AD57: 6 | AE57: =IF(AND(AD57>32),"P","F") -> F | AH57: =AF57+AG57 -> 0 | AI57: =IF(AND(AF57>23,AG57>9),"P","F") -> F | AL57: =AJ57+AK57 -> 0 | AM57: =IF(AND(AJ57>23,AK57>9),"P","F") -> F
A58: 653 | B58: MD. TAMIM ISLAM REDWAN | C58: 20 | D58: 11 | E58: =C58+D58 -> 31 | F58: =IF(AND(C58>23,D58>9),"P","F") -> F | G58: 24 | H58: =IF(AND(G58>32),"P","F") -> F | I58: 28 | J58: 12 | K58: 18 | L58: =I58+J58+K58 -> 58 | M58: =IF(AND(I58>16,J58>8,K58>8),"P","F") -> P | P58: =N58+O58 -> 0 | Q58: =IF(AND(N58>23,O58>9),"P","F") -> F | T58: =R58+S58 -> 0 | U58: =IF(AND(R58>23,S58>9),"P","F") -> F | V58: 17 | W58: 21 | X58: =V58+W58 -> 38 | Y58: =IF(AND(V58>23,W58>9),"P","F") -> F | Z58: 30 | AA58: 20 | AB58: =Z58+AA58 -> 50 | AC58: =IF(AND(Z58>23,AA58>9),"P","F") -> P | AE58: =IF(AND(AD58>32),"P","F") -> F | AH58: =AF58+AG58 -> 0 | AI58: =IF(AND(AF58>23,AG58>9),"P","F") -> F | AJ58: 31 | AK58: 18 | AL58: =AJ58+AK58 -> 49 | AM58: =IF(AND(AJ58>23,AK58>9),"P","F") -> P
A59: 654 | B59: SHOHAN ISLAM | E59: =C59+D59 -> 0 | F59: =IF(AND(C59>23,D59>9),"P","F") -> F | H59: =IF(AND(G59>32),"P","F") -> F | L59: =I59+J59+K59 -> 0 | M59: =IF(AND(I59>16,J59>8,K59>8),"P","F") -> F | P59: =N59+O59 -> 0 | Q59: =IF(AND(N59>23,O59>9),"P","F") -> F | T59: =R59+S59 -> 0 | U59: =IF(AND(R59>23,S59>9),"P","F") -> F | X59: =V59+W59 -> 0 | Y59: =IF(AND(V59>23,W59>9),"P","F") -> F | AB59: =Z59+AA59 -> 0 | AC59: =IF(AND(Z59>23,AA59>9),"P","F") -> F | AE59: =IF(AND(AD59>32),"P","F") -> F | AH59: =AF59+AG59 -> 0 | AI59: =IF(AND(AF59>23,AG59>9),"P","F") -> F | AL59: =AJ59+AK59 -> 0 | AM59: =IF(AND(AJ59>23,AK59>9),"P","F") -> F
A60: 655 | B60: MD EBRAHIM SHEIKH | C60: 29 | D60: 10 | E60: =C60+D60 -> 39 | F60: =IF(AND(C60>23,D60>9),"P","F") -> P | G60: 33 | H60: =IF(AND(G60>32),"P","F") -> P | I60: 0 | J60: 11 | K60: 18 | L60: =I60+J60+K60 -> 29 | M60: =IF(AND(I60>16,J60>8,K60>8),"P","F") -> F | N60: 41 | O60: 17 | P60: =N60+O60 -> 58 | Q60: =IF(AND(N60>23,O60>9),"P","F") -> P | T60: =R60+S60 -> 0 | U60: =IF(AND(R60>23,S60>9),"P","F") -> F | V60: 43 | W60: 16 | X60: =V60+W60 -> 59 | Y60: =IF(AND(V60>23,W60>9),"P","F") -> P | AB60: =Z60+AA60 -> 0 | AC60: =IF(AND(Z60>23,AA60>9),"P","F") -> F | AE60: =IF(AND(AD60>32),"P","F") -> F | AH60: =AF60+AG60 -> 0 | AI60: =IF(AND(AF60>23,AG60>9),"P","F") -> F | AL60: =AJ60+AK60 -> 0 | AM60: =IF(AND(AJ60>23,AK60>9),"P","F") -> F
A61: 656 | B61: MST. SUMAYA AKTER | C61: 22 | D61: 12 | E61: =C61+D61 -> 34 | F61: =IF(AND(C61>23,D61>9),"P","F") -> F | G61: 27 | H61: =IF(AND(G61>32),"P","F") -> F | I61: 1 | J61: 7 | K61: 18 | L61: =I61+J61+K61 -> 26 | M61: =IF(AND(I61>16,J61>8,K61>8),"P","F") -> F | N61: 22 | O61: 16 | P61: =N61+O61 -> 38 | Q61: =IF(AND(N61>23,O61>9),"P","F") -> F | T61: =R61+S61 -> 0 | U61: =IF(AND(R61>23,S61>9),"P","F") -> F | V61: 18 | W61: 18 | X61: =V61+W61 -> 36 | Y61: =IF(AND(V61>23,W61>9),"P","F") -> F | AB61: =Z61+AA61 -> 0 | AC61: =IF(AND(Z61>23,AA61>9),"P","F") -> F | AE61: =IF(AND(AD61>32),"P","F") -> F | AH61: =AF61+AG61 -> 0 | AI61: =IF(AND(AF61>23,AG61>9),"P","F") -> F | AL61: =AJ61+AK61 -> 0 | AM61: =IF(AND(AJ61>23,AK61>9),"P","F") -> F
A62: 657 | B62: MOSA. LAMIA AKTER | C62: 28 | D62: 15 | E62: =C62+D62 -> 43 | F62: =IF(AND(C62>23,D62>9),"P","F") -> P | H62: =IF(AND(G62>32),"P","F") -> F | I62: 9 | J62: 9 | K62: 18 | L62: =I62+J62+K62 -> 36 | M62: =IF(AND(I62>16,J62>8,K62>8),"P","F") -> F | P62: =N62+O62 -> 0 | Q62: =IF(AND(N62>23,O62>9),"P","F") -> F | T62: =R62+S62 -> 0 | U62: =IF(AND(R62>23,S62>9),"P","F") -> F | V62: 37 | W62: 19 | X62: =V62+W62 -> 56 | Y62: =IF(AND(V62>23,W62>9),"P","F") -> P | Z62: 36 | AA62: 21 | AB62: =Z62+AA62 -> 57 | AC62: =IF(AND(Z62>23,AA62>9),"P","F") -> P | AE62: =IF(AND(AD62>32),"P","F") -> F | AH62: =AF62+AG62 -> 0 | AI62: =IF(AND(AF62>23,AG62>9),"P","F") -> F | AJ62: 35 | AK62: 11 | AL62: =AJ62+AK62 -> 46 | AM62: =IF(AND(AJ62>23,AK62>9),"P","F") -> P
A63: 658 | B63: TAMIM SHEIKH | C63: 36 | D63: 16 | E63: =C63+D63 -> 52 | F63: =IF(AND(C63>23,D63>9),"P","F") -> P | G63: 36 | H63: =IF(AND(G63>32),"P","F") -> P | I63: 1 | J63: 8 | K63: 18 | L63: =I63+J63+K63 -> 27 | M63: =IF(AND(I63>16,J63>8,K63>8),"P","F") -> F | P63: =N63+O63 -> 0 | Q63: =IF(AND(N63>23,O63>9),"P","F") -> F | T63: =R63+S63 -> 0 | U63: =IF(AND(R63>23,S63>9),"P","F") -> F | V63: 35 | W63: 21 | X63: =V63+W63 -> 56 | Y63: =IF(AND(V63>23,W63>9),"P","F") -> P | Z63: 22 | AA63: 20 | AB63: =Z63+AA63 -> 42 | AC63: =IF(AND(Z63>23,AA63>9),"P","F") -> F | AE63: =IF(AND(AD63>32),"P","F") -> F | AH63: =AF63+AG63 -> 0 | AI63: =IF(AND(AF63>23,AG63>9),"P","F") -> F | AJ63: 28 | AK63: 15 | AL63: =AJ63+AK63 -> 43 | AM63: =IF(AND(AJ63>23,AK63>9),"P","F") -> P
A64: 659 | B64: MD SHAHARUZZAMAN | C64: 26 | D64: 9 | E64: =C64+D64 -> 35 | F64: =IF(AND(C64>23,D64>9),"P","F") -> F | G64: 29 | H64: =IF(AND(G64>32),"P","F") -> F | I64: 4 | J64: 17 | K64: 18 | L64: =I64+J64+K64 -> 39 | M64: =IF(AND(I64>16,J64>8,K64>8),"P","F") -> F | N64: 32 | O64: 19 | P64: =N64+O64 -> 51 | Q64: =IF(AND(N64>23,O64>9),"P","F") -> P | T64: =R64+S64 -> 0 | U64: =IF(AND(R64>23,S64>9),"P","F") -> F | V64: 36 | W64: 13 | X64: =V64+W64 -> 49 | Y64: =IF(AND(V64>23,W64>9),"P","F") -> P | AB64: =Z64+AA64 -> 0 | AC64: =IF(AND(Z64>23,AA64>9),"P","F") -> F | AE64: =IF(AND(AD64>32),"P","F") -> F | AH64: =AF64+AG64 -> 0 | AI64: =IF(AND(AF64>23,AG64>9),"P","F") -> F | AJ64: 11 | AK64: 13 | AL64: =AJ64+AK64 -> 24 | AM64: =IF(AND(AJ64>23,AK64>9),"P","F") -> F
A65: 660 | B65: MD. TASIN AHMED | C65: 41 | D65: 15 | E65: =C65+D65 -> 56 | F65: =IF(AND(C65>23,D65>9),"P","F") -> P | G65: 24 | H65: =IF(AND(G65>32),"P","F") -> F | I65: 3 | J65: 14 | K65: 18 | L65: =I65+J65+K65 -> 35 | M65: =IF(AND(I65>16,J65>8,K65>8),"P","F") -> F | P65: =N65+O65 -> 0 | Q65: =IF(AND(N65>23,O65>9),"P","F") -> F | T65: =R65+S65 -> 0 | U65: =IF(AND(R65>23,S65>9),"P","F") -> F | X65: =V65+W65 -> 0 | Y65: =IF(AND(V65>23,W65>9),"P","F") -> F | Z65: 0 | AA65: 18 | AB65: =Z65+AA65 -> 18 | AC65: =IF(AND(Z65>23,AA65>9),"P","F") -> F | AE65: =IF(AND(AD65>32),"P","F") -> F | AH65: =AF65+AG65 -> 0 | AI65: =IF(AND(AF65>23,AG65>9),"P","F") -> F | AJ65: 2 | AK65: 18 | AL65: =AJ65+AK65 -> 20 | AM65: =IF(AND(AJ65>23,AK65>9),"P","F") -> F
A66: 661 | B66: BONI AMIN MOLLA | C66: 27 | D66: 14 | E66: =C66+D66 -> 41 | F66: =IF(AND(C66>23,D66>9),"P","F") -> P | G66: 15 | H66: =IF(AND(G66>32),"P","F") -> F | I66: 2 | J66: 8 | K66: 18 | L66: =I66+J66+K66 -> 28 | M66: =IF(AND(I66>16,J66>8,K66>8),"P","F") -> F | P66: =N66+O66 -> 0 | Q66: =IF(AND(N66>23,O66>9),"P","F") -> F | T66: =R66+S66 -> 0 | U66: =IF(AND(R66>23,S66>9),"P","F") -> F | V66: 31 | W66: 17 | X66: =V66+W66 -> 48 | Y66: =IF(AND(V66>23,W66>9),"P","F") -> P | Z66: 16 | AA66: 17 | AB66: =Z66+AA66 -> 33 | AC66: =IF(AND(Z66>23,AA66>9),"P","F") -> F | AE66: =IF(AND(AD66>32),"P","F") -> F | AH66: =AF66+AG66 -> 0 | AI66: =IF(AND(AF66>23,AG66>9),"P","F") -> F | AJ66: 23 | AK66: 13 | AL66: =AJ66+AK66 -> 36 | AM66: =IF(AND(AJ66>23,AK66>9),"P","F") -> F
A67: 662 | B67: MD. TANJIL KHAN | C67: 41 | D67: 19 | E67: =C67+D67 -> 60 | F67: =IF(AND(C67>23,D67>9),"P","F") -> P | G67: 35 | H67: =IF(AND(G67>32),"P","F") -> P | I67: 33 | J67: 17 | K67: 18 | L67: =I67+J67+K67 -> 68 | M67: =IF(AND(I67>16,J67>8,K67>8),"P","F") -> P | P67: =N67+O67 -> 0 | Q67: =IF(AND(N67>23,O67>9),"P","F") -> F | T67: =R67+S67 -> 0 | U67: =IF(AND(R67>23,S67>9),"P","F") -> F | V67: 35 | W67: 18 | X67: =V67+W67 -> 53 | Y67: =IF(AND(V67>23,W67>9),"P","F") -> P | Z67: 22 | AA67: 20 | AB67: =Z67+AA67 -> 42 | AC67: =IF(AND(Z67>23,AA67>9),"P","F") -> F | AE67: =IF(AND(AD67>32),"P","F") -> F | AH67: =AF67+AG67 -> 0 | AI67: =IF(AND(AF67>23,AG67>9),"P","F") -> F | AJ67: 45 | AK67: 20 | AL67: =AJ67+AK67 -> 65 | AM67: =IF(AND(AJ67>23,AK67>9),"P","F") -> P
A68: 663 | B68: SUVASHREE MONDAL | C68: 45 | D68: 18 | E68: =C68+D68 -> 63 | F68: =IF(AND(C68>23,D68>9),"P","F") -> P | G68: 53 | H68: =IF(AND(G68>32),"P","F") -> P | I68: 36 | J68: 11 | K68: 18 | L68: =I68+J68+K68 -> 65 | M68: =IF(AND(I68>16,J68>8,K68>8),"P","F") -> P | P68: =N68+O68 -> 0 | Q68: =IF(AND(N68>23,O68>9),"P","F") -> F | T68: =R68+S68 -> 0 | U68: =IF(AND(R68>23,S68>9),"P","F") -> F | X68: =V68+W68 -> 0 | Y68: =IF(AND(V68>23,W68>9),"P","F") -> F | AB68: =Z68+AA68 -> 0 | AC68: =IF(AND(Z68>23,AA68>9),"P","F") -> F | AD68: 74 | AE68: =IF(AND(AD68>32),"P","F") -> P | AH68: =AF68+AG68 -> 0 | AI68: =IF(AND(AF68>23,AG68>9),"P","F") -> F | AJ68: 52 | AK68: 27 | AL68: =AJ68+AK68 -> 79 | AM68: =IF(AND(AJ68>23,AK68>9),"P","F") -> P
A69: 664 | B69: ABDULLAH AL SAJIB | C69: 39 | D69: 20 | E69: =C69+D69 -> 59 | F69: =IF(AND(C69>23,D69>9),"P","F") -> P | G69: 32 | H69: =IF(AND(G69>32),"P","F") -> F | I69: 33 | J69: 12 | K69: 18 | L69: =I69+J69+K69 -> 63 | M69: =IF(AND(I69>16,J69>8,K69>8),"P","F") -> P | P69: =N69+O69 -> 0 | Q69: =IF(AND(N69>23,O69>9),"P","F") -> F | T69: =R69+S69 -> 0 | U69: =IF(AND(R69>23,S69>9),"P","F") -> F | V69: 39 | W69: 22 | X69: =V69+W69 -> 61 | Y69: =IF(AND(V69>23,W69>9),"P","F") -> P | Z69: 32 | AA69: 21 | AB69: =Z69+AA69 -> 53 | AC69: =IF(AND(Z69>23,AA69>9),"P","F") -> P | AE69: =IF(AND(AD69>32),"P","F") -> F | AH69: =AF69+AG69 -> 0 | AI69: =IF(AND(AF69>23,AG69>9),"P","F") -> F | AJ69: 10 | AK69: 14 | AL69: =AJ69+AK69 -> 24 | AM69: =IF(AND(AJ69>23,AK69>9),"P","F") -> F
A70: 665 | B70: MD. TAJUL ISLAM | C70: 31 | D70: 15 | E70: =C70+D70 -> 46 | F70: =IF(AND(C70>23,D70>9),"P","F") -> P | G70: 28 | H70: =IF(AND(G70>32),"P","F") -> F | I70: 28 | J70: 9 | K70: 18 | L70: =I70+J70+K70 -> 55 | M70: =IF(AND(I70>16,J70>8,K70>8),"P","F") -> P | P70: =N70+O70 -> 0 | Q70: =IF(AND(N70>23,O70>9),"P","F") -> F | T70: =R70+S70 -> 0 | U70: =IF(AND(R70>23,S70>9),"P","F") -> F | X70: =V70+W70 -> 0 | Y70: =IF(AND(V70>23,W70>9),"P","F") -> F | Z70: 26 | AA70: 21 | AB70: =Z70+AA70 -> 47 | AC70: =IF(AND(Z70>23,AA70>9),"P","F") -> P | AE70: =IF(AND(AD70>32),"P","F") -> F | AH70: =AF70+AG70 -> 0 | AI70: =IF(AND(AF70>23,AG70>9),"P","F") -> F | AJ70: 30 | AK70: 17 | AL70: =AJ70+AK70 -> 47 | AM70: =IF(AND(AJ70>23,AK70>9),"P","F") -> P
A71: 666 | B71: MD.RIFAT HOSSAIN | C71: 29 | D71: 16 | E71: =C71+D71 -> 45 | F71: =IF(AND(C71>23,D71>9),"P","F") -> P | G71: 19 | H71: =IF(AND(G71>32),"P","F") -> F | I71: 19 | J71: 12 | K71: 18 | L71: =I71+J71+K71 -> 49 | M71: =IF(AND(I71>16,J71>8,K71>8),"P","F") -> P | P71: =N71+O71 -> 0 | Q71: =IF(AND(N71>23,O71>9),"P","F") -> F | T71: =R71+S71 -> 0 | U71: =IF(AND(R71>23,S71>9),"P","F") -> F | V71: 37 | W71: 17 | X71: =V71+W71 -> 54 | Y71: =IF(AND(V71>23,W71>9),"P","F") -> P | Z71: 30 | AA71: 22 | AB71: =Z71+AA71 -> 52 | AC71: =IF(AND(Z71>23,AA71>9),"P","F") -> P | AE71: =IF(AND(AD71>32),"P","F") -> F | AH71: =AF71+AG71 -> 0 | AI71: =IF(AND(AF71>23,AG71>9),"P","F") -> F | AL71: =AJ71+AK71 -> 0 | AM71: =IF(AND(AJ71>23,AK71>9),"P","F") -> F
A72: 667 | B72: SAJIDIN SAJID | C72: 18 | D72: 12 | E72: =C72+D72 -> 30 | F72: =IF(AND(C72>23,D72>9),"P","F") -> F | G72: 8 | H72: =IF(AND(G72>32),"P","F") -> F | I72: 0 | J72: 7 | K72: 18 | L72: =I72+J72+K72 -> 25 | M72: =IF(AND(I72>16,J72>8,K72>8),"P","F") -> F | P72: =N72+O72 -> 0 | Q72: =IF(AND(N72>23,O72>9),"P","F") -> F | T72: =R72+S72 -> 0 | U72: =IF(AND(R72>23,S72>9),"P","F") -> F | V72: 38 | W72: 19 | X72: =V72+W72 -> 57 | Y72: =IF(AND(V72>23,W72>9),"P","F") -> P | Z72: 14 | AA72: 16 | AB72: =Z72+AA72 -> 30 | AC72: =IF(AND(Z72>23,AA72>9),"P","F") -> F | AE72: =IF(AND(AD72>32),"P","F") -> F | AH72: =AF72+AG72 -> 0 | AI72: =IF(AND(AF72>23,AG72>9),"P","F") -> F | AJ72: 7 | AK72: 16 | AL72: =AJ72+AK72 -> 23 | AM72: =IF(AND(AJ72>23,AK72>9),"P","F") -> F
A73: 668 | B73: LAMIA AKTER | E73: =C73+D73 -> 0 | F73: =IF(AND(C73>23,D73>9),"P","F") -> F | H73: =IF(AND(G73>32),"P","F") -> F | L73: =I73+J73+K73 -> 0 | M73: =IF(AND(I73>16,J73>8,K73>8),"P","F") -> F | P73: =N73+O73 -> 0 | Q73: =IF(AND(N73>23,O73>9),"P","F") -> F | T73: =R73+S73 -> 0 | U73: =IF(AND(R73>23,S73>9),"P","F") -> F | X73: =V73+W73 -> 0 | Y73: =IF(AND(V73>23,W73>9),"P","F") -> F | AB73: =Z73+AA73 -> 0 | AC73: =IF(AND(Z73>23,AA73>9),"P","F") -> F | AE73: =IF(AND(AD73>32),"P","F") -> F | AH73: =AF73+AG73 -> 0 | AI73: =IF(AND(AF73>23,AG73>9),"P","F") -> F | AL73: =AJ73+AK73 -> 0 | AM73: =IF(AND(AJ73>23,AK73>9),"P","F") -> F
A74: 669 | B74: MARIAM AKTER | C74: 57 | D74: 21 | E74: =C74+D74 -> 78 | F74: =IF(AND(C74>23,D74>9),"P","F") -> P | H74: =IF(AND(G74>32),"P","F") -> F | I74: 36 | J74: 12 | K74: 18 | L74: =I74+J74+K74 -> 66 | M74: =IF(AND(I74>16,J74>8,K74>8),"P","F") -> P | N74: 47 | O74: 23 | P74: =N74+O74 -> 70 | Q74: =IF(AND(N74>23,O74>9),"P","F") -> P | T74: =R74+S74 -> 0 | U74: =IF(AND(R74>23,S74>9),"P","F") -> F | V74: 38 | W74: 19 | X74: =V74+W74 -> 57 | Y74: =IF(AND(V74>23,W74>9),"P","F") -> P | AB74: =Z74+AA74 -> 0 | AC74: =IF(AND(Z74>23,AA74>9),"P","F") -> F | AE74: =IF(AND(AD74>32),"P","F") -> F | AH74: =AF74+AG74 -> 0 | AI74: =IF(AND(AF74>23,AG74>9),"P","F") -> F | AJ74: 56 | AK74: 27 | AL74: =AJ74+AK74 -> 83 | AM74: =IF(AND(AJ74>23,AK74>9),"P","F") -> P
A75: 670 | B75: MD. MEHEDI HASAN RUHAN | C75: 30 | D75: 14 | E75: =C75+D75 -> 44 | F75: =IF(AND(C75>23,D75>9),"P","F") -> P | G75: 30 | H75: =IF(AND(G75>32),"P","F") -> F | I75: 27 | J75: 15 | K75: 18 | L75: =I75+J75+K75 -> 60 | M75: =IF(AND(I75>16,J75>8,K75>8),"P","F") -> P | P75: =N75+O75 -> 0 | Q75: =IF(AND(N75>23,O75>9),"P","F") -> F | T75: =R75+S75 -> 0 | U75: =IF(AND(R75>23,S75>9),"P","F") -> F | V75: 35 | W75: 18 | X75: =V75+W75 -> 53 | Y75: =IF(AND(V75>23,W75>9),"P","F") -> P | Z75: 12 | AA75: 19 | AB75: =Z75+AA75 -> 31 | AC75: =IF(AND(Z75>23,AA75>9),"P","F") -> F | AE75: =IF(AND(AD75>32),"P","F") -> F | AH75: =AF75+AG75 -> 0 | AI75: =IF(AND(AF75>23,AG75>9),"P","F") -> F | AL75: =AJ75+AK75 -> 0 | AM75: =IF(AND(AJ75>23,AK75>9),"P","F") -> F
A76: 671 | B76: MD. SABBIR | C76: 3 | D76: 8 | E76: =C76+D76 -> 11 | F76: =IF(AND(C76>23,D76>9),"P","F") -> F | G76: 10 | H76: =IF(AND(G76>32),"P","F") -> F | I76: 0 | J76: 7 | K76: 18 | L76: =I76+J76+K76 -> 25 | M76: =IF(AND(I76>16,J76>8,K76>8),"P","F") -> F | P76: =N76+O76 -> 0 | Q76: =IF(AND(N76>23,O76>9),"P","F") -> F | T76: =R76+S76 -> 0 | U76: =IF(AND(R76>23,S76>9),"P","F") -> F | V76: 30 | W76: 17 | X76: =V76+W76 -> 47 | Y76: =IF(AND(V76>23,W76>9),"P","F") -> P | Z76: 2 | AA76: 17 | AB76: =Z76+AA76 -> 19 | AC76: =IF(AND(Z76>23,AA76>9),"P","F") -> F | AE76: =IF(AND(AD76>32),"P","F") -> F | AH76: =AF76+AG76 -> 0 | AI76: =IF(AND(AF76>23,AG76>9),"P","F") -> F | AL76: =AJ76+AK76 -> 0 | AM76: =IF(AND(AJ76>23,AK76>9),"P","F") -> F
A77: 672 | B77: MST. SUBORNA AKTER | C77: 21 | D77: 12 | E77: =C77+D77 -> 33 | F77: =IF(AND(C77>23,D77>9),"P","F") -> F | G77: 18 | H77: =IF(AND(G77>32),"P","F") -> F | I77: 0 | J77: 11 | K77: 18 | L77: =I77+J77+K77 -> 29 | M77: =IF(AND(I77>16,J77>8,K77>8),"P","F") -> F | P77: =N77+O77 -> 0 | Q77: =IF(AND(N77>23,O77>9),"P","F") -> F | T77: =R77+S77 -> 0 | U77: =IF(AND(R77>23,S77>9),"P","F") -> F | V77: 36 | W77: 21 | X77: =V77+W77 -> 57 | Y77: =IF(AND(V77>23,W77>9),"P","F") -> P | Z77: 16 | AA77: 17 | AB77: =Z77+AA77 -> 33 | AC77: =IF(AND(Z77>23,AA77>9),"P","F") -> F | AE77: =IF(AND(AD77>32),"P","F") -> F | AH77: =AF77+AG77 -> 0 | AI77: =IF(AND(AF77>23,AG77>9),"P","F") -> F | AJ77: 38 | AK77: 21 | AL77: =AJ77+AK77 -> 59 | AM77: =IF(AND(AJ77>23,AK77>9),"P","F") -> P
A78: 673 | B78: SHANTO DAS | C78: 12 | D78: 10 | E78: =C78+D78 -> 22 | F78: =IF(AND(C78>23,D78>9),"P","F") -> F | G78: 18 | H78: =IF(AND(G78>32),"P","F") -> F | I78: 0 | J78: 7 | K78: 18 | L78: =I78+J78+K78 -> 25 | M78: =IF(AND(I78>16,J78>8,K78>8),"P","F") -> F | N78: 35 | O78: 17 | P78: =N78+O78 -> 52 | Q78: =IF(AND(N78>23,O78>9),"P","F") -> P | T78: =R78+S78 -> 0 | U78: =IF(AND(R78>23,S78>9),"P","F") -> F | X78: =V78+W78 -> 0 | Y78: =IF(AND(V78>23,W78>9),"P","F") -> F | AB78: =Z78+AA78 -> 0 | AC78: =IF(AND(Z78>23,AA78>9),"P","F") -> F | AD78: 50 | AE78: =IF(AND(AD78>32),"P","F") -> P | AH78: =AF78+AG78 -> 0 | AI78: =IF(AND(AF78>23,AG78>9),"P","F") -> F | AJ78: 25 | AK78: 14 | AL78: =AJ78+AK78 -> 39 | AM78: =IF(AND(AJ78>23,AK78>9),"P","F") -> P
A79: 674 | B79: SHAKTI BARAL | C79: 28 | D79: 10 | E79: =C79+D79 -> 38 | F79: =IF(AND(C79>23,D79>9),"P","F") -> P | G79: 20 | H79: =IF(AND(G79>32),"P","F") -> F | I79: 2 | J79: 8 | K79: 18 | L79: =I79+J79+K79 -> 28 | M79: =IF(AND(I79>16,J79>8,K79>8),"P","F") -> F | N79: 39 | O79: 19 | P79: =N79+O79 -> 58 | Q79: =IF(AND(N79>23,O79>9),"P","F") -> P | T79: =R79+S79 -> 0 | U79: =IF(AND(R79>23,S79>9),"P","F") -> F | X79: =V79+W79 -> 0 | Y79: =IF(AND(V79>23,W79>9),"P","F") -> F | AB79: =Z79+AA79 -> 0 | AC79: =IF(AND(Z79>23,AA79>9),"P","F") -> F | AD79: 45 | AE79: =IF(AND(AD79>32),"P","F") -> P | AH79: =AF79+AG79 -> 0 | AI79: =IF(AND(AF79>23,AG79>9),"P","F") -> F | AJ79: 27 | AK79: 17 | AL79: =AJ79+AK79 -> 44 | AM79: =IF(AND(AJ79>23,AK79>9),"P","F") -> P
A80: 675 | B80: HRIDOY SHEIKH | C80: 24 | D80: 15 | E80: =C80+D80 -> 39 | F80: =IF(AND(C80>23,D80>9),"P","F") -> P | G80: 18 | H80: =IF(AND(G80>32),"P","F") -> F | I80: 1 | J80: 6 | K80: 18 | L80: =I80+J80+K80 -> 25 | M80: =IF(AND(I80>16,J80>8,K80>8),"P","F") -> F | P80: =N80+O80 -> 0 | Q80: =IF(AND(N80>23,O80>9),"P","F") -> F | T80: =R80+S80 -> 0 | U80: =IF(AND(R80>23,S80>9),"P","F") -> F | V80: 27 | W80: 13 | X80: =V80+W80 -> 40 | Y80: =IF(AND(V80>23,W80>9),"P","F") -> P | Z80: 14 | AA80: 18 | AB80: =Z80+AA80 -> 32 | AC80: =IF(AND(Z80>23,AA80>9),"P","F") -> F | AE80: =IF(AND(AD80>32),"P","F") -> F | AH80: =AF80+AG80 -> 0 | AI80: =IF(AND(AF80>23,AG80>9),"P","F") -> F | AJ80: 26 | AK80: 25 | AL80: =AJ80+AK80 -> 51 | AM80: =IF(AND(AJ80>23,AK80>9),"P","F") -> P
A81: 676 | B81: MARIA ISLAM | C81: 40 | D81: 14 | E81: =C81+D81 -> 54 | F81: =IF(AND(C81>23,D81>9),"P","F") -> P | G81: 34 | H81: =IF(AND(G81>32),"P","F") -> P | I81: 13 | J81: 10 | K81: 18 | L81: =I81+J81+K81 -> 41 | M81: =IF(AND(I81>16,J81>8,K81>8),"P","F") -> F | N81: 39 | O81: 20 | P81: =N81+O81 -> 59 | Q81: =IF(AND(N81>23,O81>9),"P","F") -> P | T81: =R81+S81 -> 0 | U81: =IF(AND(R81>23,S81>9),"P","F") -> F | V81: 27 | W81: 13 | X81: =V81+W81 -> 40 | Y81: =IF(AND(V81>23,W81>9),"P","F") -> P | AB81: =Z81+AA81 -> 0 | AC81: =IF(AND(Z81>23,AA81>9),"P","F") -> F | AE81: =IF(AND(AD81>32),"P","F") -> F | AH81: =AF81+AG81 -> 0 | AI81: =IF(AND(AF81>23,AG81>9),"P","F") -> F | AJ81: 50 | AK81: 21 | AL81: =AJ81+AK81 -> 71 | AM81: =IF(AND(AJ81>23,AK81>9),"P","F") -> P
A82: 677 | B82: MD.NAJMUL HASAN MUNAN | C82: 22 | D82: 14 | E82: =C82+D82 -> 36 | F82: =IF(AND(C82>23,D82>9),"P","F") -> F | G82: 43 | H82: =IF(AND(G82>32),"P","F") -> P | I82: 7 | J82: 14 | K82: 18 | L82: =I82+J82+K82 -> 39 | M82: =IF(AND(I82>16,J82>8,K82>8),"P","F") -> F | N82: 33 | O82: 24 | P82: =N82+O82 -> 57 | Q82: =IF(AND(N82>23,O82>9),"P","F") -> P | T82: =R82+S82 -> 0 | U82: =IF(AND(R82>23,S82>9),"P","F") -> F | V82: 24 | W82: 22 | X82: =V82+W82 -> 46 | Y82: =IF(AND(V82>23,W82>9),"P","F") -> P | AB82: =Z82+AA82 -> 0 | AC82: =IF(AND(Z82>23,AA82>9),"P","F") -> F | AE82: =IF(AND(AD82>32),"P","F") -> F | AH82: =AF82+AG82 -> 0 | AI82: =IF(AND(AF82>23,AG82>9),"P","F") -> F | AJ82: 37 | AK82: 25 | AL82: =AJ82+AK82 -> 62 | AM82: =IF(AND(AJ82>23,AK82>9),"P","F") -> P
A83: 678 | B83: MD. MOHIBULLAH | C83: 46 | D83: 17 | E83: =C83+D83 -> 63 | F83: =IF(AND(C83>23,D83>9),"P","F") -> P | G83: 68 | H83: =IF(AND(G83>32),"P","F") -> P | I83: 30 | J83: 11 | K83: 18 | L83: =I83+J83+K83 -> 59 | M83: =IF(AND(I83>16,J83>8,K83>8),"P","F") -> P | P83: =N83+O83 -> 0 | Q83: =IF(AND(N83>23,O83>9),"P","F") -> F | T83: =R83+S83 -> 0 | U83: =IF(AND(R83>23,S83>9),"P","F") -> F | V83: 38 | W83: 23 | X83: =V83+W83 -> 61 | Y83: =IF(AND(V83>23,W83>9),"P","F") -> P | Z83: 56 | AA83: 24 | AB83: =Z83+AA83 -> 80 | AC83: =IF(AND(Z83>23,AA83>9),"P","F") -> P | AE83: =IF(AND(AD83>32),"P","F") -> F | AH83: =AF83+AG83 -> 0 | AI83: =IF(AND(AF83>23,AG83>9),"P","F") -> F | AL83: =AJ83+AK83 -> 0 | AM83: =IF(AND(AJ83>23,AK83>9),"P","F") -> F
A84: 679 | B84: S.M HASIBUR RAHMAN | E84: =C84+D84 -> 0 | F84: =IF(AND(C84>23,D84>9),"P","F") -> F | H84: =IF(AND(G84>32),"P","F") -> F | L84: =I84+J84+K84 -> 0 | M84: =IF(AND(I84>16,J84>8,K84>8),"P","F") -> F | P84: =N84+O84 -> 0 | Q84: =IF(AND(N84>23,O84>9),"P","F") -> F | T84: =R84+S84 -> 0 | U84: =IF(AND(R84>23,S84>9),"P","F") -> F | X84: =V84+W84 -> 0 | Y84: =IF(AND(V84>23,W84>9),"P","F") -> F | AB84: =Z84+AA84 -> 0 | AC84: =IF(AND(Z84>23,AA84>9),"P","F") -> F | AE84: =IF(AND(AD84>32),"P","F") -> F | AH84: =AF84+AG84 -> 0 | AI84: =IF(AND(AF84>23,AG84>9),"P","F") -> F | AL84: =AJ84+AK84 -> 0 | AM84: =IF(AND(AJ84>23,AK84>9),"P","F") -> F
A85: 680 | B85: SHARIN ISLAM PRANTO | C85: 35 | D85: 15 | E85: =C85+D85 -> 50 | F85: =IF(AND(C85>23,D85>9),"P","F") -> P | G85: 47 | H85: =IF(AND(G85>32),"P","F") -> P | I85: 19 | J85: 9 | K85: 18 | L85: =I85+J85+K85 -> 46 | M85: =IF(AND(I85>16,J85>8,K85>8),"P","F") -> P | N85: 36 | O85: 23 | P85: =N85+O85 -> 59 | Q85: =IF(AND(N85>23,O85>9),"P","F") -> P | T85: =R85+S85 -> 0 | U85: =IF(AND(R85>23,S85>9),"P","F") -> F | V85: 36 | W85: 16 | X85: =V85+W85 -> 52 | Y85: =IF(AND(V85>23,W85>9),"P","F") -> P | AB85: =Z85+AA85 -> 0 | AC85: =IF(AND(Z85>23,AA85>9),"P","F") -> F | AE85: =IF(AND(AD85>32),"P","F") -> F | AH85: =AF85+AG85 -> 0 | AI85: =IF(AND(AF85>23,AG85>9),"P","F") -> F | AL85: =AJ85+AK85 -> 0 | AM85: =IF(AND(AJ85>23,AK85>9),"P","F") -> F
A86: 681 | B86: DIPTO GHOSH | C86: 39 | D86: 14 | E86: =C86+D86 -> 53 | F86: =IF(AND(C86>23,D86>9),"P","F") -> P | G86: 42 | H86: =IF(AND(G86>32),"P","F") -> P | I86: 7 | J86: 10 | K86: 18 | L86: =I86+J86+K86 -> 35 | M86: =IF(AND(I86>16,J86>8,K86>8),"P","F") -> F | N86: 23 | O86: 17 | P86: =N86+O86 -> 40 | Q86: =IF(AND(N86>23,O86>9),"P","F") -> F | T86: =R86+S86 -> 0 | U86: =IF(AND(R86>23,S86>9),"P","F") -> F | X86: =V86+W86 -> 0 | Y86: =IF(AND(V86>23,W86>9),"P","F") -> F | AB86: =Z86+AA86 -> 0 | AC86: =IF(AND(Z86>23,AA86>9),"P","F") -> F | AE86: =IF(AND(AD86>32),"P","F") -> F | AH86: =AF86+AG86 -> 0 | AI86: =IF(AND(AF86>23,AG86>9),"P","F") -> F | AJ86: 35 | AK86: 20 | AL86: =AJ86+AK86 -> 55 | AM86: =IF(AND(AJ86>23,AK86>9),"P","F") -> P
A87: 682 | B87: EMAM HOSSAIN | C87: 12 | D87: 11 | E87: =C87+D87 -> 23 | F87: =IF(AND(C87>23,D87>9),"P","F") -> F | G87: 36 | H87: =IF(AND(G87>32),"P","F") -> P | I87: 7 | J87: 8 | K87: 18 | L87: =I87+J87+K87 -> 33 | M87: =IF(AND(I87>16,J87>8,K87>8),"P","F") -> F | P87: =N87+O87 -> 0 | Q87: =IF(AND(N87>23,O87>9),"P","F") -> F | T87: =R87+S87 -> 0 | U87: =IF(AND(R87>23,S87>9),"P","F") -> F | V87: 21 | W87: 15 | X87: =V87+W87 -> 36 | Y87: =IF(AND(V87>23,W87>9),"P","F") -> F | Z87: 22 | AA87: 21 | AB87: =Z87+AA87 -> 43 | AC87: =IF(AND(Z87>23,AA87>9),"P","F") -> F | AE87: =IF(AND(AD87>32),"P","F") -> F | AH87: =AF87+AG87 -> 0 | AI87: =IF(AND(AF87>23,AG87>9),"P","F") -> F | AJ87: 25 | AK87: 16 | AL87: =AJ87+AK87 -> 41 | AM87: =IF(AND(AJ87>23,AK87>9),"P","F") -> P
A88: 683 | B88: FATEMA AKTHER MITHILA | C88: 36 | D88: 18 | E88: =C88+D88 -> 54 | F88: =IF(AND(C88>23,D88>9),"P","F") -> P | G88: 37 | H88: =IF(AND(G88>32),"P","F") -> P | I88: 23 | J88: 12 | K88: 18 | L88: =I88+J88+K88 -> 53 | M88: =IF(AND(I88>16,J88>8,K88>8),"P","F") -> P | P88: =N88+O88 -> 0 | Q88: =IF(AND(N88>23,O88>9),"P","F") -> F | T88: =R88+S88 -> 0 | U88: =IF(AND(R88>23,S88>9),"P","F") -> F | V88: 27 | W88: 22 | X88: =V88+W88 -> 49 | Y88: =IF(AND(V88>23,W88>9),"P","F") -> P | Z88: 32 | AA88: 22 | AB88: =Z88+AA88 -> 54 | AC88: =IF(AND(Z88>23,AA88>9),"P","F") -> P | AE88: =IF(AND(AD88>32),"P","F") -> F | AH88: =AF88+AG88 -> 0 | AI88: =IF(AND(AF88>23,AG88>9),"P","F") -> F | AJ88: 50 | AK88: 18 | AL88: =AJ88+AK88 -> 68 | AM88: =IF(AND(AJ88>23,AK88>9),"P","F") -> P
A89: 684 | B89: JUI AKTER | C89: 28 | D89: 12 | E89: =C89+D89 -> 40 | F89: =IF(AND(C89>23,D89>9),"P","F") -> P | G89: 13 | H89: =IF(AND(G89>32),"P","F") -> F | I89: 0 | J89: 8 | K89: 18 | L89: =I89+J89+K89 -> 26 | M89: =IF(AND(I89>16,J89>8,K89>8),"P","F") -> F | P89: =N89+O89 -> 0 | Q89: =IF(AND(N89>23,O89>9),"P","F") -> F | T89: =R89+S89 -> 0 | U89: =IF(AND(R89>23,S89>9),"P","F") -> F | V89: 25 | W89: 16 | X89: =V89+W89 -> 41 | Y89: =IF(AND(V89>23,W89>9),"P","F") -> P | Z89: 28 | AA89: 22 | AB89: =Z89+AA89 -> 50 | AC89: =IF(AND(Z89>23,AA89>9),"P","F") -> P | AE89: =IF(AND(AD89>32),"P","F") -> F | AH89: =AF89+AG89 -> 0 | AI89: =IF(AND(AF89>23,AG89>9),"P","F") -> F | AJ89: 40 | AK89: 15 | AL89: =AJ89+AK89 -> 55 | AM89: =IF(AND(AJ89>23,AK89>9),"P","F") -> P
A90: 685 | B90: M.A ARIAN | C90: 38 | D90: 20 | E90: =C90+D90 -> 58 | F90: =IF(AND(C90>23,D90>9),"P","F") -> P | G90: 56 | H90: =IF(AND(G90>32),"P","F") -> P | I90: 28 | J90: 17 | K90: 18 | L90: =I90+J90+K90 -> 63 | M90: =IF(AND(I90>16,J90>8,K90>8),"P","F") -> P | P90: =N90+O90 -> 0 | Q90: =IF(AND(N90>23,O90>9),"P","F") -> F | T90: =R90+S90 -> 0 | U90: =IF(AND(R90>23,S90>9),"P","F") -> F | V90: 20 | W90: 22 | X90: =V90+W90 -> 42 | Y90: =IF(AND(V90>23,W90>9),"P","F") -> F | Z90: 30 | AA90: 20 | AB90: =Z90+AA90 -> 50 | AC90: =IF(AND(Z90>23,AA90>9),"P","F") -> P | AE90: =IF(AND(AD90>32),"P","F") -> F | AH90: =AF90+AG90 -> 0 | AI90: =IF(AND(AF90>23,AG90>9),"P","F") -> F | AL90: =AJ90+AK90 -> 0 | AM90: =IF(AND(AJ90>23,AK90>9),"P","F") -> F
A91: 686 | B91: MD. JAHIRUL ISLAM | C91: 27 | D91: 13 | E91: =C91+D91 -> 40 | F91: =IF(AND(C91>23,D91>9),"P","F") -> P | G91: 43 | H91: =IF(AND(G91>32),"P","F") -> P | I91: 23 | J91: 12 | K91: 18 | L91: =I91+J91+K91 -> 53 | M91: =IF(AND(I91>16,J91>8,K91>8),"P","F") -> P | P91: =N91+O91 -> 0 | Q91: =IF(AND(N91>23,O91>9),"P","F") -> F | T91: =R91+S91 -> 0 | U91: =IF(AND(R91>23,S91>9),"P","F") -> F | V91: 36 | W91: 21 | X91: =V91+W91 -> 57 | Y91: =IF(AND(V91>23,W91>9),"P","F") -> P | Z91: 36 | AA91: 21 | AB91: =Z91+AA91 -> 57 | AC91: =IF(AND(Z91>23,AA91>9),"P","F") -> P | AE91: =IF(AND(AD91>32),"P","F") -> F | AH91: =AF91+AG91 -> 0 | AI91: =IF(AND(AF91>23,AG91>9),"P","F") -> F | AL91: =AJ91+AK91 -> 0 | AM91: =IF(AND(AJ91>23,AK91>9),"P","F") -> F
A92: 687 | B92: MORSALIN SHEIKH | C92: 26 | D92: 12 | E92: =C92+D92 -> 38 | F92: =IF(AND(C92>23,D92>9),"P","F") -> P | G92: 28 | H92: =IF(AND(G92>32),"P","F") -> F | I92: 1 | J92: 10 | K92: 18 | L92: =I92+J92+K92 -> 29 | M92: =IF(AND(I92>16,J92>8,K92>8),"P","F") -> F | P92: =N92+O92 -> 0 | Q92: =IF(AND(N92>23,O92>9),"P","F") -> F | T92: =R92+S92 -> 0 | U92: =IF(AND(R92>23,S92>9),"P","F") -> F | V92: 32 | W92: 20 | X92: =V92+W92 -> 52 | Y92: =IF(AND(V92>23,W92>9),"P","F") -> P | Z92: 22 | AA92: 20 | AB92: =Z92+AA92 -> 42 | AC92: =IF(AND(Z92>23,AA92>9),"P","F") -> F | AE92: =IF(AND(AD92>32),"P","F") -> F | AH92: =AF92+AG92 -> 0 | AI92: =IF(AND(AF92>23,AG92>9),"P","F") -> F | AJ92: 39 | AK92: 13 | AL92: =AJ92+AK92 -> 52 | AM92: =IF(AND(AJ92>23,AK92>9),"P","F") -> P
A93: 688 | B93: BORNA RANI HALDER | C93: 20 | D93: 10 | E93: =C93+D93 -> 30 | F93: =IF(AND(C93>23,D93>9),"P","F") -> F | G93: 21 | H93: =IF(AND(G93>32),"P","F") -> F | I93: 3 | J93: 10 | K93: 18 | L93: =I93+J93+K93 -> 31 | M93: =IF(AND(I93>16,J93>8,K93>8),"P","F") -> F | N93: 23 | O93: 16 | P93: =N93+O93 -> 39 | Q93: =IF(AND(N93>23,O93>9),"P","F") -> F | T93: =R93+S93 -> 0 | U93: =IF(AND(R93>23,S93>9),"P","F") -> F | X93: =V93+W93 -> 0 | Y93: =IF(AND(V93>23,W93>9),"P","F") -> F | AB93: =Z93+AA93 -> 0 | AC93: =IF(AND(Z93>23,AA93>9),"P","F") -> F | AD93: 40 | AE93: =IF(AND(AD93>32),"P","F") -> P | AH93: =AF93+AG93 -> 0 | AI93: =IF(AND(AF93>23,AG93>9),"P","F") -> F | AJ93: 32 | AK93: 20 | AL93: =AJ93+AK93 -> 52 | AM93: =IF(AND(AJ93>23,AK93>9),"P","F") -> P
A94: 689 | B94: MD. KAZI SHAWON | C94: 20 | D94: 9 | E94: =C94+D94 -> 29 | F94: =IF(AND(C94>23,D94>9),"P","F") -> F | H94: =IF(AND(G94>32),"P","F") -> F | I94: 0 | J94: 14 | K94: 18 | L94: =I94+J94+K94 -> 32 | M94: =IF(AND(I94>16,J94>8,K94>8),"P","F") -> F | P94: =N94+O94 -> 0 | Q94: =IF(AND(N94>23,O94>9),"P","F") -> F | T94: =R94+S94 -> 0 | U94: =IF(AND(R94>23,S94>9),"P","F") -> F | V94: 30 | W94: 19 | X94: =V94+W94 -> 49 | Y94: =IF(AND(V94>23,W94>9),"P","F") -> P | Z94: 18 | AA94: 19 | AB94: =Z94+AA94 -> 37 | AC94: =IF(AND(Z94>23,AA94>9),"P","F") -> F | AE94: =IF(AND(AD94>32),"P","F") -> F | AH94: =AF94+AG94 -> 0 | AI94: =IF(AND(AF94>23,AG94>9),"P","F") -> F | AJ94: 33 | AK94: 14 | AL94: =AJ94+AK94 -> 47 | AM94: =IF(AND(AJ94>23,AK94>9),"P","F") -> P
A95: 690 | B95: MD. JONY | C95: 23 | D95: 10 | E95: =C95+D95 -> 33 | F95: =IF(AND(C95>23,D95>9),"P","F") -> F | G95: 13 | H95: =IF(AND(G95>32),"P","F") -> F | I95: 4 | J95: 6 | K95: 18 | L95: =I95+J95+K95 -> 28 | M95: =IF(AND(I95>16,J95>8,K95>8),"P","F") -> F | P95: =N95+O95 -> 0 | Q95: =IF(AND(N95>23,O95>9),"P","F") -> F | T95: =R95+S95 -> 0 | U95: =IF(AND(R95>23,S95>9),"P","F") -> F | V95: 28 | W95: 13 | X95: =V95+W95 -> 41 | Y95: =IF(AND(V95>23,W95>9),"P","F") -> P | Z95: 32 | AA95: 20 | AB95: =Z95+AA95 -> 52 | AC95: =IF(AND(Z95>23,AA95>9),"P","F") -> P | AE95: =IF(AND(AD95>32),"P","F") -> F | AH95: =AF95+AG95 -> 0 | AI95: =IF(AND(AF95>23,AG95>9),"P","F") -> F | AJ95: 40 | AK95: 14 | AL95: =AJ95+AK95 -> 54 | AM95: =IF(AND(AJ95>23,AK95>9),"P","F") -> P
A96: 691 | B96: SRAT JAHAN ANTORA | C96: 20 | D96: 15 | E96: =C96+D96 -> 35 | F96: =IF(AND(C96>23,D96>9),"P","F") -> F | G96: 13 | H96: =IF(AND(G96>32),"P","F") -> F | I96: 7 | J96: 13 | K96: 18 | L96: =I96+J96+K96 -> 38 | M96: =IF(AND(I96>16,J96>8,K96>8),"P","F") -> F | N96: 31 | O96: 17 | P96: =N96+O96 -> 48 | Q96: =IF(AND(N96>23,O96>9),"P","F") -> P | T96: =R96+S96 -> 0 | U96: =IF(AND(R96>23,S96>9),"P","F") -> F | V96: 40 | W96: 19 | X96: =V96+W96 -> 59 | Y96: =IF(AND(V96>23,W96>9),"P","F") -> P | AB96: =Z96+AA96 -> 0 | AC96: =IF(AND(Z96>23,AA96>9),"P","F") -> F | AE96: =IF(AND(AD96>32),"P","F") -> F | AH96: =AF96+AG96 -> 0 | AI96: =IF(AND(AF96>23,AG96>9),"P","F") -> F | AL96: =AJ96+AK96 -> 0 | AM96: =IF(AND(AJ96>23,AK96>9),"P","F") -> F
A97: 693 | B97: MD. SIYAM SIKDER | C97: 23 | D97: 10 | E97: =C97+D97 -> 33 | F97: =IF(AND(C97>23,D97>9),"P","F") -> F | G97: 15 | H97: =IF(AND(G97>32),"P","F") -> F | I97: 5 | J97: 6 | K97: 18 | L97: =I97+J97+K97 -> 29 | M97: =IF(AND(I97>16,J97>8,K97>8),"P","F") -> F | P97: =N97+O97 -> 0 | Q97: =IF(AND(N97>23,O97>9),"P","F") -> F | T97: =R97+S97 -> 0 | U97: =IF(AND(R97>23,S97>9),"P","F") -> F | V97: 28 | W97: 15 | X97: =V97+W97 -> 43 | Y97: =IF(AND(V97>23,W97>9),"P","F") -> P | Z97: 32 | AA97: 21 | AB97: =Z97+AA97 -> 53 | AC97: =IF(AND(Z97>23,AA97>9),"P","F") -> P | AE97: =IF(AND(AD97>32),"P","F") -> F | AH97: =AF97+AG97 -> 0 | AI97: =IF(AND(AF97>23,AG97>9),"P","F") -> F | AJ97: 41 | AK97: 14 | AL97: =AJ97+AK97 -> 55 | AM97: =IF(AND(AJ97>23,AK97>9),"P","F") -> P
A98: 694 | B98: MOINUL ISLAM MOON | C98: 30 | D98: 13 | E98: =C98+D98 -> 43 | F98: =IF(AND(C98>23,D98>9),"P","F") -> P | H98: =IF(AND(G98>32),"P","F") -> F | I98: 4 | J98: 8 | K98: 18 | L98: =I98+J98+K98 -> 30 | M98: =IF(AND(I98>16,J98>8,K98>8),"P","F") -> F | N98: 31 | O98: 14 | P98: =N98+O98 -> 45 | Q98: =IF(AND(N98>23,O98>9),"P","F") -> P | T98: =R98+S98 -> 0 | U98: =IF(AND(R98>23,S98>9),"P","F") -> F | V98: 28 | W98: 14 | X98: =V98+W98 -> 42 | Y98: =IF(AND(V98>23,W98>9),"P","F") -> P | AB98: =Z98+AA98 -> 0 | AC98: =IF(AND(Z98>23,AA98>9),"P","F") -> F | AE98: =IF(AND(AD98>32),"P","F") -> F | AH98: =AF98+AG98 -> 0 | AI98: =IF(AND(AF98>23,AG98>9),"P","F") -> F | AJ98: 30 | AK98: 8 | AL98: =AJ98+AK98 -> 38 | AM98: =IF(AND(AJ98>23,AK98>9),"P","F") -> F
A99: 695 | B99: MD. CHIYAM HOSSAIN SHEIKH | C99: 7 | D99: 13 | E99: =C99+D99 -> 20 | F99: =IF(AND(C99>23,D99>9),"P","F") -> F | G99: 28 | H99: =IF(AND(G99>32),"P","F") -> F | I99: 4 | J99: 10 | K99: 18 | L99: =I99+J99+K99 -> 32 | M99: =IF(AND(I99>16,J99>8,K99>8),"P","F") -> F | P99: =N99+O99 -> 0 | Q99: =IF(AND(N99>23,O99>9),"P","F") -> F | T99: =R99+S99 -> 0 | U99: =IF(AND(R99>23,S99>9),"P","F") -> F | V99: 25 | W99: 5 | X99: =V99+W99 -> 30 | Y99: =IF(AND(V99>23,W99>9),"P","F") -> F | Z99: 14 | AA99: 17 | AB99: =Z99+AA99 -> 31 | AC99: =IF(AND(Z99>23,AA99>9),"P","F") -> F | AE99: =IF(AND(AD99>32),"P","F") -> F | AH99: =AF99+AG99 -> 0 | AI99: =IF(AND(AF99>23,AG99>9),"P","F") -> F | AJ99: 23 | AK99: 12 | AL99: =AJ99+AK99 -> 35 | AM99: =IF(AND(AJ99>23,AK99>9),"P","F") -> F
A100: 696 | B100: HAFIJUL | C100: 10 | D100: 13 | E100: =C100+D100 -> 23 | F100: =IF(AND(C100>23,D100>9),"P","F") -> F | G100: 33 | H100: =IF(AND(G100>32),"P","F") -> P | I100: 4 | J100: 7 | K100: 18 | L100: =I100+J100+K100 -> 29 | M100: =IF(AND(I100>16,J100>8,K100>8),"P","F") -> F | N100: 25 | O100: 16 | P100: =N100+O100 -> 41 | Q100: =IF(AND(N100>23,O100>9),"P","F") -> P | T100: =R100+S100 -> 0 | U100: =IF(AND(R100>23,S100>9),"P","F") -> F | V100: 38 | W100: 15 | X100: =V100+W100 -> 53 | Y100: =IF(AND(V100>23,W100>9),"P","F") -> P | AB100: =Z100+AA100 -> 0 | AC100: =IF(AND(Z100>23,AA100>9),"P","F") -> F | AE100: =IF(AND(AD100>32),"P","F") -> F | AH100: =AF100+AG100 -> 0 | AI100: =IF(AND(AF100>23,AG100>9),"P","F") -> F | AJ100: 14 | AK100: 15 | AL100: =AJ100+AK100 -> 29 | AM100: =IF(AND(AJ100>23,AK100>9),"P","F") -> F
A101: 697 | B101: SANTO SHIKDER | C101: 9 | D101: 7 | E101: =C101+D101 -> 16 | F101: =IF(AND(C101>23,D101>9),"P","F") -> F | H101: =IF(AND(G101>32),"P","F") -> F | L101: =I101+J101+K101 -> 0 | M101: =IF(AND(I101>16,J101>8,K101>8),"P","F") -> F | P101: =N101+O101 -> 0 | Q101: =IF(AND(N101>23,O101>9),"P","F") -> F | T101: =R101+S101 -> 0 | U101: =IF(AND(R101>23,S101>9),"P","F") -> F | X101: =V101+W101 -> 0 | Y101: =IF(AND(V101>23,W101>9),"P","F") -> F | AB101: =Z101+AA101 -> 0 | AC101: =IF(AND(Z101>23,AA101>9),"P","F") -> F | AE101: =IF(AND(AD101>32),"P","F") -> F | AH101: =AF101+AG101 -> 0 | AI101: =IF(AND(AF101>23,AG101>9),"P","F") -> F | AL101: =AJ101+AK101 -> 0 | AM101: =IF(AND(AJ101>23,AK101>9),"P","F") -> F
A102: 698 | B102: MD. RAHAT UDDIN | C102: 20 | D102: 14 | E102: =C102+D102 -> 34 | F102: =IF(AND(C102>23,D102>9),"P","F") -> F | G102: 46 | H102: =IF(AND(G102>32),"P","F") -> P | I102: 4 | J102: 7 | K102: 18 | L102: =I102+J102+K102 -> 29 | M102: =IF(AND(I102>16,J102>8,K102>8),"P","F") -> F | P102: =N102+O102 -> 0 | Q102: =IF(AND(N102>23,O102>9),"P","F") -> F | T102: =R102+S102 -> 0 | U102: =IF(AND(R102>23,S102>9),"P","F") -> F | V102: 40 | W102: 21 | X102: =V102+W102 -> 61 | Y102: =IF(AND(V102>23,W102>9),"P","F") -> P | AB102: =Z102+AA102 -> 0 | AC102: =IF(AND(Z102>23,AA102>9),"P","F") -> F | AE102: =IF(AND(AD102>32),"P","F") -> F | AH102: =AF102+AG102 -> 0 | AI102: =IF(AND(AF102>23,AG102>9),"P","F") -> F | AJ102: 23 | AK102: 22 | AL102: =AJ102+AK102 -> 45 | AM102: =IF(AND(AJ102>23,AK102>9),"P","F") -> F
A103: 699 | B103: MD. JUBAYER | C103: 11 | D103: 10 | E103: =C103+D103 -> 21 | F103: =IF(AND(C103>23,D103>9),"P","F") -> F | G103: 20 | H103: =IF(AND(G103>32),"P","F") -> F | I103: 0 | J103: 8 | K103: 18 | L103: =I103+J103+K103 -> 26 | M103: =IF(AND(I103>16,J103>8,K103>8),"P","F") -> F | P103: =N103+O103 -> 0 | Q103: =IF(AND(N103>23,O103>9),"P","F") -> F | T103: =R103+S103 -> 0 | U103: =IF(AND(R103>23,S103>9),"P","F") -> F | X103: =V103+W103 -> 0 | Y103: =IF(AND(V103>23,W103>9),"P","F") -> F | Z103: 22 | AA103: 20 | AB103: =Z103+AA103 -> 42 | AC103: =IF(AND(Z103>23,AA103>9),"P","F") -> F | AE103: =IF(AND(AD103>32),"P","F") -> F | AH103: =AF103+AG103 -> 0 | AI103: =IF(AND(AF103>23,AG103>9),"P","F") -> F | AJ103: 23 | AK103: 8 | AL103: =AJ103+AK103 -> 31 | AM103: =IF(AND(AJ103>23,AK103>9),"P","F") -> F
A104: 700 | B104: RAYHAN TALUKDER | E104: =C104+D104 -> 0 | F104: =IF(AND(C104>23,D104>9),"P","F") -> F | H104: =IF(AND(G104>32),"P","F") -> F | I104: 3 | J104: 10 | K104: 18 | L104: =I104+J104+K104 -> 31 | M104: =IF(AND(I104>16,J104>8,K104>8),"P","F") -> F | P104: =N104+O104 -> 0 | Q104: =IF(AND(N104>23,O104>9),"P","F") -> F | T104: =R104+S104 -> 0 | U104: =IF(AND(R104>23,S104>9),"P","F") -> F | X104: =V104+W104 -> 0 | Y104: =IF(AND(V104>23,W104>9),"P","F") -> F | AB104: =Z104+AA104 -> 0 | AC104: =IF(AND(Z104>23,AA104>9),"P","F") -> F | AE104: =IF(AND(AD104>32),"P","F") -> F | AH104: =AF104+AG104 -> 0 | AI104: =IF(AND(AF104>23,AG104>9),"P","F") -> F | AL104: =AJ104+AK104 -> 0 | AM104: =IF(AND(AJ104>23,AK104>9),"P","F") -> F
...

Sheet Science-1
C2: Govt. Sohrawardy College, Pirojpur
C4: Web-www.gsc.college.gov.bd, E-Mail-gscpirojpur@gmail.com
C5: EIIN No : 102955, Telephone No- 02479938576, 01305863343
B8: Academic Transcript
B9: Year Final Examination-2026
I12: Letter Grade | J12: Marks Interval | K12: Grade Point
I13: A+ | J13: 80-100 | K13: 5
C14: Student Class Roll | E14: 136 | I14: A | J14: 70-79 | K14: 4
C15: Student Name | E15: =VLOOKUP($E$14,Science!A4:AH130,2,0) -> SHYKAT ROY | I15: A- | J15: 60-69 | K15: 3.5
C16: Student Class | E16: XI | I16: B | J16: 50-59 | K16: 3
C17: Session | E17: 2025-2026 | I17: C | J17: 40-49 | K17: 2
C18: Group | E18: Science | I18: D | J18: 33-39 | K18: 1
I19: F | J19: 0-32 | K19: 0
C24: Sl NO | D24: Subjects | E24: Full Mark | F24: Examination | J24: Total Mark | K24: Letter Grade | L24: Grade Point
F25: Tutorial | G25: CQ | H25: MCQ | I25: Practical
C26: 1 | D26: Bangla | E26: 100 | F26: . | G26: =VLOOKUP($E$14,Science!A4:AH130,3,0) -> 35 | H26: =VLOOKUP($E$14,Science!A4:AH130,4,0) -> 14 | I26: . | J26: =VLOOKUP($E$14,Science!A4:AH130,5,0) -> 49 | L26: =IF(J26>79,5,IF(J26>69,4,IF(J26>59,3.5,IF(J26>49,3,IF(J26>39,2,IF(J26>32,1,IF(J26<32,0))))))) -> 2
C27: 2 | D27: English | E27: 100 | F27: . | G27: =VLOOKUP($E$14,Science!A4:AH136,7,0) -> 0 | I27: . | J27: =VLOOKUP($E$14,Science!A4:AH136,7,0) -> 0 | L27: =IF(J27>79,5,IF(J27>69,4,IF(J27>59,3.5,IF(J27>49,3,IF(J27>39,2,IF(J27>32,1,IF(J27<32,0))))))) -> 0
C28: 3 | D28: ICT | E28: 100 | F28: . | G28: =VLOOKUP($E$14,Science!A4:AH136,9,0) -> 11 | H28: =VLOOKUP($E$14,Science!A4:AH136,10,0) -> 8 | I28: =VLOOKUP($E$14,Science!A4:AH136,11,0) -> 18 | J28: =G28+H28+I28 -> 37 | L28: =IF(J28>79,5,IF(J28>69,4,IF(J28>59,3.5,IF(J28>49,3,IF(J28>39,2,IF(J28>32,1,IF(J28<32,0))))))) -> 1
C29: 4 | D29: Physics | E29: 100 | F29: . | G29: =VLOOKUP($E$14,Science!A4:AH136,14,0) -> 0 | H29: =VLOOKUP($E$14,Science!A4:AH136,15,0) -> 0 | I29: =VLOOKUP($E$14,Science!A4:AH136,16,0) -> 0 | J29: =G29+H29+I29 -> 0 | L29: =IF(J29>79,5,IF(J29>69,4,IF(J29>59,3.5,IF(J29>49,3,IF(J29>39,2,IF(J29>32,1,IF(J29<32,0))))))) -> 0
C30: 5 | D30: Chemistry | E30: 100 | F30: . | G30: =VLOOKUP($E$14,Science!A4:AH136,19,0) -> 0 | H30: =VLOOKUP($E$14,Science!A4:AH136,20,0) -> 0 | I30: =VLOOKUP($E$14,Science!A4:AH136,21,0) -> 0 | J30: =G30+H30+I30 -> 0 | L30: =IF(J30>79,5,IF(J30>69,4,IF(J30>59,3.5,IF(J30>49,3,IF(J30>39,2,IF(J30>32,1,IF(J30<32,0))))))) -> 0
C31: 6 | D31: Higher Math | E31: 100 | F31: . | G31: =VLOOKUP($E$14,Science!A4:AH136,29,0) -> 0 | H31: =VLOOKUP($E$14,Science!A4:AH136,30,0) -> 11 | I31: =VLOOKUP($E$14,Science!A4:AH136,31,0) -> 18 | J31: =G31+H31+I31 -> 29 | L31: =IF(J31>79,5,IF(J31>69,4,IF(J31>59,3.5,IF(J31>49,3,IF(J31>39,2,IF(J31>32,1,IF(J31<32,0))))))) -> 0
C32: 7 | D32: Biology | E32: 100 | F32: . | G32: =VLOOKUP($E$14,Science!A4:AH136,24,0) -> 16 | H32: =VLOOKUP($E$14,Science!A4:AH136,25,0) -> 9 | I32: =VLOOKUP($E$14,Science!A4:AH136,26,0) -> 18 | J32: =G32+H32+I32 -> 43 | L32: =IF(J32>79,5,IF(J32>69,4,IF(J32>59,3.5,IF(J32>49,3,IF(J32>39,2,IF(J32>32,1,IF(J32<32,0))))))) -> 2
C33: GPA | E33: =AVERAGE(L26:L32) -> 0.71428571
C34: Total Marks | E34: =SUM(J26:J32) -> 158
C35: Merit Position
C36: Status
D45: Principal | H45: Convener of the Examination

Sheet Business Studies-1
B3: Govt. Suhrawardy College, Pirojpur
B5: Web-www.gsc.college.gov.bd, E-Mail-gscpirojpur@gmail.com
B6: EIIN No : 102955, Telephone No- 02479938576, 01305863343
B8: Academic Transcript
B9: Year Final Examination-2026
H11: Letter Grade | I11: Marks Interval | J11: Grade Point
H12: A+ | I12: 80-100 | J12: 5
B13: Student Class Roll | D13: 353 | H13: A | I13: 70-79 | J13: 4
B14: Student Name | D14: =VLOOKUP($D$13,'Business Studies'!A4:AG73,2,0) -> NAYEM SHAH ZAKARIA | H14: A- | I14: 60-69 | J14: 3.5
B15: Student Class | D15: XI | H15: B | I15: 50-59 | J15: 3
B16: Session | D16: 2025-2026 | H16: C | I16: 40-49 | J16: 2
B17: Group | D17: Business Studies | H17: D | I17: 33-39 | J17: 1
H18: F | I18: 0-32 | J18: 0
B21: Sl NO | C21: Subjects | D21: Full Mark | E21: Examination | I21: Total Mark | J21: Letter Grade | K21: Grade Point
E22: Tutorial | F22: CQ | G22: MCQ | H22: Practical
B23: 1 | C23: Bangla | D23: 100 | F23: =VLOOKUP(D13,'Business Studies'!A4:AG77,3,0) -> 38 | G23: =VLOOKUP(D13,'Business Studies'!A4:AG77,4,0) -> 11 | I23: =F23+G23 -> 49
B24: 2 | C24: English | D24: 100 | F24: =VLOOKUP(D13,'Business Studies'!A4:AG77,7,0) -> 33 | I24: =F24+G24 -> 33
B25: 3 | C25: ICT | D25: 100 | F25: =VLOOKUP(D13,'Business Studies'!A4:AG77,9,0) -> 4 | G25: =VLOOKUP(D13,'Business Studies'!A4:AG77,10,0) -> 10 | H25: =VLOOKUP(D13,'Business Studies'!A4:AG77,11,0) -> 18 | I25: =F25+G25+H25 -> 32
B26: 4 | C26: Accounting | D26: 100 | F26: =VLOOKUP(D13,'Business Studies'!A4:AG77,14,0) -> 37 | G26: =VLOOKUP(D13,'Business Studies'!A4:AG77,15,0) -> 16 | I26: =F26+G26 -> 53
B27: 5 | C27: Business Organization and Management | D27: 100 | F27: =VLOOKUP(D13,'Business Studies'!A4:AG77,18,0) -> 30 | G27: =VLOOKUP(D13,'Business Studies'!A4:AG77,19,0) -> 18 | I27: =F27+G27 -> 48
B28: 6 | C28: Production and Mangaement | D28: 100 | F28: =VLOOKUP(D13,'Business Studies'!A4:AG77,22,0) -> 40 | G28: =VLOOKUP(D13,'Business Studies'!A4:AG77,23,0) -> 16 | I28: =F28+G28 -> 56
B29: 7 | C29: Finance and Banking | D29: 100 | F29: =VLOOKUP(D13,'Business Studies'!A4:AG77,26,0) -> 29 | G29: =VLOOKUP(D13,'Business Studies'!A4:AG77,27,0) -> 14 | I29: =F29+G29 -> 43
B30: 8 | C30: Economics | D30: 100 | F30: =VLOOKUP(D13,'Business Studies'!A4:AG77,30,0) -> 0 | G30: =VLOOKUP(D13,'Business Studies'!A4:AG77,31,0) -> 0 | I30: =F30+G30 -> 0
B31: GPA
B32: Total Marks | D32: =I23+I24+I25+I26+I27+I28+I29+I30 -> 314
B33: Merit Position
B34: Status
C42: Principal | G42: Convener of the Examination

Sheet Humanitis-1
B3: Govt. Suhrawardy College, Pirojpur
B5: Web-www.gsc.college.gov.bd, E-Mail-gscpirojpur@gmail.com
B6: EIIN No : 102955, Telephone No- 02479938576, 01305863343
B8: Academic Transcript
B9: Year Final Examination-2026
H11: Letter Grade | I11: Marks Interval | J11: Grade Point
H12: A+ | I12: 80-100 | J12: 5
B13: Student Class Roll | D13: 601 | H13: A | I13: 70-79 | J13: 4
B14: Student Name | D14: =VLOOKUP($D$13,Humanitis!A5:AO1634,2,0) -> HIAM | H14: A- | I14: 60-69 | J14: 3.5
B15: Student Class | D15: XI | H15: B | I15: 50-59 | J15: 3
B16: Session | D16: 2025-2026 | H16: C | I16: 40-49 | J16: 2
B17: Group | D17: Humanities | H17: D | I17: 33-39 | J17: 1
H18: F | I18: 0-32 | J18: 0
B22: Sl NO | C22: Subjects | D22: Full Mark | E22: Examination | I22: Total Mark | J22: Letter Grade | K22: Grade Point
E23: Tutorial | F23: CQ | G23: MCQ | H23: Practical
B24: 1 | C24: Bangla | D24: 100
B25: 2 | C25: English | D25: 100
B26: 3 | C26: ICT | D26: 100
B27: 4 | C27: History | D27: 100
B28: 5 | C28: Civics | D28: 100
B29: 6 | C29: Islamic History | D29: 100
B30: 7 | C30: Logic | D30: 100
B31: 8 | C31: Islamic Studies | D31: 100
B32: 9 | C32: Snaskrit | D32: 100
B33: 10 | C33: Economics | D33: 100
B34: GPA
B35: Total Marks
B36: Merit Position
B37: Status
C46: Principal | G46: Convener of the Examination
